Workbook

Sheet ASR - share buyback
B8: ASR Nederland N.V. share buyback program
B10: Share buyback details
B11: Share buyback program | E11: 75000000
B12: Start date | E12: 44616
B13: Percentage of programme completed | E13: =E18/E11 -> 0.35486158
G15: Euronext Amsterdam | K15: Cboe DXE
B16: Trade date | C16: Number of shares repurchased | D16: Average purchase price | E16: Settlement amount | G16: Number of shares repurchased | H16: Average purchase price | I16: Settlement amount | K16: Number of shares repurchased | L16: Average purchase price | M16: Settlement amount
B18: Total | C18: =C20+C24+C31+C38+C45+C52+C59+C66+C73+C80+C87+C94+C101 -> 685647 | D18: =E18/C18 -> 38.816794 | E18: =E20+E24+E31+E38+E45+E52+E59+E66+E73+E80+E87+E94+E101 -> 26614619 | G18: =G20+G24+G31+G38+G45+G52+G59+G66+G73+G80+G87+G94+G101 -> 1181327 | H18: =I18/G18 -> 22.529425 | I18: =I20+I24+I31+I38+I45+I52+I59+I66+I73+I80+I87+I94+I101 -> 26614619 | K18: =K20+K24+K31+K38+K45+K52+K59+K66+K73+K80+K87+K94+K101 -> 0 | L18: =IF(K18=0," ",M18/K18) | M18: =M20+M24+M31+M38+M45+M52+M59+M66+M73+M80+M87+M94+M101 -> 0
B20: Total 25 Feb | C20: =SUM(C21:C22) -> 70175 | D20: =IF(C20=0," ",E20/C20) -> 38.96087 | E20: =SUM(E21:E22) -> 2734079 | G20: =SUM(G21:G22) -> 70175 | H20: =IF(G20=0," ",I20/G20) -> 38.96087 | I20: =SUM(I21:I22) -> 2734079 | K20: =SUM(K21:K22) -> 0 | L20: =IF(K20=0," ",M20/K20) | M20: =SUM(M21:M22) -> 0
B21: 44616 | C21: =G21+K21 -> 35275 | D21: ='24-02-2022'!$I$8 -> 39.0669 | E21: =IF(C21=0," ",D21*C21) -> 1378084.9 | G21: ='24-02-2022'!$I$6 -> 35275 | H21: ='24-02-2022'!$I$8 -> 39.0669 | I21: =IF(G21=0," ",H21*G21) -> 1378084.9 | K21: ='24-02-2022'!$I$7 -> 0 | L21: 0 | M21: =IF(K21=0," ",L21*K21)
B22: 44617 | C22: =G22+K22 -> 34900 | D22: ='25-02-2022'!$I$8 -> 38.8537 | E22: =IF(C22=0," ",D22*C22) -> 1355994.1 | G22: ='25-02-2022'!$I$6 -> 34900 | H22: ='25-02-2022'!$I$8 -> 38.8537 | I22: =IF(G22=0," ",H22*G22) -> 1355994.1 | K22: ='25-02-2022'!$I$7 -> 0 | L22: 0 | M22: =IF(K22=0," ",L22*K22)
B24: Total 4 Mar | C24: =SUM(C25:C29) -> 179614 | D24: =IF(C24=0," ",E24/C24) -> 37.387386 | E24: =SUM(E25:E29) -> 6715297.9 | G24: =SUM(G25:G29) -> 179614 | H24: =IF(G24=0," ",I24/G24) -> 37.387386 | I24: =SUM(I25:I29) -> 6715297.9 | K24: =SUM(K25:K29) -> 0 | L24: =IF(K24=0," ",M24/K24) | M24: =SUM(M25:M29) -> 0
B25: 44620 | C25: =G25+K25 -> 34728 | D25: ='28-02-2022'!$I$8 -> 38.2864 | E25: =IF(C25=0," ",D25*C25) -> 1329610.1 | G25: ='28-02-2022'!$I$6 -> 34728 | H25: ='28-02-2022'!$I$8 -> 38.2864 | I25: =IF(G25=0," ",H25*G25) -> 1329610.1 | K25: ='28-02-2022'!$I$7 -> 0 | L25: 0 | M25: =IF(K25=0," ",L25*K25)
B26: 44621 | C26: =G26+K26 -> 36314 | D26: ='01-03-2022'!$I$8 -> 37.6845 | E26: =IF(C26=0," ",D26*C26) -> 1368474.9 | G26: ='01-03-2022'!$I$6 -> 36314 | H26: ='01-03-2022'!$I$8 -> 37.6845 | I26: =IF(G26=0," ",H26*G26) -> 1368474.9 | K26: ='01-03-2022'!$I$7 -> 0 | L26: 0 | M26: =IF(K26=0," ",L26*K26)
B27: 44622 | C27: =G27+K27 -> 35500 | D27: ='02-03-2022'!$I$8 -> 37.2228 | E27: =IF(C27=0," ",D27*C27) -> 1321409.4 | G27: ='02-03-2022'!$I$6 -> 35500 | H27: ='02-03-2022'!$I$8 -> 37.2228 | I27: =IF(G27=0," ",H27*G27) -> 1321409.4 | K27: ='02-03-2022'!$I$7 -> 0 | L27: 0 | M27: =IF(K27=0," ",L27*K27)
B28: 44623 | C28: =G28+K28 -> 35572 | D28: ='03-03-2022'!$I$8 -> 37.7841 | E28: =IF(C28=0," ",D28*C28) -> 1344056 | G28: ='03-03-2022'!$I$6 -> 35572 | H28: ='03-03-2022'!$I$8 -> 37.7841 | I28: =IF(G28=0," ",H28*G28) -> 1344056 | K28: ='03-03-2022'!$I$7 -> 0 | L28: 0 | M28: =IF(K28=0," ",L28*K28)
B29: 44624 | C29: =G29+K29 -> 37500 | D29: ='04-03-2022'!$I$8 -> 36.0466 | E29: =IF(C29=0," ",D29*C29) -> 1351747.5 | G29: ='04-03-2022'!$I$6 -> 37500 | H29: ='04-03-2022'!$I$8 -> 36.0466 | I29: =IF(G29=0," ",H29*G29) -> 1351747.5 | K29: ='04-03-2022'!$I$7 -> 0 | L29: 0 | M29: =IF(K29=0," ",L29*K29)
B31: Total 11 Mar | C31: =SUM(C32:C36) -> 188018 | D31: =IF(C31=0," ",E31/C31) -> 36.852619 | E31: =SUM(E32:E36) -> 6928955.8 | G31: =SUM(G32:G106) -> 683698 | H31: =IF(G31=0," ",I31/G31) -> 10.134527 | I31: =SUM(I32:I36) -> 6928955.8 | K31: =SUM(K32:K36) -> 0 | L31: =IF(K31=0," ",M31/K31) | M31: =SUM(M32:M36) -> 0
B32: 44627 | C32: =G32+K32 -> 42000 | D32: ='07-03-2022'!$I$8 -> 34.329 | E32: =IF(C32=0," ",D32*C32) -> 1441818 | G32: ='07-03-2022'!$I$6 -> 42000 | H32: ='07-03-2022'!$I$8 -> 34.329 | I32: =IF(G32=0," ",H32*G32) -> 1441818 | K32: ='07-03-2022'!$I$7 -> 0 | L32: 0 | M32: =IF(K32=0," ",L32*K32)
B33: 44628 | C33: =G33+K33 -> 40000 | D33: ='08-03-2022'!$I$8 -> 36.2829 | E33: =IF(C33=0," ",D33*C33) -> 1451316 | G33: ='08-03-2022'!$I$6 -> 40000 | H33: ='08-03-2022'!$I$8 -> 36.2829 | I33: =IF(G33=0," ",H33*G33) -> 1451316 | K33: ='08-03-2022'!$I$7 -> 0 | L33: 0 | M33: =IF(K33=0," ",L33*K33)
B34: 44629 | C34: =G34+K34 -> 35322 | D34: ='09-03-2022'!$I$8 -> 37.8801 | E34: =IF(C34=0," ",D34*C34) -> 1338000.9 | G34: ='09-03-2022'!$I$6 -> 35322 | H34: ='09-03-2022'!$I$8 -> 37.8801 | I34: =IF(G34=0," ",H34*G34) -> 1338000.9 | K34: ='09-03-2022'!$I$7 -> 0 | L34: 0 | M34: =IF(K34=0," ",L34*K34)
B35: 44630 | C35: =G35+K35 -> 35526 | D35: ='10-03-2022'!$I$8 -> 37.9278 | E35: =IF(C35=0," ",D35*C35) -> 1347423 | G35: ='10-03-2022'!$I$6 -> 35526 | H35: ='10-03-2022'!$I$8 -> 37.9278 | I35: =IF(G35=0," ",H35*G35) -> 1347423 | K35: ='10-03-2022'!$I$7 -> 0 | L35: 0 | M35: =IF(K35=0," ",L35*K35)
B36: 44631 | C36: =G36+K36 -> 35170 | D36: ='11-03-2022'!$I$8 -> 38.3963 | E36: =IF(C36=0," ",D36*C36) -> 1350397.9 | G36: ='11-03-2022'!$I$6 -> 35170 | H36: ='11-03-2022'!$I$8 -> 38.3963 | I36: =IF(G36=0," ",H36*G36) -> 1350397.9 | K36: ='11-03-2022'!$I$7 -> 0 | L36: 0 | M36: =IF(K36=0," ",L36*K36)
B38: Total 18 Mar | C38: =SUM(C39:C43) -> 158718 | D38: =IF(C38=0," ",E38/C38) -> 40.833217 | E38: =SUM(E39:E43) -> 6480966.5 | G38: =SUM(G39:G43) -> 158718 | H38: =IF(G38=0," ",I38/G38) -> 40.833217 | I38: =SUM(I39:I43) -> 6480966.5 | K38: =SUM(K39:K43) -> 0 | L38: =IF(K38=0," ",M38/K38) | M38: =SUM(M39:M43) -> 0
B39: 44634 | C39: =G39+K39 -> 32229 | D39: ='14-03-2022'!$I$8 -> 39.9641 | E39: =IF(C39=0," ",D39*C39) -> 1288003 | G39: ='14-03-2022'!$I$6 -> 32229 | H39: ='14-03-2022'!$I$8 -> 39.9641 | I39: =IF(G39=0," ",H39*G39) -> 1288003 | K39: ='14-03-2022'!$I$7 -> 0 | L39: 0 | M39: =IF(K39=0," ",L39*K39)
B40: 44635 | C40: =G40+K40 -> 32119 | D40: ='15-03-2022'!$I$8 -> 39.8984 | E40: =IF(C40=0," ",D40*C40) -> 1281496.7 | G40: ='15-03-2022'!$I$6 -> 32119 | H40: ='15-03-2022'!$I$8 -> 39.8984 | I40: =IF(G40=0," ",H40*G40) -> 1281496.7 | K40: ='15-03-2022'!$I$7 -> 0 | L40: 0 | M40: =IF(K40=0," ",L40*K40)
B41: 44636 | C41: =G41+K41 -> 31473 | D41: ='16-03-2022'!$I$8 -> 41.4153 | E41: =IF(C41=0," ",D41*C41) -> 1303463.7 | G41: ='16-03-2022'!$I$6 -> 31473 | H41: ='16-03-2022'!$I$8 -> 41.4153 | I41: =IF(G41=0," ",H41*G41) -> 1303463.7 | K41: ='16-03-2022'!$I$7 -> 0 | L41: 0 | M41: =IF(K41=0," ",L41*K41)
B42: 44637 | C42: =G42+K42 -> 31764 | D42: ='17-03-2022'!$I$8 -> 41.3872 | E42: =IF(C42=0," ",D42*C42) -> 1314623 | G42: ='17-03-2022'!$I$6 -> 31764 | H42: ='17-03-2022'!$I$8 -> 41.3872 | I42: =IF(G42=0," ",H42*G42) -> 1314623 | K42: ='17-03-2022'!$I$7 -> 0 | L42: 0 | M42: =IF(K42=0," ",L42*K42)
B43: 44638 | C43: =G43+K43 -> 31133 | D43: ='18-03-2022'!$I$8 -> 41.5437 | E43: =IF(C43=0," ",D43*C43) -> 1293380 | G43: ='18-03-2022'!$I$6 -> 31133 | H43: ='18-03-2022'!$I$8 -> 41.5437 | I43: =IF(G43=0," ",H43*G43) -> 1293380 | K43: ='18-03-2022'!$I$7 -> 0 | L43: 0 | M43: =IF(K43=0," ",L43*K43)
B45: Total 25 Mar | C45: =SUM(C46:C50) -> 89122 | D45: =IF(C45=0," ",E45/C45) -> 42.136839 | E45: =SUM(E46:E50) -> 3755319.3 | G45: =SUM(G46:G50) -> 89122 | H45: =IF(G45=0," ",I45/G45) -> 42.136839 | I45: =SUM(I46:I50) -> 3755319.3 | K45: =SUM(K46:K50) -> 0 | L45: =IF(K45=0," ",M45/K45) | M45: =SUM(M46:M50) -> 0
B46: 44641 | C46: =G46+K46 -> 13623 | D46: ='21-03-2022'!$I$8 -> 41.8002 | E46: =IF(C46=0," ",D46*C46) -> 569444.12 | G46: ='21-03-2022'!$I$6 -> 13623 | H46: ='21-03-2022'!$I$8 -> 41.8002 | I46: =IF(G46=0," ",H46*G46) -> 569444.12 | K46: ='21-03-2022'!$I$7 -> 0 | L46: 0 | M46: =IF(K46=0," ",L46*K46)
B47: 44642 | C47: =G47+K47 -> 13320 | D47: ='22-03-2022'!$I$8 -> 42.6975 | E47: =IF(C47=0," ",D47*C47) -> 568730.7 | G47: ='22-03-2022'!$I$6 -> 13320 | H47: ='22-03-2022'!$I$8 -> 42.6975 | I47: =IF(G47=0," ",H47*G47) -> 568730.7 | K47: ='22-03-2022'!$I$7 -> 0 | L47: 0 | M47: =IF(K47=0," ",L47*K47)
B48: 44643 | C48: =G48+K48 -> 13659 | D48: ='23-03-2022'!$I$8 -> 42.6988 | E48: =IF(C48=0," ",D48*C48) -> 583222.91 | G48: ='23-03-2022'!$I$6 -> 13659 | H48: ='23-03-2022'!$I$8 -> 42.6988 | I48: =IF(G48=0," ",H48*G48) -> 583222.91 | K48: ='23-03-2022'!$I$7 -> 0 | L48: 0 | M48: =IF(K48=0," ",L48*K48)
B49: 44644 | C49: =G49+K49 -> 19500 | D49: ='24-03-2022'!$I$8 -> 42.2793 | E49: =IF(C49=0," ",D49*C49) -> 824446.35 | G49: ='24-03-2022'!$I$6 -> 19500 | H49: ='24-03-2022'!$I$8 -> 42.2793 | I49: =IF(G49=0," ",H49*G49) -> 824446.35 | K49: ='24-03-2022'!$I$7 -> 0 | L49: 0 | M49: =IF(K49=0," ",L49*K49)
B50: 44645 | C50: =G50+K50 -> 29020 | D50: ='25-03-2022'!$I$8 -> 41.6773 | E50: =IF(C50=0," ",D50*C50) -> 1209475.2 | G50: ='25-03-2022'!$I$6 -> 29020 | H50: ='25-03-2022'!$I$8 -> 41.6773 | I50: =IF(G50=0," ",H50*G50) -> 1209475.2 | K50: ='25-03-2022'!$I$7 -> 0 | L50: 0 | M50: =IF(K50=0," ",L50*K50)
B52: Total 1 Apr | C52: =SUM(C53:C57) -> 0 | D52: =IF(C52=0," ",E52/C52) | E52: =SUM(E53:E57) -> 0 | G52: =SUM(G53:G54) -> 0 | H52: =IF(G52=0," ",I52/G52) | I52: =SUM(I53:I54) -> 0 | K52: =SUM(K53:K57) -> 0 | L52: =IF(K52=0," ",M52/K52) | M52: =SUM(M53:M57) -> 0
B53: 44648
B54: 44649
B55: 44650
B56: 44651
...

Sheet 25-03-2022
A1: ASR daily share purchase transaction details
A4: Date | B4: Time | C4: Volume | D4: Price | E4: Proceeds | F4: Exchange | H4: DAILY BUYBACK SUMMARY
A5: 44645 | B5: 44645.378 | C5: 8 | D5: 42.06 | E5: 336.48 | F5: Euronext Amsterdam | H5: Exchange | I5: # shares purchased | J5: Amount purchased
A6: 44645 | B6: 44645.378 | C6: 26 | D6: 42.06 | E6: 1093.56 | F6: Euronext Amsterdam | H6: Euronext Amsterdam | I6: =SUMIF(F:F,$H$6,C:C) -> 29020 | J6: =SUMIF(F:F,$H$6,E:E) -> 1209474.4
A7: 44645 | B7: 44645.379 | C7: 36 | D7: 41.98 | E7: 1511.28 | F7: Euronext Amsterdam | H7: Cboe DXE | I7: =SUMIF(F:F,$H$7,C:C) -> 0 | J7: =SUMIF(F:F,$H$7,E:E) -> 0
A8: 44645 | B8: 44645.379 | C8: 18 | D8: 41.98 | E8: 755.64 | F8: Euronext Amsterdam | H8: Average price (rounded) | I8: =ROUND((J8/SUM(I6:I7)),4) -> 41.6773 | J8: =SUM(J6:J7) -> 1209474.4
A9: 44645 | B9: 44645.379 | C9: 35 | D9: 41.98 | E9: 1469.3 | F9: Euronext Amsterdam
A10: 44645 | B10: 44645.379 | C10: 54 | D10: 41.98 | E10: 2266.92 | F10: Euronext Amsterdam
A11: 44645 | B11: 44645.38 | C11: 146 | D11: 41.93 | E11: 6121.78 | F11: Euronext Amsterdam | H11: EXECUTING ENTITY | I11: ABN AMRO Bank N.V.
A12: 44645 | B12: 44645.385 | C12: 152 | D12: 41.92 | E12: 6371.84 | F12: Euronext Amsterdam | H12: STOCK NAME | I12: ASR Nederland N.V.
A13: 44645 | B13: 44645.386 | C13: 136 | D13: 41.89 | E13: 5697.04 | F13: Euronext Amsterdam | H13: ISIN CODE STOCK | I13: NL0011872643
A14: 44645 | B14: 44645.386 | C14: 109 | D14: 41.9 | E14: 4567.1 | F14: Euronext Amsterdam | H14: TIME REFERENCE USED | I14: GMT+1
A15: 44645 | B15: 44645.386 | C15: 137 | D15: 41.9 | E15: 5740.3 | F15: Euronext Amsterdam
A16: 44645 | B16: 44645.386 | C16: 27 | D16: 41.9 | E16: 1131.3 | F16: Euronext Amsterdam
A17: 44645 | B17: 44645.389 | C17: 137 | D17: 42.05 | E17: 5760.85 | F17: Euronext Amsterdam
A18: 44645 | B18: 44645.392 | C18: 144 | D18: 42.15 | E18: 6069.6 | F18: Euronext Amsterdam
A19: 44645 | B19: 44645.395 | C19: 156 | D19: 42.15 | E19: 6575.4 | F19: Euronext Amsterdam
A20: 44645 | B20: 44645.395 | C20: 16 | D20: 42.15 | E20: 674.4 | F20: Euronext Amsterdam
A21: 44645 | B21: 44645.395 | C21: 169 | D21: 42.16 | E21: 7125.04 | F21: Euronext Amsterdam
A22: 44645 | B22: 44645.398 | C22: 47 | D22: 42.06 | E22: 1976.82 | F22: Euronext Amsterdam
A23: 44645 | B23: 44645.398 | C23: 27 | D23: 42.06 | E23: 1135.62 | F23: Euronext Amsterdam
A24: 44645 | B24: 44645.398 | C24: 68 | D24: 42.06 | E24: 2860.08 | F24: Euronext Amsterdam
A25: 44645 | B25: 44645.401 | C25: 49 | D25: 42.03 | E25: 2059.47 | F25: Euronext Amsterdam
A26: 44645 | B26: 44645.401 | C26: 106 | D26: 42.03 | E26: 4455.18 | F26: Euronext Amsterdam
... A267: 44645 | B267: 44645.721 | C267: 52 | D267: 41.65 | E267: 2165.8 | F267: Euronext Amsterdam
A838: =IF(#REF!=0,"",DATE(LEFT(((MID(#REF!,1,8))),4),MID(((MID(#REF!,1,8))),5,2),(RIGHT(((MID(#REF!,1,8))),2)))) -> #REF! | B838: =IF(#REF!=0,"",(MID(#REF!,10,8)*24+1)/24) -> #REF! | C838: =IF(#REF!=0,"",#REF!) -> #REF!
A839: =IF(#REF!=0,"",DATE(LEFT(((MID(#REF!,1,8))),4),MID(((MID(#REF!,1,8))),5,2),(RIGHT(((MID(#REF!,1,8))),2)))) -> #REF! | B839: =IF(#REF!=0,"",(MID(#REF!,10,8)*24+1)/24) -> #REF! | C839: =IF(#REF!=0,"",#REF!) -> #REF!
A840: =IF(#REF!=0,"",DATE(LEFT(((MID(#REF!,1,8))),4),MID(((MID(#REF!,1,8))),5,2),(RIGHT(((MID(#REF!,1,8))),2)))) -> #REF! | B840: =IF(#REF!=0,"",(MID(#REF!,10,8)*24+1)/24) -> #REF! | C840: =IF(#REF!=0,"",#REF!) -> #REF!
A841: =IF(#REF!=0,"",DATE(LEFT(((MID(#REF!,1,8))),4),MID(((MID(#REF!,1,8))),5,2),(RIGHT(((MID(#REF!,1,8))),2)))) -> #REF! | B841: =IF(#REF!=0,"",(MID(#REF!,10,8)*24+1)/24) -> #REF! | C841: =IF(#REF!=0,"",#REF!) -> #REF!
A842: =IF(#REF!=0,"",DATE(LEFT(((MID(#REF!,1,8))),4),MID(((MID(#REF!,1,8))),5,2),(RIGHT(((MID(#REF!,1,8))),2)))) -> #REF! | B842: =IF(#REF!=0,"",(MID(#REF!,10,8)*24+1)/24) -> #REF! | C842: =IF(#REF!=0,"",#REF!) -> #REF!
A843: =IF(#REF!=0,"",DATE(LEFT(((MID(#REF!,1,8))),4),MID(((MID(#REF!,1,8))),5,2),(RIGHT(((MID(#REF!,1,8))),2)))) -> #REF! | B843: =IF(#REF!=0,"",(MID(#REF!,10,8)*24+1)/24) -> #REF! | C843: =IF(#REF!=0,"",#REF!) -> #REF!
A844: =IF(#REF!=0,"",DATE(LEFT(((MID(#REF!,1,8))),4),MID(((MID(#REF!,1,8))),5,2),(RIGHT(((MID(#REF!,1,8))),2)))) -> #REF! | B844: =IF(#REF!=0,"",(MID(#REF!,10,8)*24+1)/24) -> #REF! | C844: =IF(#REF!=0,"",#REF!) -> #REF!
A845: =IF(#REF!=0,"",DATE(LEFT(((MID(#REF!,1,8))),4),MID(((MID(#REF!,1,8))),5,2),(RIGHT(((MID(#REF!,1,8))),2)))) -> #REF! | B845: =IF(#REF!=0,"",(MID(#REF!,10,8)*24+1)/24) -> #REF! | C845: =IF(#REF!=0,"",#REF!) -> #REF!
A846: =IF(#REF!=0,"",DATE(LEFT(((MID(#REF!,1,8))),4),MID(((MID(#REF!,1,8))),5,2),(RIGHT(((MID(#REF!,1,8))),2)))) -> #REF! | B846: =IF(#REF!=0,"",(MID(#REF!,10,8)*24+1)/24) -> #REF! | C846: =IF(#REF!=0,"",#REF!) -> #REF!
A847: =IF(#REF!=0,"",DATE(LEFT(((MID(#REF!,1,8))),4),MID(((MID(#REF!,1,8))),5,2),(RIGHT(((MID(#REF!,1,8))),2)))) -> #REF! | B847: =IF(#REF!=0,"",(MID(#REF!,10,8)*24+1)/24) -> #REF! | C847: =IF(#REF!=0,"",#REF!) -> #REF!
A848: =IF(#REF!=0,"",DATE(LEFT(((MID(#REF!,1,8))),4),MID(((MID(#REF!,1,8))),5,2),(RIGHT(((MID(#REF!,1,8))),2)))) -> #REF! | B848: =IF(#REF!=0,"",(MID(#REF!,10,8)*24+1)/24) -> #REF! | C848: =IF(#REF!=0,"",#REF!) -> #REF!
A849: =IF(#REF!=0,"",DATE(LEFT(((MID(#REF!,1,8))),4),MID(((MID(#REF!,1,8))),5,2),(RIGHT(((MID(#REF!,1,8))),2)))) -> #REF! | B849: =IF(#REF!=0,"",(MID(#REF!,10,8)*24+1)/24) -> #REF! | C849: =IF(#REF!=0,"",#REF!) -> #REF!
... A1941: =IF(#REF!=0,"",DATE(LEFT(((MID(#REF!,1,8))),4),MID(((MID(#REF!,1,8))),5,2),(RIGHT(((MID(#REF!,1,8))),2)))) -> #REF! | B1941: =IF(#REF!=0,"",(MID(#REF!,10,8)*24+1)/24) -> #REF! | C1941: =IF(#REF!=0,"",#REF!) -> #REF!

Sheet 24-03-2022
A1: ASR daily share purchase transaction details
A4: Date | B4: Time | C4: Volume | D4: Price | E4: Proceeds | F4: Exchange | H4: DAILY BUYBACK SUMMARY
A5: 44644 | B5: 44644.378 | C5: 38 | D5: 42.45 | E5: 1613.1 | F5: Euronext Amsterdam | H5: Exchange | I5: # shares purchased | J5: Amount purchased
A6: 44644 | B6: 44644.38 | C6: 37 | D6: 42.39 | E6: 1568.43 | F6: Euronext Amsterdam | H6: Euronext Amsterdam | I6: =SUMIF(F:F,$H$6,C:C) -> 19500 | J6: =SUMIF(F:F,$H$6,E:E) -> 824445.67
A7: 44644 | B7: 44644.38 | C7: 104 | D7: 42.39 | E7: 4408.56 | F7: Euronext Amsterdam | H7: Cboe DXE | I7: =SUMIF(F:F,$H$7,C:C) -> 0 | J7: =SUMIF(F:F,$H$7,E:E) -> 0
A8: 44644 | B8: 44644.381 | C8: 154 | D8: 42.34 | E8: 6520.36 | F8: Euronext Amsterdam | H8: Average price (rounded) | I8: =ROUND((J8/SUM(I6:I7)),4) -> 42.2793 | J8: =SUM(J6:J7) -> 824445.67
A9: 44644 | B9: 44644.384 | C9: 148 | D9: 42.28 | E9: 6257.44 | F9: Euronext Amsterdam
A10: 44644 | B10: 44644.385 | C10: 143 | D10: 42.23 | E10: 6038.89 | F10: Euronext Amsterdam
A11: 44644 | B11: 44644.385 | C11: 48 | D11: 42.23 | E11: 2027.04 | F11: Euronext Amsterdam | H11: EXECUTING ENTITY | I11: ABN AMRO Bank N.V.
A12: 44644 | B12: 44644.385 | C12: 114 | D12: 42.23 | E12: 4814.22 | F12: Euronext Amsterdam | H12: STOCK NAME | I12: ASR Nederland N.V.
A13: 44644 | B13: 44644.389 | C13: 163 | D13: 42.37 | E13: 6906.31 | F13: Euronext Amsterdam | H13: ISIN CODE STOCK | I13: NL0011872643
A14: 44644 | B14: 44644.389 | C14: 159 | D14: 42.35 | E14: 6733.65 | F14: Euronext Amsterdam | H14: TIME REFERENCE USED | I14: GMT+1
A15: 44644 | B15: 44644.393 | C15: 145 | D15: 42.31 | E15: 6134.95 | F15: Euronext Amsterdam
A16: 44644 | B16: 44644.394 | C16: 144 | D16: 42.28 | E16: 6088.32 | F16: Euronext Amsterdam
A17: 44644 | B17: 44644.395 | C17: 14 | D17: 42.26 | E17: 591.64 | F17: Euronext Amsterdam
A18: 44644 | B18: 44644.395 | C18: 126 | D18: 42.26 | E18: 5324.76 | F18: Euronext Amsterdam
A19: 44644 | B19: 44644.395 | C19: 140 | D19: 42.27 | E19: 5917.8 | F19: Euronext Amsterdam
A20: 44644 | B20: 44644.398 | C20: 148 | D20: 42.33 | E20: 6264.84 | F20: Euronext Amsterdam
A21: 44644 | B21: 44644.405 | C21: 148 | D21: 42.57 | E21: 6300.36 | F21: Euronext Amsterdam
A22: 44644 | B22: 44644.405 | C22: 284 | D22: 42.57 | E22: 12089.88 | F22: Euronext Amsterdam
A23: 44644 | B23: 44644.407 | C23: 139 | D23: 42.55 | E23: 5914.45 | F23: Euronext Amsterdam
A24: 44644 | B24: 44644.41 | C24: 152 | D24: 42.48 | E24: 6456.96 | F24: Euronext Amsterdam
A25: 44644 | B25: 44644.41 | C25: 21 | D25: 42.47 | E25: 891.87 | F25: Euronext Amsterdam
A26: 44644 | B26: 44644.41 | C26: 126 | D26: 42.47 | E26: 5351.22 | F26: Euronext Amsterdam
... A201: 44644 | B201: 44644.722 | C201: 151 | D201: 42.38 | E201: 6399.38 | F201: Euronext Amsterdam
A838: =IF(#REF!=0,"",DATE(LEFT(((MID(#REF!,1,8))),4),MID(((MID(#REF!,1,8))),5,2),(RIGHT(((MID(#REF!,1,8))),2)))) -> #REF! | B838: =IF(#REF!=0,"",(MID(#REF!,10,8)*24+1)/24) -> #REF! | C838: =IF(#REF!=0,"",#REF!) -> #REF!
A839: =IF(#REF!=0,"",DATE(LEFT(((MID(#REF!,1,8))),4),MID(((MID(#REF!,1,8))),5,2),(RIGHT(((MID(#REF!,1,8))),2)))) -> #REF! | B839: =IF(#REF!=0,"",(MID(#REF!,10,8)*24+1)/24) -> #REF! | C839: =IF(#REF!=0,"",#REF!) -> #REF!
A840: =IF(#REF!=0,"",DATE(LEFT(((MID(#REF!,1,8))),4),MID(((MID(#REF!,1,8))),5,2),(RIGHT(((MID(#REF!,1,8))),2)))) -> #REF! | B840: =IF(#REF!=0,"",(MID(#REF!,10,8)*24+1)/24) -> #REF! | C840: =IF(#REF!=0,"",#REF!) -> #REF!
A841: =IF(#REF!=0,"",DATE(LEFT(((MID(#REF!,1,8))),4),MID(((MID(#REF!,1,8))),5,2),(RIGHT(((MID(#REF!,1,8))),2)))) -> #REF! | B841: =IF(#REF!=0,"",(MID(#REF!,10,8)*24+1)/24) -> #REF! | C841: =IF(#REF!=0,"",#REF!) -> #REF!
A842: =IF(#REF!=0,"",DATE(LEFT(((MID(#REF!,1,8))),4),MID(((MID(#REF!,1,8))),5,2),(RIGHT(((MID(#REF!,1,8))),2)))) -> #REF! | B842: =IF(#REF!=0,"",(MID(#REF!,10,8)*24+1)/24) -> #REF! | C842: =IF(#REF!=0,"",#REF!) -> #REF!
A843: =IF(#REF!=0,"",DATE(LEFT(((MID(#REF!,1,8))),4),MID(((MID(#REF!,1,8))),5,2),(RIGHT(((MID(#REF!,1,8))),2)))) -> #REF! | B843: =IF(#REF!=0,"",(MID(#REF!,10,8)*24+1)/24) -> #REF! | C843: =IF(#REF!=0,"",#REF!) -> #REF!
A844: =IF(#REF!=0,"",DATE(LEFT(((MID(#REF!,1,8))),4),MID(((MID(#REF!,1,8))),5,2),(RIGHT(((MID(#REF!,1,8))),2)))) -> #REF! | B844: =IF(#REF!=0,"",(MID(#REF!,10,8)*24+1)/24) -> #REF! | C844: =IF(#REF!=0,"",#REF!) -> #REF!
A845: =IF(#REF!=0,"",DATE(LEFT(((MID(#REF!,1,8))),4),MID(((MID(#REF!,1,8))),5,2),(RIGHT(((MID(#REF!,1,8))),2)))) -> #REF! | B845: =IF(#REF!=0,"",(MID(#REF!,10,8)*24+1)/24) -> #REF! | C845: =IF(#REF!=0,"",#REF!) -> #REF!
A846: =IF(#REF!=0,"",DATE(LEFT(((MID(#REF!,1,8))),4),MID(((MID(#REF!,1,8))),5,2),(RIGHT(((MID(#REF!,1,8))),2)))) -> #REF! | B846: =IF(#REF!=0,"",(MID(#REF!,10,8)*24+1)/24) -> #REF! | C846: =IF(#REF!=0,"",#REF!) -> #REF!
A847: =IF(#REF!=0,"",DATE(LEFT(((MID(#REF!,1,8))),4),MID(((MID(#REF!,1,8))),5,2),(RIGHT(((MID(#REF!,1,8))),2)))) -> #REF! | B847: =IF(#REF!=0,"",(MID(#REF!,10,8)*24+1)/24) -> #REF! | C847: =IF(#REF!=0,"",#REF!) -> #REF!
A848: =IF(#REF!=0,"",DATE(LEFT(((MID(#REF!,1,8))),4),MID(((MID(#REF!,1,8))),5,2),(RIGHT(((MID(#REF!,1,8))),2)))) -> #REF! | B848: =IF(#REF!=0,"",(MID(#REF!,10,8)*24+1)/24) -> #REF! | C848: =IF(#REF!=0,"",#REF!) -> #REF!
A849: =IF(#REF!=0,"",DATE(LEFT(((MID(#REF!,1,8))),4),MID(((MID(#REF!,1,8))),5,2),(RIGHT(((MID(#REF!,1,8))),2)))) -> #REF! | B849: =IF(#REF!=0,"",(MID(#REF!,10,8)*24+1)/24) -> #REF! | C849: =IF(#REF!=0,"",#REF!) -> #REF!
... A1941: =IF(#REF!=0,"",DATE(LEFT(((MID(#REF!,1,8))),4),MID(((MID(#REF!,1,8))),5,2),(RIGHT(((MID(#REF!,1,8))),2)))) -> #REF! | B1941: =IF(#REF!=0,"",(MID(#REF!,10,8)*24+1)/24) -> #REF! | C1941: =IF(#REF!=0,"",#REF!) -> #REF!

Sheet 23-03-2022
A1: ASR daily share purchase transaction details
A4: Date | B4: Time | C4: Volume | D4: Price | E4: Proceeds | F4: Exchange | H4: DAILY BUYBACK SUMMARY
A5: 44643 | B5: 44643.379 | C5: 168 | D5: 42.8 | E5: 7190.4 | F5: Euronext Amsterdam | H5: Exchange | I5: # shares purchased | J5: Amount purchased
A6: 44643 | B6: 44643.382 | C6: 145 | D6: 43.02 | E6: 6237.9 | F6: Euronext Amsterdam | H6: Euronext Amsterdam | I6: =SUMIF(F:F,$H$6,C:C) -> 13659 | J6: =SUMIF(F:F,$H$6,E:E) -> 583223.39
A7: 44643 | B7: 44643.382 | C7: 141 | D7: 43.02 | E7: 6065.82 | F7: Euronext Amsterdam | H7: Cboe DXE | I7: =SUMIF(F:F,$H$7,C:C) -> 0 | J7: =SUMIF(F:F,$H$7,E:E) -> 0
A8: 44643 | B8: 44643.392 | C8: 145 | D8: 42.83 | E8: 6210.35 | F8: Euronext Amsterdam | H8: Average price (rounded) | I8: =ROUND((J8/SUM(I6:I7)),4) -> 42.6988 | J8: =SUM(J6:J7) -> 583223.39
A9: 44643 | B9: 44643.395 | C9: 15 | D9: 42.86 | E9: 642.9 | F9: Euronext Amsterdam
A10: 44643 | B10: 44643.395 | C10: 145 | D10: 42.86 | E10: 6214.7 | F10: Euronext Amsterdam
A11: 44643 | B11: 44643.399 | C11: 149 | D11: 42.9 | E11: 6392.1 | F11: Euronext Amsterdam | H11: EXECUTING ENTITY | I11: ABN AMRO Bank N.V.
A12: 44643 | B12: 44643.401 | C12: 19 | D12: 42.91 | E12: 815.29 | F12: Euronext Amsterdam | H12: STOCK NAME | I12: ASR Nederland N.V.
A13: 44643 | B13: 44643.401 | C13: 150 | D13: 42.91 | E13: 6436.5 | F13: Euronext Amsterdam | H13: ISIN CODE STOCK | I13: NL0011872643
A14: 44643 | B14: 44643.406 | C14: 150 | D14: 42.97 | E14: 6445.5 | F14: Euronext Amsterdam | H14: TIME REFERENCE USED | I14: GMT+1
A15: 44643 | B15: 44643.407 | C15: 140 | D15: 42.94 | E15: 6011.6 | F15: Euronext Amsterdam
A16: 44643 | B16: 44643.41 | C16: 145 | D16: 42.88 | E16: 6217.6 | F16: Euronext Amsterdam
A17: 44643 | B17: 44643.41 | C17: 145 | D17: 42.87 | E17: 6216.15 | F17: Euronext Amsterdam
A18: 44643 | B18: 44643.419 | C18: 55 | D18: 42.94 | E18: 2361.7 | F18: Euronext Amsterdam
A19: 44643 | B19: 44643.419 | C19: 105 | D19: 42.94 | E19: 4508.7 | F19: Euronext Amsterdam
A20: 44643 | B20: 44643.424 | C20: 167 | D20: 42.94 | E20: 7170.98 | F20: Euronext Amsterdam
A21: 44643 | B21: 44643.428 | C21: 141 | D21: 42.93 | E21: 6053.13 | F21: Euronext Amsterdam
A22: 44643 | B22: 44643.43 | C22: 158 | D22: 42.9 | E22: 6778.2 | F22: Euronext Amsterdam
A23: 44643 | B23: 44643.433 | C23: 140 | D23: 42.88 | E23: 6003.2 | F23: Euronext Amsterdam
A24: 44643 | B24: 44643.44 | C24: 57 | D24: 42.81 | E24: 2440.17 | F24: Euronext Amsterdam
A25: 44643 | B25: 44643.44 | C25: 108 | D25: 42.81 | E25: 4623.48 | F25: Euronext Amsterdam
A26: 44643 | B26: 44643.441 | C26: 109 | D26: 42.8 | E26: 4665.2 | F26: Euronext Amsterdam
... A135: 44643 | B135: 44643.722 | C135: 12 | D135: 42.45 | E135: 509.4 | F135: Euronext Amsterdam
A838: =IF(#REF!=0,"",DATE(LEFT(((MID(#REF!,1,8))),4),MID(((MID(#REF!,1,8))),5,2),(RIGHT(((MID(#REF!,1,8))),2)))) -> #REF! | B838: =IF(#REF!=0,"",(MID(#REF!,10,8)*24+1)/24) -> #REF! | C838: =IF(#REF!=0,"",#REF!) -> #REF!
A839: =IF(#REF!=0,"",DATE(LEFT(((MID(#REF!,1,8))),4),MID(((MID(#REF!,1,8))),5,2),(RIGHT(((MID(#REF!,1,8))),2)))) -> #REF! | B839: =IF(#REF!=0,"",(MID(#REF!,10,8)*24+1)/24) -> #REF! | C839: =IF(#REF!=0,"",#REF!) -> #REF!
A840: =IF(#REF!=0,"",DATE(LEFT(((MID(#REF!,1,8))),4),MID(((MID(#REF!,1,8))),5,2),(RIGHT(((MID(#REF!,1,8))),2)))) -> #REF! | B840: =IF(#REF!=0,"",(MID(#REF!,10,8)*24+1)/24) -> #REF! | C840: =IF(#REF!=0,"",#REF!) -> #REF!
A841: =IF(#REF!=0,"",DATE(LEFT(((MID(#REF!,1,8))),4),MID(((MID(#REF!,1,8))),5,2),(RIGHT(((MID(#REF!,1,8))),2)))) -> #REF! | B841: =IF(#REF!=0,"",(MID(#REF!,10,8)*24+1)/24) -> #REF! | C841: =IF(#REF!=0,"",#REF!) -> #REF!
A842: =IF(#REF!=0,"",DATE(LEFT(((MID(#REF!,1,8))),4),MID(((MID(#REF!,1,8))),5,2),(RIGHT(((MID(#REF!,1,8))),2)))) -> #REF! | B842: =IF(#REF!=0,"",(MID(#REF!,10,8)*24+1)/24) -> #REF! | C842: =IF(#REF!=0,"",#REF!) -> #REF!
A843: =IF(#REF!=0,"",DATE(LEFT(((MID(#REF!,1,8))),4),MID(((MID(#REF!,1,8))),5,2),(RIGHT(((MID(#REF!,1,8))),2)))) -> #REF! | B843: =IF(#REF!=0,"",(MID(#REF!,10,8)*24+1)/24) -> #REF! | C843: =IF(#REF!=0,"",#REF!) -> #REF!
A844: =IF(#REF!=0,"",DATE(LEFT(((MID(#REF!,1,8))),4),MID(((MID(#REF!,1,8))),5,2),(RIGHT(((MID(#REF!,1,8))),2)))) -> #REF! | B844: =IF(#REF!=0,"",(MID(#REF!,10,8)*24+1)/24) -> #REF! | C844: =IF(#REF!=0,"",#REF!) -> #REF!
A845: =IF(#REF!=0,"",DATE(LEFT(((MID(#REF!,1,8))),4),MID(((MID(#REF!,1,8))),5,2),(RIGHT(((MID(#REF!,1,8))),2)))) -> #REF! | B845: =IF(#REF!=0,"",(MID(#REF!,10,8)*24+1)/24) -> #REF! | C845: =IF(#REF!=0,"",#REF!) -> #REF!
A846: =IF(#REF!=0,"",DATE(LEFT(((MID(#REF!,1,8))),4),MID(((MID(#REF!,1,8))),5,2),(RIGHT(((MID(#REF!,1,8))),2)))) -> #REF! | B846: =IF(#REF!=0,"",(MID(#REF!,10,8)*24+1)/24) -> #REF! | C846: =IF(#REF!=0,"",#REF!) -> #REF!
A847: =IF(#REF!=0,"",DATE(LEFT(((MID(#REF!,1,8))),4),MID(((MID(#REF!,1,8))),5,2),(RIGHT(((MID(#REF!,1,8))),2)))) -> #REF! | B847: =IF(#REF!=0,"",(MID(#REF!,10,8)*24+1)/24) -> #REF! | C847: =IF(#REF!=0,"",#REF!) -> #REF!
A848: =IF(#REF!=0,"",DATE(LEFT(((MID(#REF!,1,8))),4),MID(((MID(#REF!,1,8))),5,2),(RIGHT(((MID(#REF!,1,8))),2)))) -> #REF! | B848: =IF(#REF!=0,"",(MID(#REF!,10,8)*24+1)/24) -> #REF! | C848: =IF(#REF!=0,"",#REF!) -> #REF!
A849: =IF(#REF!=0,"",DATE(LEFT(((MID(#REF!,1,8))),4),MID(((MID(#REF!,1,8))),5,2),(RIGHT(((MID(#REF!,1,8))),2)))) -> #REF! | B849: =IF(#REF!=0,"",(MID(#REF!,10,8)*24+1)/24) -> #REF! | C849: =IF(#REF!=0,"",#REF!) -> #REF!
... A1941: =IF(#REF!=0,"",DATE(LEFT(((MID(#REF!,1,8))),4),MID(((MID(#REF!,1,8))),5,2),(RIGHT(((MID(#REF!,1,8))),2)))) -> #REF! | B1941: =IF(#REF!=0,"",(MID(#REF!,10,8)*24+1)/24) -> #REF! | C1941: =IF(#REF!=0,"",#REF!) -> #REF!

Sheet 22-03-2022
A1: ASR daily share purchase transaction details
A4: Date | B4: Time | C4: Volume | D4: Price | E4: Proceeds | F4: Exchange | H4: DAILY BUYBACK SUMMARY
A5: 44642 | B5: 44642.382 | C5: 142 | D5: 42.02 | E5: 5966.84 | F5: Euronext Amsterdam | H5: Exchange | I5: # shares purchased | J5: Amount purchased
A6: 44642 | B6: 44642.383 | C6: 4 | D6: 42.07 | E6: 168.28 | F6: Euronext Amsterdam | H6: Euronext Amsterdam | I6: =SUMIF(F:F,$H$6,C:C) -> 13320 | J6: =SUMIF(F:F,$H$6,E:E) -> 568730.19
A7: 44642 | B7: 44642.383 | C7: 141 | D7: 42.07 | E7: 5931.87 | F7: Euronext Amsterdam | H7: Cboe DXE | I7: =SUMIF(F:F,$H$7,C:C) -> 0 | J7: =SUMIF(F:F,$H$7,E:E) -> 0
A8: 44642 | B8: 44642.385 | C8: 91 | D8: 42.11 | E8: 3832.01 | F8: Euronext Amsterdam | H8: Average price (rounded) | I8: =ROUND((J8/SUM(I6:I7)),4) -> 42.6975 | J8: =SUM(J6:J7) -> 568730.19
A9: 44642 | B9: 44642.385 | C9: 53 | D9: 42.11 | E9: 2231.83 | F9: Euronext Amsterdam
A10: 44642 | B10: 44642.388 | C10: 113 | D10: 42.39 | E10: 4790.07 | F10: Euronext Amsterdam
A11: 44642 | B11: 44642.388 | C11: 8 | D11: 42.39 | E11: 339.12 | F11: Euronext Amsterdam | H11: EXECUTING ENTITY | I11: ABN AMRO Bank N.V.
A12: 44642 | B12: 44642.388 | C12: 30 | D12: 42.39 | E12: 1271.7 | F12: Euronext Amsterdam | H12: STOCK NAME | I12: ASR Nederland N.V.
A13: 44642 | B13: 44642.39 | C13: 136 | D13: 42.38 | E13: 5763.68 | F13: Euronext Amsterdam | H13: ISIN CODE STOCK | I13: NL0011872643
A14: 44642 | B14: 44642.39 | C14: 21 | D14: 42.38 | E14: 889.98 | F14: Euronext Amsterdam | H14: TIME REFERENCE USED | I14: GMT+1
A15: 44642 | B15: 44642.394 | C15: 155 | D15: 42.5 | E15: 6587.5 | F15: Euronext Amsterdam
A16: 44642 | B16: 44642.416 | C16: 149 | D16: 42.61 | E16: 6348.89 | F16: Euronext Amsterdam
A17: 44642 | B17: 44642.422 | C17: 143 | D17: 42.77 | E17: 6116.11 | F17: Euronext Amsterdam
A18: 44642 | B18: 44642.423 | C18: 151 | D18: 42.78 | E18: 6459.78 | F18: Euronext Amsterdam
A19: 44642 | B19: 44642.424 | C19: 163 | D19: 42.95 | E19: 7000.85 | F19: Euronext Amsterdam
A20: 44642 | B20: 44642.434 | C20: 152 | D20: 42.91 | E20: 6522.32 | F20: Euronext Amsterdam
A21: 44642 | B21: 44642.437 | C21: 144 | D21: 42.88 | E21: 6174.72 | F21: Euronext Amsterdam
A22: 44642 | B22: 44642.439 | C22: 162 | D22: 42.84 | E22: 6940.08 | F22: Euronext Amsterdam
A23: 44642 | B23: 44642.445 | C23: 14 | D23: 42.74 | E23: 598.36 | F23: Euronext Amsterdam
A24: 44642 | B24: 44642.445 | C24: 56 | D24: 42.74 | E24: 2393.44 | F24: Euronext Amsterdam
A25: 44642 | B25: 44642.445 | C25: 26 | D25: 42.74 | E25: 1111.24 | F25: Euronext Amsterdam
A26: 44642 | B26: 44642.449 | C26: 28 | D26: 42.8 | E26: 1198.4 | F26: Euronext Amsterdam
... A122: 44642 | B122: 44642.721 | C122: 142 | D122: 42.68 | E122: 6060.56 | F122: Euronext Amsterdam
A838: =IF(#REF!=0,"",DATE(LEFT(((MID(#REF!,1,8))),4),MID(((MID(#REF!,1,8))),5,2),(RIGHT(((MID(#REF!,1,8))),2)))) -> #REF! | B838: =IF(#REF!=0,"",(MID(#REF!,10,8)*24+1)/24) -> #REF! | C838: =IF(#REF!=0,"",#REF!) -> #REF!
A839: =IF(#REF!=0,"",DATE(LEFT(((MID(#REF!,1,8))),4),MID(((MID(#REF!,1,8))),5,2),(RIGHT(((MID(#REF!,1,8))),2)))) -> #REF! | B839: =IF(#REF!=0,"",(MID(#REF!,10,8)*24+1)/24) -> #REF! | C839: =IF(#REF!=0,"",#REF!) -> #REF!
A840: =IF(#REF!=0,"",DATE(LEFT(((MID(#REF!,1,8))),4),MID(((MID(#REF!,1,8))),5,2),(RIGHT(((MID(#REF!,1,8))),2)))) -> #REF! | B840: =IF(#REF!=0,"",(MID(#REF!,10,8)*24+1)/24) -> #REF! | C840: =IF(#REF!=0,"",#REF!) -> #REF!
A841: =IF(#REF!=0,"",DATE(LEFT(((MID(#REF!,1,8))),4),MID(((MID(#REF!,1,8))),5,2),(RIGHT(((MID(#REF!,1,8))),2)))) -> #REF! | B841: =IF(#REF!=0,"",(MID(#REF!,10,8)*24+1)/24) -> #REF! | C841: =IF(#REF!=0,"",#REF!) -> #REF!
A842: =IF(#REF!=0,"",DATE(LEFT(((MID(#REF!,1,8))),4),MID(((MID(#REF!,1,8))),5,2),(RIGHT(((MID(#REF!,1,8))),2)))) -> #REF! | B842: =IF(#REF!=0,"",(MID(#REF!,10,8)*24+1)/24) -> #REF! | C842: =IF(#REF!=0,"",#REF!) -> #REF!
A843: =IF(#REF!=0,"",DATE(LEFT(((MID(#REF!,1,8))),4),MID(((MID(#REF!,1,8))),5,2),(RIGHT(((MID(#REF!,1,8))),2)))) -> #REF! | B843: =IF(#REF!=0,"",(MID(#REF!,10,8)*24+1)/24) -> #REF! | C843: =IF(#REF!=0,"",#REF!) -> #REF!
A844: =IF(#REF!=0,"",DATE(LEFT(((MID(#REF!,1,8))),4),MID(((MID(#REF!,1,8))),5,2),(RIGHT(((MID(#REF!,1,8))),2)))) -> #REF! | B844: =IF(#REF!=0,"",(MID(#REF!,10,8)*24+1)/24) -> #REF! | C844: =IF(#REF!=0,"",#REF!) -> #REF!
A845: =IF(#REF!=0,"",DATE(LEFT(((MID(#REF!,1,8))),4),MID(((MID(#REF!,1,8))),5,2),(RIGHT(((MID(#REF!,1,8))),2)))) -> #REF! | B845: =IF(#REF!=0,"",(MID(#REF!,10,8)*24+1)/24) -> #REF! | C845: =IF(#REF!=0,"",#REF!) -> #REF!
A846: =IF(#REF!=0,"",DATE(LEFT(((MID(#REF!,1,8))),4),MID(((MID(#REF!,1,8))),5,2),(RIGHT(((MID(#REF!,1,8))),2)))) -> #REF! | B846: =IF(#REF!=0,"",(MID(#REF!,10,8)*24+1)/24) -> #REF! | C846: =IF(#REF!=0,"",#REF!) -> #REF!
A847: =IF(#REF!=0,"",DATE(LEFT(((MID(#REF!,1,8))),4),MID(((MID(#REF!,1,8))),5,2),(RIGHT(((MID(#REF!,1,8))),2)))) -> #REF! | B847: =IF(#REF!=0,"",(MID(#REF!,10,8)*24+1)/24) -> #REF! | C847: =IF(#REF!=0,"",#REF!) -> #REF!
A848: =IF(#REF!=0,"",DATE(LEFT(((MID(#REF!,1,8))),4),MID(((MID(#REF!,1,8))),5,2),(RIGHT(((MID(#REF!,1,8))),2)))) -> #REF! | B848: =IF(#REF!=0,"",(MID(#REF!,10,8)*24+1)/24) -> #REF! | C848: =IF(#REF!=0,"",#REF!) -> #REF!
A849: =IF(#REF!=0,"",DATE(LEFT(((MID(#REF!,1,8))),4),MID(((MID(#REF!,1,8))),5,2),(RIGHT(((MID(#REF!,1,8))),2)))) -> #REF! | B849: =IF(#REF!=0,"",(MID(#REF!,10,8)*24+1)/24) -> #REF! | C849: =IF(#REF!=0,"",#REF!) -> #REF!
... A1941: =IF(#REF!=0,"",DATE(LEFT(((MID(#REF!,1,8))),4),MID(((MID(#REF!,1,8))),5,2),(RIGHT(((MID(#REF!,1,8))),2)))) -> #REF! | B1941: =IF(#REF!=0,"",(MID(#REF!,10,8)*24+1)/24) -> #REF! | C1941: =IF(#REF!=0,"",#REF!) -> #REF!

Sheet 21-03-2022
A1: ASR daily share purchase transaction details
A4: Date | B4: Time | C4: Volume | D4: Price | E4: Proceeds | F4: Exchange | H4: DAILY BUYBACK SUMMARY
A5: 44641 | B5: 44641.379 | C5: 169 | D5: 41.92 | E5: 7084.48 | F5: Euronext Amsterdam | H5: Exchange | I5: # shares purchased | J5: Amount purchased
A6: 44641 | B6: 44641.381 | C6: 199 | D6: 41.98 | E6: 8354.02 | F6: Euronext Amsterdam | H6: Euronext Amsterdam | I6: =SUMIF(F:F,$H$6,C:C) -> 13623 | J6: =SUMIF(F:F,$H$6,E:E) -> 569444.04
A7: 44641 | B7: 44641.384 | C7: 143 | D7: 42.07 | E7: 6016.01 | F7: Euronext Amsterdam | H7: Cboe DXE | I7: =SUMIF(F:F,$H$7,C:C) -> 0 | J7: =SUMIF(F:F,$H$7,E:E) -> 0
A8: 44641 | B8: 44641.384 | C8: 2 | D8: 42.07 | E8: 84.14 | F8: Euronext Amsterdam | H8: Average price (rounded) | I8: =ROUND((J8/SUM(I6:I7)),4) -> 41.8002 | J8: =SUM(J6:J7) -> 569444.04
A9: 44641 | B9: 44641.388 | C9: 100 | D9: 42.01 | E9: 4201 | F9: Euronext Amsterdam
A10: 44641 | B10: 44641.388 | C10: 49 | D10: 42.01 | E10: 2058.49 | F10: Euronext Amsterdam
A11: 44641 | B11: 44641.39 | C11: 71 | D11: 42.15 | E11: 2992.65 | F11: Euronext Amsterdam | H11: EXECUTING ENTITY | I11: ABN AMRO Bank N.V.
A12: 44641 | B12: 44641.39 | C12: 86 | D12: 42.15 | E12: 3624.9 | F12: Euronext Amsterdam | H12: STOCK NAME | I12: ASR Nederland N.V.
A13: 44641 | B13: 44641.396 | C13: 145 | D13: 42.27 | E13: 6129.15 | F13: Euronext Amsterdam | H13: ISIN CODE STOCK | I13: NL0011872643
A14: 44641 | B14: 44641.4 | C14: 140 | D14: 42.23 | E14: 5912.2 | F14: Euronext Amsterdam | H14: TIME REFERENCE USED | I14: GMT+1
A15: 44641 | B15: 44641.402 | C15: 145 | D15: 42.2 | E15: 6119 | F15: Euronext Amsterdam
A16: 44641 | B16: 44641.405 | C16: 52 | D16: 42.07 | E16: 2187.64 | F16: Euronext Amsterdam
A17: 44641 | B17: 44641.405 | C17: 55 | D17: 42.07 | E17: 2313.85 | F17: Euronext Amsterdam
A18: 44641 | B18: 44641.405 | C18: 54 | D18: 42.07 | E18: 2271.78 | F18: Euronext Amsterdam
A19: 44641 | B19: 44641.405 | C19: 168 | D19: 42.03 | E19: 7061.04 | F19: Euronext Amsterdam
A20: 44641 | B20: 44641.412 | C20: 155 | D20: 42.05 | E20: 6517.75 | F20: Euronext Amsterdam
A21: 44641 | B21: 44641.413 | C21: 133 | D21: 41.98 | E21: 5583.34 | F21: Euronext Amsterdam
A22: 44641 | B22: 44641.413 | C22: 41 | D22: 41.98 | E22: 1721.18 | F22: Euronext Amsterdam
A23: 44641 | B23: 44641.42 | C23: 178 | D23: 41.93 | E23: 7463.54 | F23: Euronext Amsterdam
A24: 44641 | B24: 44641.42 | C24: 29 | D24: 41.87 | E24: 1214.23 | F24: Euronext Amsterdam
A25: 44641 | B25: 44641.42 | C25: 141 | D25: 41.87 | E25: 5903.67 | F25: Euronext Amsterdam
A26: 44641 | B26: 44641.42 | C26: 147 | D26: 41.87 | E26: 6154.89 | F26: Euronext Amsterdam
... A122: 44641 | B122: 44641.722 | C122: 2 | D122: 41.64 | E122: 83.28 | F122: Euronext Amsterdam
A838: =IF(#REF!=0,"",DATE(LEFT(((MID(#REF!,1,8))),4),MID(((MID(#REF!,1,8))),5,2),(RIGHT(((MID(#REF!,1,8))),2)))) -> #REF! | B838: =IF(#REF!=0,"",(MID(#REF!,10,8)*24+1)/24) -> #REF! | C838: =IF(#REF!=0,"",#REF!) -> #REF!
A839: =IF(#REF!=0,"",DATE(LEFT(((MID(#REF!,1,8))),4),MID(((MID(#REF!,1,8))),5,2),(RIGHT(((MID(#REF!,1,8))),2)))) -> #REF! | B839: =IF(#REF!=0,"",(MID(#REF!,10,8)*24+1)/24) -> #REF! | C839: =IF(#REF!=0,"",#REF!) -> #REF!
A840: =IF(#REF!=0,"",DATE(LEFT(((MID(#REF!,1,8))),4),MID(((MID(#REF!,1,8))),5,2),(RIGHT(((MID(#REF!,1,8))),2)))) -> #REF! | B840: =IF(#REF!=0,"",(MID(#REF!,10,8)*24+1)/24) -> #REF! | C840: =IF(#REF!=0,"",#REF!) -> #REF!
A841: =IF(#REF!=0,"",DATE(LEFT(((MID(#REF!,1,8))),4),MID(((MID(#REF!,1,8))),5,2),(RIGHT(((MID(#REF!,1,8))),2)))) -> #REF! | B841: =IF(#REF!=0,"",(MID(#REF!,10,8)*24+1)/24) -> #REF! | C841: =IF(#REF!=0,"",#REF!) -> #REF!
A842: =IF(#REF!=0,"",DATE(LEFT(((MID(#REF!,1,8))),4),MID(((MID(#REF!,1,8))),5,2),(RIGHT(((MID(#REF!,1,8))),2)))) -> #REF! | B842: =IF(#REF!=0,"",(MID(#REF!,10,8)*24+1)/24) -> #REF! | C842: =IF(#REF!=0,"",#REF!) -> #REF!
A843: =IF(#REF!=0,"",DATE(LEFT(((MID(#REF!,1,8))),4),MID(((MID(#REF!,1,8))),5,2),(RIGHT(((MID(#REF!,1,8))),2)))) -> #REF! | B843: =IF(#REF!=0,"",(MID(#REF!,10,8)*24+1)/24) -> #REF! | C843: =IF(#REF!=0,"",#REF!) -> #REF!
A844: =IF(#REF!=0,"",DATE(LEFT(((MID(#REF!,1,8))),4),MID(((MID(#REF!,1,8))),5,2),(RIGHT(((MID(#REF!,1,8))),2)))) -> #REF! | B844: =IF(#REF!=0,"",(MID(#REF!,10,8)*24+1)/24) -> #REF! | C844: =IF(#REF!=0,"",#REF!) -> #REF!
A845: =IF(#REF!=0,"",DATE(LEFT(((MID(#REF!,1,8))),4),MID(((MID(#REF!,1,8))),5,2),(RIGHT(((MID(#REF!,1,8))),2)))) -> #REF! | B845: =IF(#REF!=0,"",(MID(#REF!,10,8)*24+1)/24) -> #REF! | C845: =IF(#REF!=0,"",#REF!) -> #REF!
A846: =IF(#REF!=0,"",DATE(LEFT(((MID(#REF!,1,8))),4),MID(((MID(#REF!,1,8))),5,2),(RIGHT(((MID(#REF!,1,8))),2)))) -> #REF! | B846: =IF(#REF!=0,"",(MID(#REF!,10,8)*24+1)/24) -> #REF! | C846: =IF(#REF!=0,"",#REF!) -> #REF!
A847: =IF(#REF!=0,"",DATE(LEFT(((MID(#REF!,1,8))),4),MID(((MID(#REF!,1,8))),5,2),(RIGHT(((MID(#REF!,1,8))),2)))) -> #REF! | B847: =IF(#REF!=0,"",(MID(#REF!,10,8)*24+1)/24) -> #REF! | C847: =IF(#REF!=0,"",#REF!) -> #REF!
A848: =IF(#REF!=0,"",DATE(LEFT(((MID(#REF!,1,8))),4),MID(((MID(#REF!,1,8))),5,2),(RIGHT(((MID(#REF!,1,8))),2)))) -> #REF! | B848: =IF(#REF!=0,"",(MID(#REF!,10,8)*24+1)/24) -> #REF! | C848: =IF(#REF!=0,"",#REF!) -> #REF!
A849: =IF(#REF!=0,"",DATE(LEFT(((MID(#REF!,1,8))),4),MID(((MID(#REF!,1,8))),5,2),(RIGHT(((MID(#REF!,1,8))),2)))) -> #REF! | B849: =IF(#REF!=0,"",(MID(#REF!,10,8)*24+1)/24) -> #REF! | C849: =IF(#REF!=0,"",#REF!) -> #REF!
... A1941: =IF(#REF!=0,"",DATE(LEFT(((MID(#REF!,1,8))),4),MID(((MID(#REF!,1,8))),5,2),(RIGHT(((MID(#REF!,1,8))),2)))) -> #REF! | B1941: =IF(#REF!=0,"",(MID(#REF!,10,8)*24+1)/24) -> #REF! | C1941: =IF(#REF!=0,"",#REF!) -> #REF!

Sheet 18-03-2022
A1: ASR daily share purchase transaction details
A4: Date | B4: Time | C4: Volume | D4: Price | E4: Proceeds | F4: Exchange | H4: DAILY BUYBACK SUMMARY
A5: 44638 | B5: 44638.379 | C5: 167 | D5: 41.27 | E5: 6892.09 | F5: Euronext Amsterdam | H5: Exchange | I5: # shares purchased | J5: Amount purchased
A6: 44638 | B6: 44638.379 | C6: 160 | D6: 41.27 | E6: 6603.2 | F6: Euronext Amsterdam | H6: Euronext Amsterdam | I6: =SUMIF(F:F,$H$6,C:C) -> 31133 | J6: =SUMIF(F:F,$H$6,E:E) -> 1293379.7
A7: 44638 | B7: 44638.381 | C7: 150 | D7: 41.34 | E7: 6201 | F7: Euronext Amsterdam | H7: Cboe DXE | I7: =SUMIF(F:F,$H$7,C:C) -> 0 | J7: =SUMIF(F:F,$H$7,E:E) -> 0
A8: 44638 | B8: 44638.381 | C8: 160 | D8: 41.34 | E8: 6614.4 | F8: Euronext Amsterdam | H8: Average price (rounded) | I8: =ROUND((J8/SUM(I6:I7)),4) -> 41.5437 | J8: =SUM(J6:J7) -> 1293379.7
A9: 44638 | B9: 44638.382 | C9: 163 | D9: 41.39 | E9: 6746.57 | F9: Euronext Amsterdam
A10: 44638 | B10: 44638.383 | C10: 146 | D10: 41.46 | E10: 6053.16 | F10: Euronext Amsterdam
A11: 44638 | B11: 44638.384 | C11: 94 | D11: 41.46 | E11: 3897.24 | F11: Euronext Amsterdam | H11: EXECUTING ENTITY | I11: ABN AMRO Bank N.V.
A12: 44638 | B12: 44638.387 | C12: 182 | D12: 41.41 | E12: 7536.62 | F12: Euronext Amsterdam | H12: STOCK NAME | I12: ASR Nederland N.V.
A13: 44638 | B13: 44638.387 | C13: 188 | D13: 41.41 | E13: 7785.08 | F13: Euronext Amsterdam | H13: ISIN CODE STOCK | I13: NL0011872643
A14: 44638 | B14: 44638.388 | C14: 162 | D14: 41.37 | E14: 6701.94 | F14: Euronext Amsterdam | H14: TIME REFERENCE USED | I14: GMT+1
A15: 44638 | B15: 44638.39 | C15: 147 | D15: 41.32 | E15: 6074.04 | F15: Euronext Amsterdam
A16: 44638 | B16: 44638.391 | C16: 166 | D16: 41.34 | E16: 6862.44 | F16: Euronext Amsterdam
A17: 44638 | B17: 44638.393 | C17: 150 | D17: 41.49 | E17: 6223.5 | F17: Euronext Amsterdam
A18: 44638 | B18: 44638.394 | C18: 175 | D18: 41.47 | E18: 7257.25 | F18: Euronext Amsterdam
A19: 44638 | B19: 44638.395 | C19: 159 | D19: 41.46 | E19: 6592.14 | F19: Euronext Amsterdam
A20: 44638 | B20: 44638.397 | C20: 145 | D20: 41.31 | E20: 5989.95 | F20: Euronext Amsterdam
A21: 44638 | B21: 44638.4 | C21: 163 | D21: 41.36 | E21: 6741.68 | F21: Euronext Amsterdam
A22: 44638 | B22: 44638.404 | C22: 150 | D22: 41.46 | E22: 6219 | F22: Euronext Amsterdam
A23: 44638 | B23: 44638.404 | C23: 141 | D23: 41.44 | E23: 5843.04 | F23: Euronext Amsterdam
A24: 44638 | B24: 44638.404 | C24: 140 | D24: 41.44 | E24: 5801.6 | F24: Euronext Amsterdam
A25: 44638 | B25: 44638.405 | C25: 141 | D25: 41.38 | E25: 5834.58 | F25: Euronext Amsterdam
A26: 44638 | B26: 44638.408 | C26: 143 | D26: 41.36 | E26: 5914.48 | F26: Euronext Amsterdam
... A295: 44638 | B295: 44638.722 | C295: 77 | D295: 42.04 | E295: 3237.08 | F295: Euronext Amsterdam
A838: =IF(#REF!=0,"",DATE(LEFT(((MID(#REF!,1,8))),4),MID(((MID(#REF!,1,8))),5,2),(RIGHT(((MID(#REF!,1,8))),2)))) -> #REF! | B838: =IF(#REF!=0,"",(MID(#REF!,10,8)*24+1)/24) -> #REF! | C838: =IF(#REF!=0,"",#REF!) -> #REF!
A839: =IF(#REF!=0,"",DATE(LEFT(((MID(#REF!,1,8))),4),MID(((MID(#REF!,1,8))),5,2),(RIGHT(((MID(#REF!,1,8))),2)))) -> #REF! | B839: =IF(#REF!=0,"",(MID(#REF!,10,8)*24+1)/24) -> #REF! | C839: =IF(#REF!=0,"",#REF!) -> #REF!
A840: =IF(#REF!=0,"",DATE(LEFT(((MID(#REF!,1,8))),4),MID(((MID(#REF!,1,8))),5,2),(RIGHT(((MID(#REF!,1,8))),2)))) -> #REF! | B840: =IF(#REF!=0,"",(MID(#REF!,10,8)*24+1)/24) -> #REF! | C840: =IF(#REF!=0,"",#REF!) -> #REF!
A841: =IF(#REF!=0,"",DATE(LEFT(((MID(#REF!,1,8))),4),MID(((MID(#REF!,1,8))),5,2),(RIGHT(((MID(#REF!,1,8))),2)))) -> #REF! | B841: =IF(#REF!=0,"",(MID(#REF!,10,8)*24+1)/24) -> #REF! | C841: =IF(#REF!=0,"",#REF!) -> #REF!
A842: =IF(#REF!=0,"",DATE(LEFT(((MID(#REF!,1,8))),4),MID(((MID(#REF!,1,8))),5,2),(RIGHT(((MID(#REF!,1,8))),2)))) -> #REF! | B842: =IF(#REF!=0,"",(MID(#REF!,10,8)*24+1)/24) -> #REF! | C842: =IF(#REF!=0,"",#REF!) -> #REF!
A843: =IF(#REF!=0,"",DATE(LEFT(((MID(#REF!,1,8))),4),MID(((MID(#REF!,1,8))),5,2),(RIGHT(((MID(#REF!,1,8))),2)))) -> #REF! | B843: =IF(#REF!=0,"",(MID(#REF!,10,8)*24+1)/24) -> #REF! | C843: =IF(#REF!=0,"",#REF!) -> #REF!
A844: =IF(#REF!=0,"",DATE(LEFT(((MID(#REF!,1,8))),4),MID(((MID(#REF!,1,8))),5,2),(RIGHT(((MID(#REF!,1,8))),2)))) -> #REF! | B844: =IF(#REF!=0,"",(MID(#REF!,10,8)*24+1)/24) -> #REF! | C844: =IF(#REF!=0,"",#REF!) -> #REF!
A845: =IF(#REF!=0,"",DATE(LEFT(((MID(#REF!,1,8))),4),MID(((MID(#REF!,1,8))),5,2),(RIGHT(((MID(#REF!,1,8))),2)))) -> #REF! | B845: =IF(#REF!=0,"",(MID(#REF!,10,8)*24+1)/24) -> #REF! | C845: =IF(#REF!=0,"",#REF!) -> #REF!
A846: =IF(#REF!=0,"",DATE(LEFT(((MID(#REF!,1,8))),4),MID(((MID(#REF!,1,8))),5,2),(RIGHT(((MID(#REF!,1,8))),2)))) -> #REF! | B846: =IF(#REF!=0,"",(MID(#REF!,10,8)*24+1)/24) -> #REF! | C846: =IF(#REF!=0,"",#REF!) -> #REF!
A847: =IF(#REF!=0,"",DATE(LEFT(((MID(#REF!,1,8))),4),MID(((MID(#REF!,1,8))),5,2),(RIGHT(((MID(#REF!,1,8))),2)))) -> #REF! | B847: =IF(#REF!=0,"",(MID(#REF!,10,8)*24+1)/24) -> #REF! | C847: =IF(#REF!=0,"",#REF!) -> #REF!
A848: =IF(#REF!=0,"",DATE(LEFT(((MID(#REF!,1,8))),4),MID(((MID(#REF!,1,8))),5,2),(RIGHT(((MID(#REF!,1,8))),2)))) -> #REF! | B848: =IF(#REF!=0,"",(MID(#REF!,10,8)*24+1)/24) -> #REF! | C848: =IF(#REF!=0,"",#REF!) -> #REF!
A849: =IF(#REF!=0,"",DATE(LEFT(((MID(#REF!,1,8))),4),MID(((MID(#REF!,1,8))),5,2),(RIGHT(((MID(#REF!,1,8))),2)))) -> #REF! | B849: =IF(#REF!=0,"",(MID(#REF!,10,8)*24+1)/24) -> #REF! | C849: =IF(#REF!=0,"",#REF!) -> #REF!
... A1941: =IF(#REF!=0,"",DATE(LEFT(((MID(#REF!,1,8))),4),MID(((MID(#REF!,1,8))),5,2),(RIGHT(((MID(#REF!,1,8))),2)))) -> #REF! | B1941: =IF(#REF!=0,"",(MID(#REF!,10,8)*24+1)/24) -> #REF! | C1941: =IF(#REF!=0,"",#REF!) -> #REF!

Sheet 17-03-2022
A1: ASR daily share purchase transaction details
A4: Date | B4: Time | C4: Volume | D4: Price | E4: Proceeds | F4: Exchange | H4: DAILY BUYBACK SUMMARY
A5: 44637 | B5: 44637.379 | C5: 162 | D5: 42 | E5: 6804 | F5: Euronext Amsterdam | H5: Exchange | I5: # shares purchased | J5: Amount purchased
A6: 44637 | B6: 44637.379 | C6: 148 | D6: 42 | E6: 6216 | F6: Euronext Amsterdam | H6: Euronext Amsterdam | I6: =SUMIF(F:F,$H$6,C:C) -> 31764 | J6: =SUMIF(F:F,$H$6,E:E) -> 1314622
A7: 44637 | B7: 44637.38 | C7: 148 | D7: 42.03 | E7: 6220.44 | F7: Euronext Amsterdam | H7: Cboe DXE | I7: =SUMIF(F:F,$H$7,C:C) -> 0 | J7: =SUMIF(F:F,$H$7,E:E) -> 0
A8: 44637 | B8: 44637.381 | C8: 141 | D8: 41.96 | E8: 5916.36 | F8: Euronext Amsterdam | H8: Average price (rounded) | I8: =ROUND((J8/SUM(I6:I7)),4) -> 41.3872 | J8: =SUM(J6:J7) -> 1314622
A9: 44637 | B9: 44637.381 | C9: 4 | D9: 41.96 | E9: 167.84 | F9: Euronext Amsterdam
A10: 44637 | B10: 44637.382 | C10: 155 | D10: 42.15 | E10: 6533.25 | F10: Euronext Amsterdam
A11: 44637 | B11: 44637.383 | C11: 164 | D11: 41.91 | E11: 6873.24 | F11: Euronext Amsterdam | H11: EXECUTING ENTITY | I11: ABN AMRO Bank N.V.
A12: 44637 | B12: 44637.384 | C12: 31 | D12: 41.75 | E12: 1294.25 | F12: Euronext Amsterdam | H12: STOCK NAME | I12: ASR Nederland N.V.
A13: 44637 | B13: 44637.385 | C13: 172 | D13: 41.74 | E13: 7179.28 | F13: Euronext Amsterdam | H13: ISIN CODE STOCK | I13: NL0011872643
A14: 44637 | B14: 44637.385 | C14: 158 | D14: 41.79 | E14: 6602.82 | F14: Euronext Amsterdam | H14: TIME REFERENCE USED | I14: GMT+1
A15: 44637 | B15: 44637.386 | C15: 164 | D15: 41.8 | E15: 6855.2 | F15: Euronext Amsterdam
A16: 44637 | B16: 44637.388 | C16: 159 | D16: 41.73 | E16: 6635.07 | F16: Euronext Amsterdam
A17: 44637 | B17: 44637.39 | C17: 159 | D17: 41.96 | E17: 6671.64 | F17: Euronext Amsterdam
A18: 44637 | B18: 44637.391 | C18: 160 | D18: 42.01 | E18: 6721.6 | F18: Euronext Amsterdam
A19: 44637 | B19: 44637.392 | C19: 150 | D19: 41.99 | E19: 6298.5 | F19: Euronext Amsterdam
A20: 44637 | B20: 44637.393 | C20: 157 | D20: 41.84 | E20: 6568.88 | F20: Euronext Amsterdam
A21: 44637 | B21: 44637.395 | C21: 66 | D21: 41.82 | E21: 2760.12 | F21: Euronext Amsterdam
A22: 44637 | B22: 44637.395 | C22: 158 | D22: 41.83 | E22: 6609.14 | F22: Euronext Amsterdam
A23: 44637 | B23: 44637.396 | C23: 126 | D23: 41.81 | E23: 5268.06 | F23: Euronext Amsterdam
A24: 44637 | B24: 44637.396 | C24: 32 | D24: 41.81 | E24: 1337.92 | F24: Euronext Amsterdam
A25: 44637 | B25: 44637.398 | C25: 131 | D25: 41.94 | E25: 5494.14 | F25: Euronext Amsterdam
A26: 44637 | B26: 44637.398 | C26: 26 | D26: 41.94 | E26: 1090.44 | F26: Euronext Amsterdam
... A269: 44637 | B269: 44637.721 | C269: 1000 | D269: 41.31 | E269: 41310 | F269: Euronext Amsterdam
A838: =IF(#REF!=0,"",DATE(LEFT(((MID(#REF!,1,8))),4),MID(((MID(#REF!,1,8))),5,2),(RIGHT(((MID(#REF!,1,8))),2)))) -> #REF! | B838: =IF(#REF!=0,"",(MID(#REF!,10,8)*24+1)/24) -> #REF! | C838: =IF(#REF!=0,"",#REF!) -> #REF!
A839: =IF(#REF!=0,"",DATE(LEFT(((MID(#REF!,1,8))),4),MID(((MID(#REF!,1,8))),5,2),(RIGHT(((MID(#REF!,1,8))),2)))) -> #REF! | B839: =IF(#REF!=0,"",(MID(#REF!,10,8)*24+1)/24) -> #REF! | C839: =IF(#REF!=0,"",#REF!) -> #REF!
A840: =IF(#REF!=0,"",DATE(LEFT(((MID(#REF!,1,8))),4),MID(((MID(#REF!,1,8))),5,2),(RIGHT(((MID(#REF!,1,8))),2)))) -> #REF! | B840: =IF(#REF!=0,"",(MID(#REF!,10,8)*24+1)/24) -> #REF! | C840: =IF(#REF!=0,"",#REF!) -> #REF!
A841: =IF(#REF!=0,"",DATE(LEFT(((MID(#REF!,1,8))),4),MID(((MID(#REF!,1,8))),5,2),(RIGHT(((MID(#REF!,1,8))),2)))) -> #REF! | B841: =IF(#REF!=0,"",(MID(#REF!,10,8)*24+1)/24) -> #REF! | C841: =IF(#REF!=0,"",#REF!) -> #REF!
A842: =IF(#REF!=0,"",DATE(LEFT(((MID(#REF!,1,8))),4),MID(((MID(#REF!,1,8))),5,2),(RIGHT(((MID(#REF!,1,8))),2)))) -> #REF! | B842: =IF(#REF!=0,"",(MID(#REF!,10,8)*24+1)/24) -> #REF! | C842: =IF(#REF!=0,"",#REF!) -> #REF!
A843: =IF(#REF!=0,"",DATE(LEFT(((MID(#REF!,1,8))),4),MID(((MID(#REF!,1,8))),5,2),(RIGHT(((MID(#REF!,1,8))),2)))) -> #REF! | B843: =IF(#REF!=0,"",(MID(#REF!,10,8)*24+1)/24) -> #REF! | C843: =IF(#REF!=0,"",#REF!) -> #REF!
A844: =IF(#REF!=0,"",DATE(LEFT(((MID(#REF!,1,8))),4),MID(((MID(#REF!,1,8))),5,2),(RIGHT(((MID(#REF!,1,8))),2)))) -> #REF! | B844: =IF(#REF!=0,"",(MID(#REF!,10,8)*24+1)/24) -> #REF! | C844: =IF(#REF!=0,"",#REF!) -> #REF!
A845: =IF(#REF!=0,"",DATE(LEFT(((MID(#REF!,1,8))),4),MID(((MID(#REF!,1,8))),5,2),(RIGHT(((MID(#REF!,1,8))),2)))) -> #REF! | B845: =IF(#REF!=0,"",(MID(#REF!,10,8)*24+1)/24) -> #REF! | C845: =IF(#REF!=0,"",#REF!) -> #REF!
A846: =IF(#REF!=0,"",DATE(LEFT(((MID(#REF!,1,8))),4),MID(((MID(#REF!,1,8))),5,2),(RIGHT(((MID(#REF!,1,8))),2)))) -> #REF! | B846: =IF(#REF!=0,"",(MID(#REF!,10,8)*24+1)/24) -> #REF! | C846: =IF(#REF!=0,"",#REF!) -> #REF!
A847: =IF(#REF!=0,"",DATE(LEFT(((MID(#REF!,1,8))),4),MID(((MID(#REF!,1,8))),5,2),(RIGHT(((MID(#REF!,1,8))),2)))) -> #REF! | B847: =IF(#REF!=0,"",(MID(#REF!,10,8)*24+1)/24) -> #REF! | C847: =IF(#REF!=0,"",#REF!) -> #REF!
A848: =IF(#REF!=0,"",DATE(LEFT(((MID(#REF!,1,8))),4),MID(((MID(#REF!,1,8))),5,2),(RIGHT(((MID(#REF!,1,8))),2)))) -> #REF! | B848: =IF(#REF!=0,"",(MID(#REF!,10,8)*24+1)/24) -> #REF! | C848: =IF(#REF!=0,"",#REF!) -> #REF!
A849: =IF(#REF!=0,"",DATE(LEFT(((MID(#REF!,1,8))),4),MID(((MID(#REF!,1,8))),5,2),(RIGHT(((MID(#REF!,1,8))),2)))) -> #REF! | B849: =IF(#REF!=0,"",(MID(#REF!,10,8)*24+1)/24) -> #REF! | C849: =IF(#REF!=0,"",#REF!) -> #REF!
... A1941: =IF(#REF!=0,"",DATE(LEFT(((MID(#REF!,1,8))),4),MID(((MID(#REF!,1,8))),5,2),(RIGHT(((MID(#REF!,1,8))),2)))) -> #REF! | B1941: =IF(#REF!=0,"",(MID(#REF!,10,8)*24+1)/24) -> #REF! | C1941: =IF(#REF!=0,"",#REF!) -> #REF!

Sheet 16-03-2022
A1: ASR daily share purchase transaction details
A4: Date | B4: Time | C4: Volume | D4: Price | E4: Proceeds | F4: Exchange | H4: DAILY BUYBACK SUMMARY
A5: 44636 | B5: 44636.379 | C5: 141 | D5: 41.02 | E5: 5783.82 | F5: Euronext Amsterdam | H5: Exchange | I5: # shares purchased | J5: Amount purchased
A6: 44636 | B6: 44636.379 | C6: 168 | D6: 41.02 | E6: 6891.36 | F6: Euronext Amsterdam | H6: Euronext Amsterdam | I6: =SUMIF(F:F,$H$6,C:C) -> 31473 | J6: =SUMIF(F:F,$H$6,E:E) -> 1303465.2
A7: 44636 | B7: 44636.38 | C7: 24 | D7: 41.01 | E7: 984.24 | F7: Euronext Amsterdam | H7: Cboe DXE | I7: =SUMIF(F:F,$H$7,C:C) -> 0 | J7: =SUMIF(F:F,$H$7,E:E) -> 0
A8: 44636 | B8: 44636.38 | C8: 43 | D8: 41.01 | E8: 1763.43 | F8: Euronext Amsterdam | H8: Average price (rounded) | I8: =ROUND((J8/SUM(I6:I7)),4) -> 41.4153 | J8: =SUM(J6:J7) -> 1303465.2
A9: 44636 | B9: 44636.38 | C9: 95 | D9: 41.01 | E9: 3895.95 | F9: Euronext Amsterdam
A10: 44636 | B10: 44636.381 | C10: 139 | D10: 41.03 | E10: 5703.17 | F10: Euronext Amsterdam
A11: 44636 | B11: 44636.382 | C11: 158 | D11: 41.09 | E11: 6492.22 | F11: Euronext Amsterdam | H11: EXECUTING ENTITY | I11: ABN AMRO Bank N.V.
A12: 44636 | B12: 44636.383 | C12: 144 | D12: 41.01 | E12: 5905.44 | F12: Euronext Amsterdam | H12: STOCK NAME | I12: ASR Nederland N.V.
A13: 44636 | B13: 44636.383 | C13: 149 | D13: 40.98 | E13: 6106.02 | F13: Euronext Amsterdam | H13: ISIN CODE STOCK | I13: NL0011872643
A14: 44636 | B14: 44636.386 | C14: 157 | D14: 41.25 | E14: 6476.25 | F14: Euronext Amsterdam | H14: TIME REFERENCE USED | I14: GMT+1
A15: 44636 | B15: 44636.386 | C15: 142 | D15: 41.25 | E15: 5857.5 | F15: Euronext Amsterdam
A16: 44636 | B16: 44636.387 | C16: 174 | D16: 41.28 | E16: 7182.72 | F16: Euronext Amsterdam
A17: 44636 | B17: 44636.389 | C17: 158 | D17: 41.28 | E17: 6522.24 | F17: Euronext Amsterdam
A18: 44636 | B18: 44636.389 | C18: 147 | D18: 41.26 | E18: 6065.22 | F18: Euronext Amsterdam
A19: 44636 | B19: 44636.391 | C19: 143 | D19: 41.24 | E19: 5897.32 | F19: Euronext Amsterdam
A20: 44636 | B20: 44636.392 | C20: 18 | D20: 41.25 | E20: 742.5 | F20: Euronext Amsterdam
A21: 44636 | B21: 44636.392 | C21: 144 | D21: 41.25 | E21: 5940 | F21: Euronext Amsterdam
A22: 44636 | B22: 44636.395 | C22: 161 | D22: 41.05 | E22: 6609.05 | F22: Euronext Amsterdam
A23: 44636 | B23: 44636.395 | C23: 140 | D23: 41.06 | E23: 5748.4 | F23: Euronext Amsterdam
A24: 44636 | B24: 44636.396 | C24: 11 | D24: 41.07 | E24: 451.77 | F24: Euronext Amsterdam
A25: 44636 | B25: 44636.396 | C25: 139 | D25: 41.07 | E25: 5708.73 | F25: Euronext Amsterdam
A26: 44636 | B26: 44636.396 | C26: 11 | D26: 41.07 | E26: 451.77 | F26: Euronext Amsterdam
... A273: 44636 | B273: 44636.722 | C273: 271 | D273: 41.56 | E273: 11262.76 | F273: Euronext Amsterdam
A838: =IF(#REF!=0,"",DATE(LEFT(((MID(#REF!,1,8))),4),MID(((MID(#REF!,1,8))),5,2),(RIGHT(((MID(#REF!,1,8))),2)))) -> #REF! | B838: =IF(#REF!=0,"",(MID(#REF!,10,8)*24+1)/24) -> #REF! | C838: =IF(#REF!=0,"",#REF!) -> #REF!
A839: =IF(#REF!=0,"",DATE(LEFT(((MID(#REF!,1,8))),4),MID(((MID(#REF!,1,8))),5,2),(RIGHT(((MID(#REF!,1,8))),2)))) -> #REF! | B839: =IF(#REF!=0,"",(MID(#REF!,10,8)*24+1)/24) -> #REF! | C839: =IF(#REF!=0,"",#REF!) -> #REF!
A840: =IF(#REF!=0,"",DATE(LEFT(((MID(#REF!,1,8))),4),MID(((MID(#REF!,1,8))),5,2),(RIGHT(((MID(#REF!,1,8))),2)))) -> #REF! | B840: =IF(#REF!=0,"",(MID(#REF!,10,8)*24+1)/24) -> #REF! | C840: =IF(#REF!=0,"",#REF!) -> #REF!
A841: =IF(#REF!=0,"",DATE(LEFT(((MID(#REF!,1,8))),4),MID(((MID(#REF!,1,8))),5,2),(RIGHT(((MID(#REF!,1,8))),2)))) -> #REF! | B841: =IF(#REF!=0,"",(MID(#REF!,10,8)*24+1)/24) -> #REF! | C841: =IF(#REF!=0,"",#REF!) -> #REF!
A842: =IF(#REF!=0,"",DATE(LEFT(((MID(#REF!,1,8))),4),MID(((MID(#REF!,1,8))),5,2),(RIGHT(((MID(#REF!,1,8))),2)))) -> #REF! | B842: =IF(#REF!=0,"",(MID(#REF!,10,8)*24+1)/24) -> #REF! | C842: =IF(#REF!=0,"",#REF!) -> #REF!
A843: =IF(#REF!=0,"",DATE(LEFT(((MID(#REF!,1,8))),4),MID(((MID(#REF!,1,8))),5,2),(RIGHT(((MID(#REF!,1,8))),2)))) -> #REF! | B843: =IF(#REF!=0,"",(MID(#REF!,10,8)*24+1)/24) -> #REF! | C843: =IF(#REF!=0,"",#REF!) -> #REF!
A844: =IF(#REF!=0,"",DATE(LEFT(((MID(#REF!,1,8))),4),MID(((MID(#REF!,1,8))),5,2),(RIGHT(((MID(#REF!,1,8))),2)))) -> #REF! | B844: =IF(#REF!=0,"",(MID(#REF!,10,8)*24+1)/24) -> #REF! | C844: =IF(#REF!=0,"",#REF!) -> #REF!
A845: =IF(#REF!=0,"",DATE(LEFT(((MID(#REF!,1,8))),4),MID(((MID(#REF!,1,8))),5,2),(RIGHT(((MID(#REF!,1,8))),2)))) -> #REF! | B845: =IF(#REF!=0,"",(MID(#REF!,10,8)*24+1)/24) -> #REF! | C845: =IF(#REF!=0,"",#REF!) -> #REF!
A846: =IF(#REF!=0,"",DATE(LEFT(((MID(#REF!,1,8))),4),MID(((MID(#REF!,1,8))),5,2),(RIGHT(((MID(#REF!,1,8))),2)))) -> #REF! | B846: =IF(#REF!=0,"",(MID(#REF!,10,8)*24+1)/24) -> #REF! | C846: =IF(#REF!=0,"",#REF!) -> #REF!
A847: =IF(#REF!=0,"",DATE(LEFT(((MID(#REF!,1,8))),4),MID(((MID(#REF!,1,8))),5,2),(RIGHT(((MID(#REF!,1,8))),2)))) -> #REF! | B847: =IF(#REF!=0,"",(MID(#REF!,10,8)*24+1)/24) -> #REF! | C847: =IF(#REF!=0,"",#REF!) -> #REF!
A848: =IF(#REF!=0,"",DATE(LEFT(((MID(#REF!,1,8))),4),MID(((MID(#REF!,1,8))),5,2),(RIGHT(((MID(#REF!,1,8))),2)))) -> #REF! | B848: =IF(#REF!=0,"",(MID(#REF!,10,8)*24+1)/24) -> #REF! | C848: =IF(#REF!=0,"",#REF!) -> #REF!
A849: =IF(#REF!=0,"",DATE(LEFT(((MID(#REF!,1,8))),4),MID(((MID(#REF!,1,8))),5,2),(RIGHT(((MID(#REF!,1,8))),2)))) -> #REF! | B849: =IF(#REF!=0,"",(MID(#REF!,10,8)*24+1)/24) -> #REF! | C849: =IF(#REF!=0,"",#REF!) -> #REF!
... A1941: =IF(#REF!=0,"",DATE(LEFT(((MID(#REF!,1,8))),4),MID(((MID(#REF!,1,8))),5,2),(RIGHT(((MID(#REF!,1,8))),2)))) -> #REF! | B1941: =IF(#REF!=0,"",(MID(#REF!,10,8)*24+1)/24) -> #REF! | C1941: =IF(#REF!=0,"",#REF!) -> #REF!

Sheet 15-03-2022
A1: ASR daily share purchase transaction details
A4: Date | B4: Time | C4: Volume | D4: Price | E4: Proceeds | F4: Exchange | H4: DAILY BUYBACK SUMMARY
A5: 44635 | B5: 44635.379 | C5: 146 | D5: 39.86 | E5: 5819.56 | F5: Euronext Amsterdam | H5: Exchange | I5: # shares purchased | J5: Amount purchased
A6: 44635 | B6: 44635.38 | C6: 158 | D6: 40.04 | E6: 6326.32 | F6: Euronext Amsterdam | H6: Euronext Amsterdam | I6: =SUMIF(F:F,$H$6,C:C) -> 32119 | J6: =SUMIF(F:F,$H$6,E:E) -> 1281498
A7: 44635 | B7: 44635.38 | C7: 141 | D7: 40.04 | E7: 5645.64 | F7: Euronext Amsterdam | H7: Cboe DXE | I7: =SUMIF(F:F,$H$7,C:C) -> 0 | J7: =SUMIF(F:F,$H$7,E:E) -> 0
A8: 44635 | B8: 44635.38 | C8: 163 | D8: 40.05 | E8: 6528.15 | F8: Euronext Amsterdam | H8: Average price (rounded) | I8: =ROUND((J8/SUM(I6:I7)),4) -> 39.8984 | J8: =SUM(J6:J7) -> 1281498
A9: 44635 | B9: 44635.381 | C9: 156 | D9: 39.98 | E9: 6236.88 | F9: Euronext Amsterdam
A10: 44635 | B10: 44635.382 | C10: 158 | D10: 39.89 | E10: 6302.62 | F10: Euronext Amsterdam
A11: 44635 | B11: 44635.383 | C11: 161 | D11: 39.67 | E11: 6386.87 | F11: Euronext Amsterdam | H11: EXECUTING ENTITY | I11: ABN AMRO Bank N.V.
A12: 44635 | B12: 44635.385 | C12: 180 | D12: 39.74 | E12: 7153.2 | F12: Euronext Amsterdam | H12: STOCK NAME | I12: ASR Nederland N.V.
A13: 44635 | B13: 44635.386 | C13: 17 | D13: 39.64 | E13: 673.88 | F13: Euronext Amsterdam | H13: ISIN CODE STOCK | I13: NL0011872643
A14: 44635 | B14: 44635.386 | C14: 80 | D14: 39.64 | E14: 3171.2 | F14: Euronext Amsterdam | H14: TIME REFERENCE USED | I14: GMT+1
A15: 44635 | B15: 44635.386 | C15: 57 | D15: 39.64 | E15: 2259.48 | F15: Euronext Amsterdam
A16: 44635 | B16: 44635.387 | C16: 152 | D16: 39.61 | E16: 6020.72 | F16: Euronext Amsterdam
A17: 44635 | B17: 44635.388 | C17: 147 | D17: 39.61 | E17: 5822.67 | F17: Euronext Amsterdam
A18: 44635 | B18: 44635.389 | C18: 159 | D18: 39.55 | E18: 6288.45 | F18: Euronext Amsterdam
A19: 44635 | B19: 44635.389 | C19: 1 | D19: 39.55 | E19: 39.55 | F19: Euronext Amsterdam
A20: 44635 | B20: 44635.39 | C20: 143 | D20: 39.68 | E20: 5674.24 | F20: Euronext Amsterdam
A21: 44635 | B21: 44635.393 | C21: 157 | D21: 39.74 | E21: 6239.18 | F21: Euronext Amsterdam
A22: 44635 | B22: 44635.393 | C22: 166 | D22: 39.74 | E22: 6596.84 | F22: Euronext Amsterdam
A23: 44635 | B23: 44635.394 | C23: 26 | D23: 39.67 | E23: 1031.42 | F23: Euronext Amsterdam
A24: 44635 | B24: 44635.394 | C24: 57 | D24: 39.67 | E24: 2261.19 | F24: Euronext Amsterdam
A25: 44635 | B25: 44635.395 | C25: 53 | D25: 39.7 | E25: 2104.1 | F25: Euronext Amsterdam
A26: 44635 | B26: 44635.395 | C26: 94 | D26: 39.7 | E26: 3731.8 | F26: Euronext Amsterdam
... A301: 44635 | B301: 44635.725 | C301: 30 | D301: 40.16 | E301: 1204.8 | F301: Euronext Amsterdam
A838: =IF(#REF!=0,"",DATE(LEFT(((MID(#REF!,1,8))),4),MID(((MID(#REF!,1,8))),5,2),(RIGHT(((MID(#REF!,1,8))),2)))) -> #REF! | B838: =IF(#REF!=0,"",(MID(#REF!,10,8)*24+1)/24) -> #REF! | C838: =IF(#REF!=0,"",#REF!) -> #REF!
A839: =IF(#REF!=0,"",DATE(LEFT(((MID(#REF!,1,8))),4),MID(((MID(#REF!,1,8))),5,2),(RIGHT(((MID(#REF!,1,8))),2)))) -> #REF! | B839: =IF(#REF!=0,"",(MID(#REF!,10,8)*24+1)/24) -> #REF! | C839: =IF(#REF!=0,"",#REF!) -> #REF!
A840: =IF(#REF!=0,"",DATE(LEFT(((MID(#REF!,1,8))),4),MID(((MID(#REF!,1,8))),5,2),(RIGHT(((MID(#REF!,1,8))),2)))) -> #REF! | B840: =IF(#REF!=0,"",(MID(#REF!,10,8)*24+1)/24) -> #REF! | C840: =IF(#REF!=0,"",#REF!) -> #REF!
A841: =IF(#REF!=0,"",DATE(LEFT(((MID(#REF!,1,8))),4),MID(((MID(#REF!,1,8))),5,2),(RIGHT(((MID(#REF!,1,8))),2)))) -> #REF! | B841: =IF(#REF!=0,"",(MID(#REF!,10,8)*24+1)/24) -> #REF! | C841: =IF(#REF!=0,"",#REF!) -> #REF!
A842: =IF(#REF!=0,"",DATE(LEFT(((MID(#REF!,1,8))),4),MID(((MID(#REF!,1,8))),5,2),(RIGHT(((MID(#REF!,1,8))),2)))) -> #REF! | B842: =IF(#REF!=0,"",(MID(#REF!,10,8)*24+1)/24) -> #REF! | C842: =IF(#REF!=0,"",#REF!) -> #REF!
A843: =IF(#REF!=0,"",DATE(LEFT(((MID(#REF!,1,8))),4),MID(((MID(#REF!,1,8))),5,2),(RIGHT(((MID(#REF!,1,8))),2)))) -> #REF! | B843: =IF(#REF!=0,"",(MID(#REF!,10,8)*24+1)/24) -> #REF! | C843: =IF(#REF!=0,"",#REF!) -> #REF!
A844: =IF(#REF!=0,"",DATE(LEFT(((MID(#REF!,1,8))),4),MID(((MID(#REF!,1,8))),5,2),(RIGHT(((MID(#REF!,1,8))),2)))) -> #REF! | B844: =IF(#REF!=0,"",(MID(#REF!,10,8)*24+1)/24) -> #REF! | C844: =IF(#REF!=0,"",#REF!) -> #REF!
A845: =IF(#REF!=0,"",DATE(LEFT(((MID(#REF!,1,8))),4),MID(((MID(#REF!,1,8))),5,2),(RIGHT(((MID(#REF!,1,8))),2)))) -> #REF! | B845: =IF(#REF!=0,"",(MID(#REF!,10,8)*24+1)/24) -> #REF! | C845: =IF(#REF!=0,"",#REF!) -> #REF!
A846: =IF(#REF!=0,"",DATE(LEFT(((MID(#REF!,1,8))),4),MID(((MID(#REF!,1,8))),5,2),(RIGHT(((MID(#REF!,1,8))),2)))) -> #REF! | B846: =IF(#REF!=0,"",(MID(#REF!,10,8)*24+1)/24) -> #REF! | C846: =IF(#REF!=0,"",#REF!) -> #REF!
A847: =IF(#REF!=0,"",DATE(LEFT(((MID(#REF!,1,8))),4),MID(((MID(#REF!,1,8))),5,2),(RIGHT(((MID(#REF!,1,8))),2)))) -> #REF! | B847: =IF(#REF!=0,"",(MID(#REF!,10,8)*24+1)/24) -> #REF! | C847: =IF(#REF!=0,"",#REF!) -> #REF!
