Workbook

Sheet ASR - share buyback
B8: ASR Nederland N.V. share buyback program
B10: Share buyback details
B11: Share buyback program | E11: 75000000
B12: Start date | E12: 44616
B13: Percentage of programme completed | E13: =E18/E11 -> 0.35486158
G15: Euronext Amsterdam | K15: Cboe DXE
B16: Trade date | C16: Number of shares repurchased | D16: Average purchase price | E16: Settlement amount | G16: Number of shares repurchased | H16: Average purchase price | I16: Settlement amount | K16: Number of shares repurchased | L16: Average purchase price | M16: Settlement amount
B18: Total | C18: =C20+C24+C31+C38+C45+C52+C59+C66+C73+C80+C87+C94+C101 -> 685647 | D18: =E18/C18 -> 38.816794 | E18: =E20+E24+E31+E38+E45+E52+E59+E66+E73+E80+E87+E94+E101 -> 26614619 | G18: =G20+G24+G31+G38+G45+G52+G59+G66+G73+G80+G87+G94+G101 -> 1181327 | H18: =I18/G18 -> 22.529425 | I18: =I20+I24+I31+I38+I45+I52+I59+I66+I73+I80+I87+I94+I101 -> 26614619 | K18: =K20+K24+K31+K38+K45+K52+K59+K66+K73+K80+K87+K94+K101 -> 0 | L18: =IF(K18=0," ",M18/K18) | M18: =M20+M24+M31+M38+M45+M52+M59+M66+M73+M80+M87+M94+M101 -> 0
B20: Total 25 Feb | C20: =SUM(C21:C22) -> 70175 | D20: =IF(C20=0," ",E20/C20) -> 38.96087 | E20: =SUM(E21:E22) -> 2734079 | G20: =SUM(G21:G22) -> 70175 | H20: =IF(G20=0," ",I20/G20) -> 38.96087 | I20: =SUM(I21:I22) -> 2734079 | K20: =SUM(K21:K22) -> 0 | L20: =IF(K20=0," ",M20/K20) | M20: =SUM(M21:M22) -> 0
B21: 44616 | C21: =G21+K21 -> 35275 | D21: ='24-02-2022'!$I$8 -> 39.0669 | E21: =IF(C21=0," ",D21*C21) -> 1378084.9 | G21: ='24-02-2022'!$I$6 -> 35275 | H21: ='24-02-2022'!$I$8 -> 39.0669 | I21: =IF(G21=0," ",H21*G21) -> 1378084.9 | K21: ='24-02-2022'!$I$7 -> 0 | L21: 0 | M21: =IF(K21=0," ",L21*K21)
B22: 44617 | C22: =G22+K22 -> 34900 | D22: ='25-02-2022'!$I$8 -> 38.8537 | E22: =IF(C22=0," ",D22*C22) -> 1355994.1 | G22: ='25-02-2022'!$I$6 -> 34900 | H22: ='25-02-2022'!$I$8 -> 38.8537 | I22: =IF(G22=0," ",H22*G22) -> 1355994.1 | K22: ='25-02-2022'!$I$7 -> 0 | L22: 0 | M22: =IF(K22=0," ",L22*K22)
B24: Total 4 Mar | C24: =SUM(C25:C29) -> 179614 | D24: =IF(C24=0," ",E24/C24) -> 37.387386 | E24: =SUM(E25:E29) -> 6715297.9 | G24: =SUM(G25:G29) -> 179614 | H24: =IF(G24=0," ",I24/G24) -> 37.387386 | I24: =SUM(I25:I29) -> 6715297.9 | K24: =SUM(K25:K29) -> 0 | L24: =IF(K24=0," ",M24/K24) | M24: =SUM(M25:M29) -> 0
B25: 44620 | C25: =G25+K25 -> 34728 | D25: ='28-02-2022'!$I$8 -> 38.2864 | E25: =IF(C25=0," ",D25*C25) -> 1329610.1 | G25: ='28-02-2022'!$I$6 -> 34728 | H25: ='28-02-2022'!$I$8 -> 38.2864 | I25: =IF(G25=0," ",H25*G25) -> 1329610.1 | K25: ='28-02-2022'!$I$7 -> 0 | L25: 0 | M25: =IF(K25=0," ",L25*K25)
B26: 44621 | C26: =G26+K26 -> 36314 | D26: ='01-03-2022'!$I$8 -> 37.6845 | E26: =IF(C26=0," ",D26*C26) -> 1368474.9 | G26: ='01-03-2022'!$I$6 -> 36314 | H26: ='01-03-2022'!$I$8 -> 37.6845 | I26: =IF(G26=0," ",H26*G26) -> 1368474.9 | K26: ='01-03-2022'!$I$7 -> 0 | L26: 0 | M26: =IF(K26=0," ",L26*K26)
B27: 44622 | C27: =G27+K27 -> 35500 | D27: ='02-03-2022'!$I$8 -> 37.2228 | E27: =IF(C27=0," ",D27*C27) -> 1321409.4 | G27: ='02-03-2022'!$I$6 -> 35500 | H27: ='02-03-2022'!$I$8 -> 37.2228 | I27: =IF(G27=0," ",H27*G27) -> 1321409.4 | K27: ='02-03-2022'!$I$7 -> 0 | L27: 0 | M27: =IF(K27=0," ",L27*K27)
B28: 44623 | C28: =G28+K28 -> 35572 | D28: ='03-03-2022'!$I$8 -> 37.7841 | E28: =IF(C28=0," ",D28*C28) -> 1344056 | G28: ='03-03-2022'!$I$6 -> 35572 | H28: ='03-03-2022'!$I$8 -> 37.7841 | I28: =IF(G28=0," ",H28*G28) -> 1344056 | K28: ='03-03-2022'!$I$7 -> 0 | L28: 0 | M28: =IF(K28=0," ",L28*K28)
B29: 44624 | C29: =G29+K29 -> 37500 | D29: ='04-03-2022'!$I$8 -> 36.0466 | E29: =IF(C29=0," ",D29*C29) -> 1351747.5 | G29: ='04-03-2022'!$I$6 -> 37500 | H29: ='04-03-2022'!$I$8 -> 36.0466 | I29: =IF(G29=0," ",H29*G29) -> 1351747.5 | K29: ='04-03-2022'!$I$7 -> 0 | L29: 0 | M29: =IF(K29=0," ",L29*K29)
B31: Total 11 Mar | C31: =SUM(C32:C36) -> 188018 | D31: =IF(C31=0," ",E31/C31) -> 36.852619 | E31: =SUM(E32:E36) -> 6928955.8 | G31: =SUM(G32:G106) -> 683698 | H31: =IF(G31=0," ",I31/G31) -> 10.134527 | I31: =SUM(I32:I36) -> 6928955.8 | K31: =SUM(K32:K36) -> 0 | L31: =IF(K31=0," ",M31/K31) | M31: =SUM(M32:M36) -> 0
B32: 44627 | C32: =G32+K32 -> 42000 | D32: ='07-03-2022'!$I$8 -> 34.329 | E32: =IF(C32=0," ",D32*C32) -> 1441818 | G32: ='07-03-2022'!$I$6 -> 42000 | H32: ='07-03-2022'!$I$8 -> 34.329 | I32: =IF(G32=0," ",H32*G32) -> 1441818 | K32: ='07-03-2022'!$I$7 -> 0 | L32: 0 | M32: =IF(K32=0," ",L32*K32)
B33: 44628 | C33: =G33+K33 -> 40000 | D33: ='08-03-2022'!$I$8 -> 36.2829 | E33: =IF(C33=0," ",D33*C33) -> 1451316 | G33: ='08-03-2022'!$I$6 -> 40000 | H33: ='08-03-2022'!$I$8 -> 36.2829 | I33: =IF(G33=0," ",H33*G33) -> 1451316 | K33: ='08-03-2022'!$I$7 -> 0 | L33: 0 | M33: =IF(K33=0," ",L33*K33)
B34: 44629 | C34: =G34+K34 -> 35322 | D34: ='09-03-2022'!$I$8 -> 37.8801 | E34: =IF(C34=0," ",D34*C34) -> 1338000.9 | G34: ='09-03-2022'!$I$6 -> 35322 | H34: ='09-03-2022'!$I$8 -> 37.8801 | I34: =IF(G34=0," ",H34*G34) -> 1338000.9 | K34: ='09-03-2022'!$I$7 -> 0 | L34: 0 | M34: =IF(K34=0," ",L34*K34)
B35: 44630 | C35: =G35+K35 -> 35526 | D35: ='10-03-2022'!$I$8 -> 37.9278 | E35: =IF(C35=0," ",D35*C35) -> 1347423 | G35: ='10-03-2022'!$I$6 -> 35526 | H35: ='10-03-2022'!$I$8 -> 37.9278 | I35: =IF(G35=0," ",H35*G35) -> 1347423 | K35: ='10-03-2022'!$I$7 -> 0 | L35: 0 | M35: =IF(K35=0," ",L35*K35)
B36: 44631 | C36: =G36+K36 -> 35170 | D36: ='11-03-2022'!$I$8 -> 38.3963 | E36: =IF(C36=0," ",D36*C36) -> 1350397.9 | G36: ='11-03-2022'!$I$6 -> 35170 | H36: ='11-03-2022'!$I$8 -> 38.3963 | I36: =IF(G36=0," ",H36*G36) -> 1350397.9 | K36: ='11-03-2022'!$I$7 -> 0 | L36: 0 | M36: =IF(K36=0," ",L36*K36)
B38: Total 18 Mar | C38: =SUM(C39:C43) -> 158718 | D38: =IF(C38=0," ",E38/C38) -> 40.833217 | E38: =SUM(E39:E43) -> 6480966.5 | G38: =SUM(G39:G43) -> 158718 | H38: =IF(G38=0," ",I38/G38) -> 40.833217 | I38: =SUM(I39:I43) -> 6480966.5 | K38: =SUM(K39:K43) -> 0 | L38: =IF(K38=0," ",M38/K38) | M38: =SUM(M39:M43) -> 0
B39: 44634 | C39: =G39+K39 -> 32229 | D39: ='14-03-2022'!$I$8 -> 39.9641 | E39: =IF(C39=0," ",D39*C39) -> 1288003 | G39: ='14-03-2022'!$I$6 -> 32229 | H39: ='14-03-2022'!$I$8 -> 39.9641 | I39: =IF(G39=0," ",H39*G39) -> 1288003 | K39: ='14-03-2022'!$I$7 -> 0 | L39: 0 | M39: =IF(K39=0," ",L39*K39)
B40: 44635 | C40: =G40+K40 -> 32119 | D40: ='15-03-2022'!$I$8 -> 39.8984 | E40: =IF(C40=0," ",D40*C40) -> 1281496.7 | G40: ='15-03-2022'!$I$6 -> 32119 | H40: ='15-03-2022'!$I$8 -> 39.8984 | I40: =IF(G40=0," ",H40*G40) -> 1281496.7 | K40: ='15-03-2022'!$I$7 -> 0 | L40: 0 | M40: =IF(K40=0," ",L40*K40)
B41: 44636 | C41: =G41+K41 -> 31473 | D41: ='16-03-2022'!$I$8 -> 41.4153 | E41: =IF(C41=0," ",D41*C41) -> 1303463.7 | G41: ='16-03-2022'!$I$6 -> 31473 | H41: ='16-03-2022'!$I$8 -> 41.4153 | I41: =IF(G41=0," ",H41*G41) -> 1303463.7 | K41: ='16-03-2022'!$I$7 -> 0 | L41: 0 | M41: =IF(K41=0," ",L41*K41)
B42: 44637 | C42: =G42+K42 -> 31764 | D42: ='17-03-2022'!$I$8 -> 41.3872 | E42: =IF(C42=0," ",D42*C42) -> 1314623 | G42: ='17-03-2022'!$I$6 -> 31764 | H42: ='17-03-2022'!$I$8 -> 41.3872 | I42: =IF(G42=0," ",H42*G42) -> 1314623 | K42: ='17-03-2022'!$I$7 -> 0 | L42: 0 | M42: =IF(K42=0," ",L42*K42)
B43: 44638 | C43: =G43+K43 -> 31133 | D43: ='18-03-2022'!$I$8 -> 41.5437 | E43: =IF(C43=0," ",D43*C43) -> 1293380 | G43: ='18-03-2022'!$I$6 -> 31133 | H43: ='18-03-2022'!$I$8 -> 41.5437 | I43: =IF(G43=0," ",H43*G43) -> 1293380 | K43: ='18-03-2022'!$I$7 -> 0 | L43: 0 | M43: =IF(K43=0," ",L43*K43)
B45: Total 25 Mar | C45: =SUM(C46:C50) -> 89122 | D45: =IF(C45=0," ",E45/C45) -> 42.136839 | E45: =SUM(E46:E50) -> 3755319.3 | G45: =SUM(G46:G50) -> 89122 | H45: =IF(G45=0," ",I45/G45) -> 42.136839 | I45: =SUM(I46:I50) -> 3755319.3 | K45: =SUM(K46:K50) -> 0 | L45: =IF(K45=0," ",M45/K45) | M45: =SUM(M46:M50) -> 0
B46: 44641 | C46: =G46+K46 -> 13623 | D46: ='21-03-2022'!$I$8 -> 41.8002 | E46: =IF(C46=0," ",D46*C46) -> 569444.12 | G46: ='21-03-2022'!$I$6 -> 13623 | H46: ='21-03-2022'!$I$8 -> 41.8002 | I46: =IF(G46=0," ",H46*G46) -> 569444.12 | K46: ='21-03-2022'!$I$7 -> 0 | L46: 0 | M46: =IF(K46=0," ",L46*K46)
B47: 44642 | C47: =G47+K47 -> 13320 | D47: ='22-03-2022'!$I$8 -> 42.6975 | E47: =IF(C47=0," ",D47*C47) -> 568730.7 | G47: ='22-03-2022'!$I$6 -> 13320 | H47: ='22-03-2022'!$I$8 -> 42.6975 | I47: =IF(G47=0," ",H47*G47) -> 568730.7 | K47: ='22-03-2022'!$I$7 -> 0 | L47: 0 | M47: =IF(K47=0," ",L47*K47)
B48: 44643 | C48: =G48+K48 -> 13659 | D48: ='23-03-2022'!$I$8 -> 42.6988 | E48: =IF(C48=0," ",D48*C48) -> 583222.91 | G48: ='23-03-2022'!$I$6 -> 13659 | H48: ='23-03-2022'!$I$8 -> 42.6988 | I48: =IF(G48=0," ",H48*G48) -> 583222.91 | K48: ='23-03-2022'!$I$7 -> 0 | L48: 0 | M48: =IF(K48=0," ",L48*K48)
B49: 44644 | C49: =G49+K49 -> 19500 | D49: ='24-03-2022'!$I$8 -> 42.2793 | E49: =IF(C49=0," ",D49*C49) -> 824446.35 | G49: ='24-03-2022'!$I$6 -> 19500 | H49: ='24-03-2022'!$I$8 -> 42.2793 | I49: =IF(G49=0," ",H49*G49) -> 824446.35 | K49: ='24-03-2022'!$I$7 -> 0 | L49: 0 | M49: =IF(K49=0," ",L49*K49)
B50: 44645 | C50: =G50+K50 -> 29020 | D50: ='25-03-2022'!$I$8 -> 41.6773 | E50: =IF(C50=0," ",D50*C50) -> 1209475.2 | G50: ='25-03-2022'!$I$6 -> 29020 | H50: ='25-03-2022'!$I$8 -> 41.6773 | I50: =IF(G50=0," ",H50*G50) -> 1209475.2 | K50: ='25-03-2022'!$I$7 -> 0 | L50: 0 | M50: =IF(K50=0," ",L50*K50)
B52: Total 1 Apr | C52: =SUM(C53:C57) -> 0 | D52: =IF(C52=0," ",E52/C52) | E52: =SUM(E53:E57) -> 0 | G52: =SUM(G53:G54) -> 0 | H52: =IF(G52=0," ",I52/G52) | I52: =SUM(I53:I54) -> 0 | K52: =SUM(K53:K57) -> 0 | L52: =IF(K52=0," ",M52/K52) | M52: =SUM(M53:M57) -> 0
B53: 44648
B54: 44649
B55: 44650
B56: 44651
B57: 44652
B59: Total 8 Apr | C59: =SUM(C60:C64) -> 0 | D59: =IF(C59=0," ",E59/C59) | E59: =SUM(E60:E64) -> 0 | G59: =SUM(G60:G61) -> 0 | H59: =IF(G59=0," ",I59/G59) | I59: =SUM(I60:I61) -> 0 | K59: =SUM(K60:K64) -> 0 | L59: =IF(K59=0," ",M59/K59) | M59: =SUM(M60:M64) -> 0
B60: 44655
B61: 44656
B62: 44657
B63: 44658
B64: 44659
B66: Total 15 Apr | C66: =SUM(C67:C71) -> 0 | D66: =IF(C66=0," ",E66/C66) | E66: =SUM(E67:E71) -> 0 | G66: =SUM(G67:G68) -> 0 | H66: =IF(G66=0," ",I66/G66) | I66: =SUM(I67:I68) -> 0 | K66: =SUM(K67:K71) -> 0 | L66: =IF(K66=0," ",M66/K66) | M66: =SUM(M67:M71) -> 0
B67: 44662
B68: 44663
B69: 44664
B70: 44665
B71: 44666
B73: Total 22 Apr | C73: =SUM(C74:C78) -> 0 | D73: =IF(C73=0," ",E73/C73) | E73: =SUM(E74:E78) -> 0 | G73: =SUM(G74:G75) -> 0 | H73: =IF(G73=0," ",I73/G73) | I73: =SUM(I74:I75) -> 0 | K73: =SUM(K74:K78) -> 0 | L73: =IF(K73=0," ",M73/K73) | M73: =SUM(M74:M78) -> 0
B74: 44669
B75: 44670
B76: 44671
B77: 44672
B78: 44673
B80: Total 29 Apr | C80: =SUM(C81:C85) -> 0 | D80: =IF(C80=0," ",E80/C80) | E80: =SUM(E81:E85) -> 0 | G80: =SUM(G81:G82) -> 0 | H80: =IF(G80=0," ",I80/G80) | I80: =SUM(I81:I82) -> 0 | K80: =SUM(K81:K85) -> 0 | L80: =IF(K80=0," ",M80/K80) | M80: =SUM(M81:M85) -> 0
B81: 44676
B82: 44677
B83: 44678
B84: 44679
B85: 44680
B87: Total 6 May | C87: =SUM(C88:C92) -> 0 | D87: =IF(C87=0," ",E87/C87) | E87: =SUM(E88:E92) -> 0 | G87: =SUM(G88:G89) -> 0 | H87: =IF(G87=0," ",I87/G87) | I87: =SUM(I88:I89) -> 0 | K87: =SUM(K88:K92) -> 0 | L87: =IF(K87=0," ",M87/K87) | M87: =SUM(M88:M92) -> 0
B88: 44683
B89: 44684
B90: 44685
B91: 44686
B92: 44687
B94: Total 13 May | C94: =SUM(C95:C99) -> 0 | D94: =IF(C94=0," ",E94/C94) | E94: =SUM(E95:E99) -> 0 | G94: =SUM(G95:G96) -> 0 | H94: =IF(G94=0," ",I94/G94) | I94: =SUM(I95:I96) -> 0 | K94: =SUM(K95:K99) -> 0 | L94: =IF(K94=0," ",M94/K94) | M94: =SUM(M95:M99) -> 0
B95: 44690
B96: 44691
B97: 44692
B98: 44693
B99: 44694
B101: Total 20 May | C101: =SUM(C102:C106) -> 0 | D101: =IF(C101=0," ",E101/C101) | E101: =SUM(E102:E106) -> 0 | G101: =SUM(G102:G103) -> 0 | H101: =IF(G101=0," ",I101/G101) | I101: =SUM(I102:I103) -> 0 | K101: =SUM(K102:K106) -> 0 | L101: =IF(K101=0," ",M101/K101) | M101: =SUM(M102:M106) -> 0
B102: 44697
B103: 44698
B104: 44699
B105: 44700
B106: 44701

Sheet 25-03-2022
A1: ASR daily share purchase transaction details
A4: Date | B4: Time | C4: Volume | D4: Price | E4: Proceeds | F4: Exchange | H4: DAILY BUYBACK SUMMARY
A5: 44645 | B5: 44645.378 | C5: 8 | D5: 42.06 | E5: 336.48 | F5: Euronext Amsterdam | H5: Exchange | I5: # shares purchased | J5: Amount purchased
A6: 44645 | B6: 44645.378 | C6: 26 | D6: 42.06 | E6: 1093.56 | F6: Euronext Amsterdam | H6: Euronext Amsterdam | I6: =SUMIF(F:F,$H$6,C:C) -> 29020 | J6: =SUMIF(F:F,$H$6,E:E) -> 1209474.4
A7: 44645 | B7: 44645.379 | C7: 36 | D7: 41.98 | E7: 1511.28 | F7: Euronext Amsterdam | H7: Cboe DXE | I7: =SUMIF(F:F,$H$7,C:C) -> 0 | J7: =SUMIF(F:F,$H$7,E:E) -> 0
A8: 44645 | B8: 44645.379 | C8: 18 | D8: 41.98 | E8: 755.64 | F8: Euronext Amsterdam | H8: Average price (rounded) | I8: =ROUND((J8/SUM(I6:I7)),4) -> 41.6773 | J8: =SUM(J6:J7) -> 1209474.4
A9: 44645 | B9: 44645.379 | C9: 35 | D9: 41.98 | E9: 1469.3 | F9: Euronext Amsterdam
A10: 44645 | B10: 44645.379 | C10: 54 | D10: 41.98 | E10: 2266.92 | F10: Euronext Amsterdam
A11: 44645 | B11: 44645.38 | C11: 146 | D11: 41.93 | E11: 6121.78 | F11: Euronext Amsterdam | H11: EXECUTING ENTITY | I11: ABN AMRO Bank N.V.
A12: 44645 | B12: 44645.385 | C12: 152 | D12: 41.92 | E12: 6371.84 | F12: Euronext Amsterdam | H12: STOCK NAME | I12: ASR Nederland N.V.
A13: 44645 | B13: 44645.386 | C13: 136 | D13: 41.89 | E13: 5697.04 | F13: Euronext Amsterdam | H13: ISIN CODE STOCK | I13: NL0011872643
A14: 44645 | B14: 44645.386 | C14: 109 | D14: 41.9 | E14: 4567.1 | F14: Euronext Amsterdam | H14: TIME REFERENCE USED | I14: GMT+1
A15: 44645 | B15: 44645.386 | C15: 137 | D15: 41.9 | E15: 5740.3 | F15: Euronext Amsterdam
A16: 44645 | B16: 44645.386 | C16: 27 | D16: 41.9 | E16: 1131.3 | F16: Euronext Amsterdam
A17: 44645 | B17: 44645.389 | C17: 137 | D17: 42.05 | E17: 5760.85 | F17: Euronext Amsterdam
A18: 44645 | B18: 44645.392 | C18: 144 | D18: 42.15 | E18: 6069.6 | F18: Euronext Amsterdam
A19: 44645 | B19: 44645.395 | C19: 156 | D19: 42.15 | E19: 6575.4 | F19: Euronext Amsterdam
A20: 44645 | B20: 44645.395 | C20: 16 | D20: 42.15 | E20: 674.4 | F20: Euronext Amsterdam
A21: 44645 | B21: 44645.395 | C21: 169 | D21: 42.16 | E21: 7125.04 | F21: Euronext Amsterdam
A22: 44645 | B22: 44645.398 | C22: 47 | D22: 42.06 | E22: 1976.82 | F22: Euronext Amsterdam
A23: 44645 | B23: 44645.398 | C23: 27 | D23: 42.06 | E23: 1135.62 | F23: Euronext Amsterdam
A24: 44645 | B24: 44645.398 | C24: 68 | D24: 42.06 | E24: 2860.08 | F24: Euronext Amsterdam
A25: 44645 | B25: 44645.401 | C25: 49 | D25: 42.03 | E25: 2059.47 | F25: Euronext Amsterdam
A26: 44645 | B26: 44645.401 | C26: 106 | D26: 42.03 | E26: 4455.18 | F26: Euronext Amsterdam
... A267: 44645 | B267: 44645.721 | C267: 52 | D267: 41.65 | E267: 2165.8 | F267: Euronext Amsterdam
A838: =IF(#REF!=0,"",DATE(LEFT(((MID(#REF!,1,8))),4),MID(((MID(#REF!,1,8))),5,2),(RIGHT(((MID(#REF!,1,8))),2)))) -> #REF! | B838: =IF(#REF!=0,"",(MID(#REF!,10,8)*24+1)/24) -> #REF! | C838: =IF(#REF!=0,"",#REF!) -> #REF!
A839: =IF(#REF!=0,"",DATE(LEFT(((MID(#REF!,1,8))),4),MID(((MID(#REF!,1,8))),5,2),(RIGHT(((MID(#REF!,1,8))),2)))) -> #REF! | B839: =IF(#REF!=0,"",(MID(#REF!,10,8)*24+1)/24) -> #REF! | C839: =IF(#REF!=0,"",#REF!) -> #REF!
A840: =IF(#REF!=0,"",DATE(LEFT(((MID(#REF!,1,8))),4),MID(((MID(#REF!,1,8))),5,2),(RIGHT(((MID(#REF!,1,8))),2)))) -> #REF! | B840: =IF(#REF!=0,"",(MID(#REF!,10,8)*24+1)/24) -> #REF! | C840: =IF(#REF!=0,"",#REF!) -> #REF!
A841: =IF(#REF!=0,"",DATE(LEFT(((MID(#REF!,1,8))),4),MID(((MID(#REF!,1,8))),5,2),(RIGHT(((MID(#REF!,1,8))),2)))) -> #REF! | B841: =IF(#REF!=0,"",(MID(#REF!,10,8)*24+1)/24) -> #REF! | C841: =IF(#REF!=0,"",#REF!) -> #REF!
A842: =IF(#REF!=0,"",DATE(LEFT(((MID(#REF!,1,8))),4),MID(((MID(#REF!,1,8))),5,2),(RIGHT(((MID(#REF!,1,8))),2)))) -> #REF! | B842: =IF(#REF!=0,"",(MID(#REF!,10,8)*24+1)/24) -> #REF! | C842: =IF(#REF!=0,"",#REF!) -> #REF!
A843: =IF(#REF!=0,"",DATE(LEFT(((MID(#REF!,1,8))),4),MID(((MID(#REF!,1,8))),5,2),(RIGHT(((MID(#REF!,1,8))),2)))) -> #REF! | B843: =IF(#REF!=0,"",(MID(#REF!,10,8)*24+1)/24) -> #REF! | C843: =IF(#REF!=0,"",#REF!) -> #REF!
A844: =IF(#REF!=0,"",DATE(LEFT(((MID(#REF!,1,8))),4),MID(((MID(#REF!,1,8))),5,2),(RIGHT(((MID(#REF!,1,8))),2)))) -> #REF! | B844: =IF(#REF!=0,"",(MID(#REF!,10,8)*24+1)/24) -> #REF! | C844: =IF(#REF!=0,"",#REF!) -> #REF!
A845: =IF(#REF!=0,"",DATE(LEFT(((MID(#REF!,1,8))),4),MID(((MID(#REF!,1,8))),5,2),(RIGHT(((MID(#REF!,1,8))),2)))) -> #REF! | B845: =IF(#REF!=0,"",(MID(#REF!,10,8)*24+1)/24) -> #REF! | C845: =IF(#REF!=0,"",#REF!) -> #REF!
A846: =IF(#REF!=0,"",DATE(LEFT(((MID(#REF!,1,8))),4),MID(((MID(#REF!,1,8))),5,2),(RIGHT(((MID(#REF!,1,8))),2)))) -> #REF! | B846: =IF(#REF!=0,"",(MID(#REF!,10,8)*24+1)/24) -> #REF! | C846: =IF(#REF!=0,"",#REF!) -> #REF!
A847: =IF(#REF!=0,"",DATE(LEFT(((MID(#REF!,1,8))),4),MID(((MID(#REF!,1,8))),5,2),(RIGHT(((MID(#REF!,1,8))),2)))) -> #REF! | B847: =IF(#REF!=0,"",(MID(#REF!,10,8)*24+1)/24) -> #REF! | C847: =IF(#REF!=0,"",#REF!) -> #REF!
A848: =IF(#REF!=0,"",DATE(LEFT(((MID(#REF!,1,8))),4),MID(((MID(#REF!,1,8))),5,2),(RIGHT(((MID(#REF!,1,8))),2)))) -> #REF! | B848: =IF(#REF!=0,"",(MID(#REF!,10,8)*24+1)/24) -> #REF! | C848: =IF(#REF!=0,"",#REF!) -> #REF!
A849: =IF(#REF!=0,"",DATE(LEFT(((MID(#REF!,1,8))),4),MID(((MID(#REF!,1,8))),5,2),(RIGHT(((MID(#REF!,1,8))),2)))) -> #REF! | B849: =IF(#REF!=0,"",(MID(#REF!,10,8)*24+1)/24) -> #REF! | C849: =IF(#REF!=0,"",#REF!) -> #REF!
... A1941: =IF(#REF!=0,"",DATE(LEFT(((MID(#REF!,1,8))),4),MID(((MID(#REF!,1,8))),5,2),(RIGHT(((MID(#REF!,1,8))),2)))) -> #REF! | B1941: =IF(#REF!=0,"",(MID(#REF!,10,8)*24+1)/24) -> #REF! | C1941: =IF(#REF!=0,"",#REF!) -> #REF!

Sheet 24-03-2022
A1: ASR daily share purchase transaction details
A4: Date | B4: Time | C4: Volume | D4: Price | E4: Proceeds | F4: Exchange | H4: DAILY BUYBACK SUMMARY
A5: 44644 | B5: 44644.378 | C5: 38 | D5: 42.45 | E5: 1613.1 | F5: Euronext Amsterdam | H5: Exchange | I5: # shares purchased | J5: Amount purchased
A6: 44644 | B6: 44644.38 | C6: 37 | D6: 42.39 | E6: 1568.43 | F6: Euronext Amsterdam | H6: Euronext Amsterdam | I6: =SUMIF(F:F,$H$6,C:C) -> 19500 | J6: =SUMIF(F:F,$H$6,E:E) -> 824445.67
A7: 44644 | B7: 44644.38 | C7: 104 | D7: 42.39 | E7: 4408.56 | F7: Euronext Amsterdam | H7: Cboe DXE | I7: =SUMIF(F:F,$H$7,C:C) -> 0 | J7: =SUMIF(F:F,$H$7,E:E) -> 0
A8: 44644 | B8: 44644.381 | C8: 154 | D8: 42.34 | E8: 6520.36 | F8: Euronext Amsterdam | H8: Average price (rounded) | I8: =ROUND((J8/SUM(I6:I7)),4) -> 42.2793 | J8: =SUM(J6:J7) -> 824445.67
A9: 44644 | B9: 44644.384 | C9: 148 | D9: 42.28 | E9: 6257.44 | F9: Euronext Amsterdam
A10: 44644 | B10: 44644.385 | C10: 143 | D10: 42.23 | E10: 6038.89 | F10: Euronext Amsterdam
A11: 44644 | B11: 44644.385 | C11: 48 | D11: 42.23 | E11: 2027.04 | F11: Euronext Amsterdam | H11: EXECUTING ENTITY | I11: ABN AMRO Bank N.V.
A12: 44644 | B12: 44644.385 | C12: 114 | D12: 42.23 | E12: 4814.22 | F12: Euronext Amsterdam | H12: STOCK NAME | I12: ASR Nederland N.V.
A13: 44644 | B13: 44644.389 | C13: 163 | D13: 42.37 | E13: 6906.31 | F13: Euronext Amsterdam | H13: ISIN CODE STOCK | I13: NL0011872643
A14: 44644 | B14: 44644.389 | C14: 159 | D14: 42.35 | E14: 6733.65 | F14: Euronext Amsterdam | H14: TIME REFERENCE USED | I14: GMT+1
A15: 44644 | B15: 44644.393 | C15: 145 | D15: 42.31 | E15: 6134.95 | F15: Euronext Amsterdam
A16: 44644 | B16: 44644.394 | C16: 144 | D16: 42.28 | E16: 6088.32 | F16: Euronext Amsterdam
A17: 44644 | B17: 44644.395 | C17: 14 | D17: 42.26 | E17: 591.64 | F17: Euronext Amsterdam
A18: 44644 | B18: 44644.395 | C18: 126 | D18: 42.26 | E18: 5324.76 | F18: Euronext Amsterdam
A19: 44644 | B19: 44644.395 | C19: 140 | D19: 42.27 | E19: 5917.8 | F19: Euronext Amsterdam
A20: 44644 | B20: 44644.398 | C20: 148 | D20: 42.33 | E20: 6264.84 | F20: Euronext Amsterdam
A21: 44644 | B21: 44644.405 | C21: 148 | D21: 42.57 | E21: 6300.36 | F21: Euronext Amsterdam
A22: 44644 | B22: 44644.405 | C22: 284 | D22: 42.57 | E22: 12089.88 | F22: Euronext Amsterdam
A23: 44644 | B23: 44644.407 | C23: 139 | D23: 42.55 | E23: 5914.45 | F23: Euronext Amsterdam
A24: 44644 | B24: 44644.41 | C24: 152 | D24: 42.48 | E24: 6456.96 | F24: Euronext Amsterdam
A25: 44644 | B25: 44644.41 | C25: 21 | D25: 42.47 | E25: 891.87 | F25: Euronext Amsterdam
A26: 44644 | B26: 44644.41 | C26: 126 | D26: 42.47 | E26: 5351.22 | F26: Euronext Amsterdam
... A201: 44644 | B201: 44644.722 | C201: 151 | D201: 42.38 | E201: 6399.38 | F201: Euronext Amsterdam
A838: =IF(#REF!=0,"",DATE(LEFT(((MID(#REF!,1,8))),4),MID(((MID(#REF!,1,8))),5,2),(RIGHT(((MID(#REF!,1,8))),2)))) -> #REF! | B838: =IF(#REF!=0,"",(MID(#REF!,10,8)*24+1)/24) -> #REF! | C838: =IF(#REF!=0,"",#REF!) -> #REF!
A839: =IF(#REF!=0,"",DATE(LEFT(((MID(#REF!,1,8))),4),MID(((MID(#REF!,1,8))),5,2),(RIGHT(((MID(#REF!,1,8))),2)))) -> #REF! | B839: =IF(#REF!=0,"",(MID(#REF!,10,8)*24+1)/24) -> #REF! | C839: =IF(#REF!=0,"",#REF!) -> #REF!
A840: =IF(#REF!=0,"",DATE(LEFT(((MID(#REF!,1,8))),4),MID(((MID(#REF!,1,8))),5,2),(RIGHT(((MID(#REF!,1,8))),2)))) -> #REF! | B840: =IF(#REF!=0,"",(MID(#REF!,10,8)*24+1)/24) -> #REF! | C840: =IF(#REF!=0,"",#REF!) -> #REF!
A841: =IF(#REF!=0,"",DATE(LEFT(((MID(#REF!,1,8))),4),MID(((MID(#REF!,1,8))),5,2),(RIGHT(((MID(#REF!,1,8))),2)))) -> #REF! | B841: =IF(#REF!=0,"",(MID(#REF!,10,8)*24+1)/24) -> #REF! | C841: =IF(#REF!=0,"",#REF!) -> #REF!
A842: =IF(#REF!=0,"",DATE(LEFT(((MID(#REF!,1,8))),4),MID(((MID(#REF!,1,8))),5,2),(RIGHT(((MID(#REF!,1,8))),2)))) -> #REF! | B842: =IF(#REF!=0,"",(MID(#REF!,10,8)*24+1)/24) -> #REF! | C842: =IF(#REF!=0,"",#REF!) -> #REF!
A843: =IF(#REF!=0,"",DATE(LEFT(((MID(#REF!,1,8))),4),MID(((MID(#REF!,1,8))),5,2),(RIGHT(((MID(#REF!,1,8))),2)))) -> #REF! | B843: =IF(#REF!=0,"",(MID(#REF!,10,8)*24+1)/24) -> #REF! | C843: =IF(#REF!=0,"",#REF!) -> #REF!
A844: =IF(#REF!=0,"",DATE(LEFT(((MID(#REF!,1,8))),4),MID(((MID(#REF!,1,8))),5,2),(RIGHT(((MID(#REF!,1,8))),2)))) -> #REF! | B844: =IF(#REF!=0,"",(MID(#REF!,10,8)*24+1)/24) -> #REF! | C844: =IF(#REF!=0,"",#REF!) -> #REF!
A845: =IF(#REF!=0,"",DATE(LEFT(((MID(#REF!,1,8))),4),MID(((MID(#REF!,1,8))),5,2),(RIGHT(((MID(#REF!,1,8))),2)))) -> #REF! | B845: =IF(#REF!=0,"",(MID(#REF!,10,8)*24+1)/24) -> #REF! | C845: =IF(#REF!=0,"",#REF!) -> #REF!
A846: =IF(#REF!=0,"",DATE(LEFT(((MID(#REF!,1,8))),4),MID(((MID(#REF!,1,8))),5,2),(RIGHT(((MID(#REF!,1,8))),2)))) -> #REF! | B846: =IF(#REF!=0,"",(MID(#REF!,10,8)*24+1)/24) -> #REF! | C846: =IF(#REF!=0,"",#REF!) -> #REF!
A847: =IF(#REF!=0,"",DATE(LEFT(((MID(#REF!,1,8))),4),MID(((MID(#REF!,1,8))),5,2),(RIGHT(((MID(#REF!,1,8))),2)))) -> #REF! | B847: =IF(#REF!=0,"",(MID(#REF!,10,8)*24+1)/24) -> #REF! | C847: =IF(#REF!=0,"",#REF!) -> #REF!
A848: =IF(#REF!=0,"",DATE(LEFT(((MID(#REF!,1,8))),4),MID(((MID(#REF!,1,8))),5,2),(RIGHT(((MID(#REF!,1,8))),2)))) -> #REF! | B848: =IF(#REF!=0,"",(MID(#REF!,10,8)*24+1)/24) -> #REF! | C848: =IF(#REF!=0,"",#REF!) -> #REF!
A849: =IF(#REF!=0,"",DATE(LEFT(((MID(#REF!,1,8))),4),MID(((MID(#REF!,1,8))),5,2),(RIGHT(((MID(#REF!,1,8))),2)))) -> #REF! | B849: =IF(#REF!=0,"",(MID(#REF!,10,8)*24+1)/24) -> #REF! | C849: =IF(#REF!=0,"",#REF!) -> #REF!
... A1941: =IF(#REF!=0,"",DATE(LEFT(((MID(#REF!,1,8))),4),MID(((MID(#REF!,1,8))),5,2),(RIGHT(((MID(#REF!,1,8))),2)))) -> #REF! | B1941: =IF(#REF!=0,"",(MID(#REF!,10,8)*24+1)/24) -> #REF! | C1941: =IF(#REF!=0,"",#REF!) -> #REF!

Sheet 23-03-2022
A1: ASR daily share purchase transaction details
A4: Date | B4: Time | C4: Volume | D4: Price | E4: Proceeds | F4: Exchange | H4: DAILY BUYBACK SUMMARY
A5: 44643 | B5: 44643.379 | C5: 168 | D5: 42.8 | E5: 7190.4 | F5: Euronext Amsterdam | H5: Exchange | I5: # shares purchased | J5: Amount purchased
A6: 44643 | B6: 44643.382 | C6: 145 | D6: 43.02 | E6: 6237.9 | F6: Euronext Amsterdam | H6: Euronext Amsterdam | I6: =SUMIF(F:F,$H$6,C:C) -> 13659 | J6: =SUMIF(F:F,$H$6,E:E) -> 583223.39
A7: 44643 | B7: 44643.382 | C7: 141 | D7: 43.02 | E7: 6065.82 | F7: Euronext Amsterdam | H7: Cboe DXE | I7: =SUMIF(F:F,$H$7,C:C) -> 0 | J7: =SUMIF(F:F,$H$7,E:E) -> 0
A8: 44643 | B8: 44643.392 | C8: 145 | D8: 42.83 | E8: 6210.35 | F8: Euronext Amsterdam | H8: Average price (rounded) | I8: =ROUND((J8/SUM(I6:I7)),4) -> 42.6988 | J8: =SUM(J6:J7) -> 583223.39
A9: 44643 | B9: 44643.395 | C9: 15 | D9: 42.86 | E9: 642.9 | F9: Euronext Amsterdam
A10: 44643 | B10: 44643.395 | C10: 145 | D10: 42.86 | E10: 6214.7 | F10: Euronext Amsterdam
A11: 44643 | B11: 44643.399 | C11: 149 | D11: 42.9 | E11: 6392.1 | F11: Euronext Amsterdam | H11: EXECUTING ENTITY | I11: ABN AMRO Bank N.V.
A12: 44643 | B12: 44643.401 | C12: 19 | D12: 42.91 | E12: 815.29 | F12: Euronext Amsterdam | H12: STOCK NAME | I12: ASR Nederland N.V.
A13: 44643 | B13: 44643.401 | C13: 150 | D13: 42.91 | E13: 6436.5 | F13: Euronext Amsterdam | H13: ISIN CODE STOCK | I13: NL0011872643
A14: 44643 | B14: 44643.406 | C14: 150 | D14: 42.97 | E14: 6445.5 | F14: Euronext Amsterdam | H14: TIME REFERENCE USED | I14: GMT+1
A15: 44643 | B15: 44643.407 | C15: 140 | D15: 42.94 | E15: 6011.6 | F15: Euronext Amsterdam
A16: 44643 | B16: 44643.41 | C16: 145 | D16: 42.88 | E16: 6217.6 | F16: Euronext Amsterdam
A17: 44643 | B17: 44643.41 | C17: 145 | D17: 42.87 | E17: 6216.15 | F17: Euronext Amsterdam
A18: 44643 | B18: 44643.419 | C18: 55 | D18: 42.94 | E18: 2361.7 | F18: Euronext Amsterdam
A19: 44643 | B19: 44643.419 | C19: 105 | D19: 42.94 | E19: 4508.7 | F19: Euronext Amsterdam
A20: 44643 | B20: 44643.424 | C20: 167 | D20: 42.94 | E20: 7170.98 | F20: Euronext Amsterdam
A21: 44643 | B21: 44643.428 | C21: 141 | D21: 42.93 | E21: 6053.13 | F21: Euronext Amsterdam
A22: 44643 | B22: 44643.43 | C22: 158 | D22: 42.9 | E22: 6778.2 | F22: Euronext Amsterdam
A23: 44643 | B23: 44643.433 | C23: 140 | D23: 42.88 | E23: 6003.2 | F23: Euronext Amsterdam
A24: 44643 | B24: 44643.44 | C24: 57 | D24: 42.81 | E24: 2440.17 | F24: Euronext Amsterdam
A25: 44643 | B25: 44643.44 | C25: 108 | D25: 42.81 | E25: 4623.48 | F25: Euronext Amsterdam
A26: 44643 | B26: 44643.441 | C26: 109 | D26: 42.8 | E26: 4665.2 | F26: Euronext Amsterdam
... A135: 44643 | B135: 44643.722 | C135: 12 | D135: 42.45 | E135: 509.4 | F135: Euronext Amsterdam
A838: =IF(#REF!=0,"",DATE(LEFT(((MID(#REF!,1,8))),4),MID(((MID(#REF!,1,8))),5,2),(RIGHT(((MID(#REF!,1,8))),2)))) -> #REF! | B838: =IF(#REF!=0,"",(MID(#REF!,10,8)*24+1)/24) -> #REF! | C838: =IF(#REF!=0,"",#REF!) -> #REF!
A839: =IF(#REF!=0,"",DATE(LEFT(((MID(#REF!,1,8))),4),MID(((MID(#REF!,1,8))),5,2),(RIGHT(((MID(#REF!,1,8))),2)))) -> #REF! | B839: =IF(#REF!=0,"",(MID(#REF!,10,8)*24+1)/24) -> #REF! | C839: =IF(#REF!=0,"",#REF!) -> #REF!
A840: =IF(#REF!=0,"",DATE(LEFT(((MID(#REF!,1,8))),4),MID(((MID(#REF!,1,8))),5,2),(RIGHT(((MID(#REF!,1,8))),2)))) -> #REF! | B840: =IF(#REF!=0,"",(MID(#REF!,10,8)*24+1)/24) -> #REF! | C840: =IF(#REF!=0,"",#REF!) -> #REF!
A841: =IF(#REF!=0,"",DATE(LEFT(((MID(#REF!,1,8))),4),MID(((MID(#REF!,1,8))),5,2),(RIGHT(((MID(#REF!,1,8))),2)))) -> #REF! | B841: =IF(#REF!=0,"",(MID(#REF!,10,8)*24+1)/24) -> #REF! | C841: =IF(#REF!=0,"",#REF!) -> #REF!
A842: =IF(#REF!=0,"",DATE(LEFT(((MID(#REF!,1,8))),4),MID(((MID(#REF!,1,8))),5,2),(RIGHT(((MID(#REF!,1,8))),2)))) -> #REF! | B842: =IF(#REF!=0,"",(MID(#REF!,10,8)*24+1)/24) -> #REF! | C842: =IF(#REF!=0,"",#REF!) -> #REF!
A843: =IF(#REF!=0,"",DATE(LEFT(((MID(#REF!,1,8))),4),MID(((MID(#REF!,1,8))),5,2),(RIGHT(((MID(#REF!,1,8))),2)))) -> #REF! | B843: =IF(#REF!=0,"",(MID(#REF!,10,8)*24+1)/24) -> #REF! | C843: =IF(#REF!=0,"",#REF!) -> #REF!
A844: =IF(#REF!=0,"",DATE(LEFT(((MID(#REF!,1,8))),4),MID(((MID(#REF!,1,8))),5,2),(RIGHT(((MID(#REF!,1,8))),2)))) -> #REF! | B844: =IF(#REF!=0,"",(MID(#REF!,10,8)*24+1)/24) -> #REF! | C844: =IF(#REF!=0,"",#REF!) -> #REF!
A845: =IF(#REF!=0,"",DATE(LEFT(((MID(#REF!,1,8))),4),MID(((MID(#REF!,1,8))),5,2),(RIGHT(((MID(#REF!,1,8))),2)))) -> #REF! | B845: =IF(#REF!=0,"",(MID(#REF!,10,8)*24+1)/24) -> #REF! | C845: =IF(#REF!=0,"",#REF!) -> #REF!
A846: =IF(#REF!=0,"",DATE(LEFT(((MID(#REF!,1,8))),4),MID(((MID(#REF!,1,8))),5,2),(RIGHT(((MID(#REF!,1,8))),2)))) -> #REF! | B846: =IF(#REF!=0,"",(MID(#REF!,10,8)*24+1)/24) -> #REF! | C846: =IF(#REF!=0,"",#REF!) -> #REF!
A847: =IF(#REF!=0,"",DATE(LEFT(((MID(#REF!,1,8))),4),MID(((MID(#REF!,1,8))),5,2),(RIGHT(((MID(#REF!,1,8))),2)))) -> #REF! | B847: =IF(#REF!=0,"",(MID(#REF!,10,8)*24+1)/24) -> #REF! | C847: =IF(#REF!=0,"",#REF!) -> #REF!
A848: =IF(#REF!=0,"",DATE(LEFT(((MID(#REF!,1,8))),4),MID(((MID(#REF!,1,8))),5,2),(RIGHT(((MID(#REF!,1,8))),2)))) -> #REF! | B848: =IF(#REF!=0,"",(MID(#REF!,10,8)*24+1)/24) -> #REF! | C848: =IF(#REF!=0,"",#REF!) -> #REF!
A849: =IF(#REF!=0,"",DATE(LEFT(((MID(#REF!,1,8))),4),MID(((MID(#REF!,1,8))),5,2),(RIGHT(((MID(#REF!,1,8))),2)))) -> #REF! | B849: =IF(#REF!=0,"",(MID(#REF!,10,8)*24+1)/24) -> #REF! | C849: =IF(#REF!=0,"",#REF!) -> #REF!
... A1941: =IF(#REF!=0,"",DATE(LEFT(((MID(#REF!,1,8))),4),MID(((MID(#REF!,1,8))),5,2),(RIGHT(((MID(#REF!,1,8))),2)))) -> #REF! | B1941: =IF(#REF!=0,"",(MID(#REF!,10,8)*24+1)/24) -> #REF! | C1941: =IF(#REF!=0,"",#REF!) -> #REF!

Sheet 22-03-2022
A1: ASR daily share purchase transaction details
A4: Date | B4: Time | C4: Volume | D4: Price | E4: Proceeds | F4: Exchange | H4: DAILY BUYBACK SUMMARY
A5: 44642 | B5: 44642.382 | C5: 142 | D5: 42.02 | E5: 5966.84 | F5: Euronext Amsterdam | H5: Exchange | I5: # shares purchased | J5: Amount purchased
A6: 44642 | B6: 44642.383 | C6: 4 | D6: 42.07 | E6: 168.28 | F6: Euronext Amsterdam | H6: Euronext Amsterdam | I6: =SUMIF(F:F,$H$6,C:C) -> 13320 | J6: =SUMIF(F:F,$H$6,E:E) -> 568730.19
A7: 44642 | B7: 44642.383 | C7: 141 | D7: 42.07 | E7: 5931.87 | F7: Euronext Amsterdam | H7: Cboe DXE | I7: =SUMIF(F:F,$H$7,C:C) -> 0 | J7: =SUMIF(F:F,$H$7,E:E) -> 0
A8: 44642 | B8: 44642.385 | C8: 91 | D8: 42.11 | E8: 3832.01 | F8: Euronext Amsterdam | H8: Average price (rounded) | I8: =ROUND((J8/SUM(I6:I7)),4) -> 42.6975 | J8: =SUM(J6:J7) -> 568730.19
A9: 44642 | B9: 44642.385 | C9: 53 | D9: 42.11 | E9: 2231.83 | F9: Euronext Amsterdam
A10: 44642 | B10: 44642.388 | C10: 113 | D10: 42.39 | E10: 4790.07 | F10: Euronext Amsterdam
A11: 44642 | B11: 44642.388 | C11: 8 | D11: 42.39 | E11: 339.12 | F11: Euronext Amsterdam | H11: EXECUTING ENTITY | I11: ABN AMRO Bank N.V.
A12: 44642 | B12: 44642.388 | C12: 30 | D12: 42.39 | E12: 1271.7 | F12: Euronext Amsterdam | H12: STOCK NAME | I12: ASR Nederland N.V.
A13: 44642 | B13: 44642.39 | C13: 136 | D13: 42.38 | E13: 5763.68 | F13: Euronext Amsterdam | H13: ISIN CODE STOCK | I13: NL0011872643
A14: 44642 | B14: 44642.39 | C14: 21 | D14: 42.38 | E14: 889.98 | F14: Euronext Amsterdam | H14: TIME REFERENCE USED | I14: GMT+1
A15: 44642 | B15: 44642.394 | C15: 155 | D15: 42.5 | E15: 6587.5 | F15: Euronext Amsterdam
A16: 44642 | B16: 44642.416 | C16: 149 | D16: 42.61 | E16: 6348.89 | F16: Euronext Amsterdam
A17: 44642 | B17: 44642.422 | C17: 143 | D17: 42.77 | E17: 6116.11 | F17: Euronext Amsterdam
A18: 44642 | B18: 44642.423 | C18: 151 | D18: 42.78 | E18: 6459.78 | F18: Euronext Amsterdam
A19: 44642 | B19: 44642.424 | C19: 163 | D19: 42.95 | E19: 7000.85 | F19: Euronext Amsterdam
A20: 44642 | B20: 44642.434 | C20: 152 | D20: 42.91 | E20: 6522.32 | F20: Euronext Amsterdam
A21: 44642 | B21: 44642.437 | C21: 144 | D21: 42.88 | E21: 6174.72 | F21: Euronext Amsterdam
A22: 44642 | B22: 44642.439 | C22: 162 | D22: 42.84 | E22: 6940.08 | F22: Euronext Amsterdam
A23: 44642 | B23: 44642.445 | C23: 14 | D23: 42.74 | E23: 598.36 | F23: Euronext Amsterdam
A24: 44642 | B24: 44642.445 | C24: 56 | D24: 42.74 | E24: 2393.44 | F24: Euronext Amsterdam
A25: 44642 | B25: 44642.445 | C25: 26 | D25: 42.74 | E25: 1111.24 | F25: Euronext Amsterdam
A26: 44642 | B26: 44642.449 | C26: 28 | D26: 42.8 | E26: 1198.4 | F26: Euronext Amsterdam
... A122: 44642 | B122: 44642.721 | C122: 142 | D122: 42.68 | E122: 6060.56 | F122: Euronext Amsterdam
A838: =IF(#REF!=0,"",DATE(LEFT(((MID(#REF!,1,8))),4),MID(((MID(#REF!,1,8))),5,2),(RIGHT(((MID(#REF!,1,8))),2)))) -> #REF! | B838: =IF(#REF!=0,"",(MID(#REF!,10,8)*24+1)/24) -> #REF! | C838: =IF(#REF!=0,"",#REF!) -> #REF!
A839: =IF(#REF!=0,"",DATE(LEFT(((MID(#REF!,1,8))),4),MID(((MID(#REF!,1,8))),5,2),(RIGHT(((MID(#REF!,1,8))),2)))) -> #REF! | B839: =IF(#REF!=0,"",(MID(#REF!,10,8)*24+1)/24) -> #REF! | C839: =IF(#REF!=0,"",#REF!) -> #REF!
A840: =IF(#REF!=0,"",DATE(LEFT(((MID(#REF!,1,8))),4),MID(((MID(#REF!,1,8))),5,2),(RIGHT(((MID(#REF!,1,8))),2)))) -> #REF! | B840: =IF(#REF!=0,"",(MID(#REF!,10,8)*24+1)/24) -> #REF! | C840: =IF(#REF!=0,"",#REF!) -> #REF!
A841: =IF(#REF!=0,"",DATE(LEFT(((MID(#REF!,1,8))),4),MID(((MID(#REF!,1,8))),5,2),(RIGHT(((MID(#REF!,1,8))),2)))) -> #REF! | B841: =IF(#REF!=0,"",(MID(#REF!,10,8)*24+1)/24) -> #REF! | C841: =IF(#REF!=0,"",#REF!) -> #REF!
A842: =IF(#REF!=0,"",DATE(LEFT(((MID(#REF!,1,8))),4),MID(((MID(#REF!,1,8))),5,2),(RIGHT(((MID(#REF!,1,8))),2)))) -> #REF! | B842: =IF(#REF!=0,"",(MID(#REF!,10,8)*24+1)/24) -> #REF! | C842: =IF(#REF!=0,"",#REF!) -> #REF!
A843: =IF(#REF!=0,"",DATE(LEFT(((MID(#REF!,1,8))),4),MID(((MID(#REF!,1,8))),5,2),(RIGHT(((MID(#REF!,1,8))),2)))) -> #REF! | B843: =IF(#REF!=0,"",(MID(#REF!,10,8)*24+1)/24) -> #REF! | C843: =IF(#REF!=0,"",#REF!) -> #REF!
A844: =IF(#REF!=0,"",DATE(LEFT(((MID(#REF!,1,8))),4),MID(((MID(#REF!,1,8))),5,2),(RIGHT(((MID(#REF!,1,8))),2)))) -> #REF! | B844: =IF(#REF!=0,"",(MID(#REF!,10,8)*24+1)/24) -> #REF! | C844: =IF(#REF!=0,"",#REF!) -> #REF!
A845: =IF(#REF!=0,"",DATE(LEFT(((MID(#REF!,1,8))),4),MID(((MID(#REF!,1,8))),5,2),(RIGHT(((MID(#REF!,1,8))),2)))) -> #REF! | B845: =IF(#REF!=0,"",(MID(#REF!,10,8)*24+1)/24) -> #REF! | C845: =IF(#REF!=0,"",#REF!) -> #REF!
A846: =IF(#REF!=0,"",DATE(LEFT(((MID(#REF!,1,8))),4),MID(((MID(#REF!,1,8))),5,2),(RIGHT(((MID(#REF!,1,8))),2)))) -> #REF! | B846: =IF(#REF!=0,"",(MID(#REF!,10,8)*24+1)/24) -> #REF! | C846: =IF(#REF!=0,"",#REF!) -> #REF!
A847: =IF(#REF!=0,"",DATE(LEFT(((MID(#REF!,1,8))),4),MID(((MID(#REF!,1,8))),5,2),(RIGHT(((MID(#REF!,1,8))),2)))) -> #REF! | B847: =IF(#REF!=0,"",(MID(#REF!,10,8)*24+1)/24) -> #REF! | C847: =IF(#REF!=0,"",#REF!) -> #REF!
A848: =IF(#REF!=0,"",DATE(LEFT(((MID(#REF!,1,8))),4),MID(((MID(#REF!,1,8))),5,2),(RIGHT(((MID(#REF!,1,8))),2)))) -> #REF! | B848: =IF(#REF!=0,"",(MID(#REF!,10,8)*24+1)/24) -> #REF! | C848: =IF(#REF!=0,"",#REF!) -> #REF!
A849: =IF(#REF!=0,"",DATE(LEFT(((MID(#REF!,1,8))),4),MID(((MID(#REF!,1,8))),5,2),(RIGHT(((MID(#REF!,1,8))),2)))) -> #REF! | B849: =IF(#REF!=0,"",(MID(#REF!,10,8)*24+1)/24) -> #REF! | C849: =IF(#REF!=0,"",#REF!) -> #REF!
... A1941: =IF(#REF!=0,"",DATE(LEFT(((MID(#REF!,1,8))),4),MID(((MID(#REF!,1,8))),5,2),(RIGHT(((MID(#REF!,1,8))),2)))) -> #REF! | B1941: =IF(#REF!=0,"",(MID(#REF!,10,8)*24+1)/24) -> #REF! | C1941: =IF(#REF!=0,"",#REF!) -> #REF!

Sheet 21-03-2022
A1: ASR daily share purchase transaction details
A4: Date | B4: Time | C4: Volume | D4: Price | E4: Proceeds | F4: Exchange | H4: DAILY BUYBACK SUMMARY
A5: 44641 | B5: 44641.379 | C5: 169 | D5: 41.92 | E5: 7084.48 | F5: Euronext Amsterdam | H5: Exchange | I5: # shares purchased | J5: Amount purchased
A6: 44641 | B6: 44641.381 | C6: 199 | D6: 41.98 | E6: 8354.02 | F6: Euronext Amsterdam | H6: Euronext Amsterdam | I6: =SUMIF(F:F,$H$6,C:C) -> 13623 | J6: =SUMIF(F:F,$H$6,E:E) -> 569444.04
A7: 44641 | B7: 44641.384 | C7: 143 | D7: 42.07 | E7: 6016.01 | F7: Euronext Amsterdam | H7: Cboe DXE | I7: =SUMIF(F:F,$H$7,C:C) -> 0 | J7: =SUMIF(F:F,$H$7,E:E) -> 0
A8: 44641 | B8: 44641.384 | C8: 2 | D8: 42.07 | E8: 84.14 | F8: Euronext Amsterdam | H8: Average price (rounded) | I8: =ROUND((J8/SUM(I6:I7)),4) -> 41.8002 | J8: =SUM(J6:J7) -> 569444.04
A9: 44641 | B9: 44641.388 | C9: 100 | D9: 42.01 | E9: 4201 | F9: Euronext Amsterdam
A10: 44641 | B10: 44641.388 | C10: 49 | D10: 42.01 | E10: 2058.49 | F10: Euronext Amsterdam
A11: 44641 | B11: 44641.39 | C11: 71 | D11: 42.15 | E11: 2992.65 | F11: Euronext Amsterdam | H11: EXECUTING ENTITY | I11: ABN AMRO Bank N.V.
A12: 44641 | B12: 44641.39 | C12: 86 | D12: 42.15 | E12: 3624.9 | F12: Euronext Amsterdam | H12: STOCK NAME | I12: ASR Nederland N.V.
A13: 44641 | B13: 44641.396 | C13: 145 | D13: 42.27 | E13: 6129.15 | F13: Euronext Amsterdam | H13: ISIN CODE STOCK | I13: NL0011872643
A14: 44641 | B14: 44641.4 | C14: 140 | D14: 42.23 | E14: 5912.2 | F14: Euronext Amsterdam | H14: TIME REFERENCE USED | I14: GMT+1
A15: 44641 | B15: 44641.402 | C15: 145 | D15: 42.2 | E15: 6119 | F15: Euronext Amsterdam
A16: 44641 | B16: 44641.405 | C16: 52 | D16: 42.07 | E16: 2187.64 | F16: Euronext Amsterdam
A17: 44641 | B17: 44641.405 | C17: 55 | D17: 42.07 | E17: 2313.85 | F17: Euronext Amsterdam
A18: 44641 | B18: 44641.405 | C18: 54 | D18: 42.07 | E18: 2271.78 | F18: Euronext Amsterdam
A19: 44641 | B19: 44641.405 | C19: 168 | D19: 42.03 | E19: 7061.04 | F19: Euronext Amsterdam
A20: 44641 | B20: 44641.412 | C20: 155 | D20: 42.05 | E20: 6517.75 | F20: Euronext Amsterdam
A21: 44641 | B21: 44641.413 | C21: 133 | D21: 41.98 | E21: 5583.34 | F21: Euronext Amsterdam
A22: 44641 | B22: 44641.413 | C22: 41 | D22: 41.98 | E22: 1721.18 | F22: Euronext Amsterdam
A23: 44641 | B23: 44641.42 | C23: 178 | D23: 41.93 | E23: 7463.54 | F23: Euronext Amsterdam
A24: 44641 | B24: 44641.42 | C24: 29 | D24: 41.87 | E24: 1214.23 | F24: Euronext Amsterdam
A25: 44641 | B25: 44641.42 | C25: 141 | D25: 41.87 | E25: 5903.67 | F25: Euronext Amsterdam
A26: 44641 | B26: 44641.42 | C26: 147 | D26: 41.87 | E26: 6154.89 | F26: Euronext Amsterdam
... A122: 44641 | B122: 44641.722 | C122: 2 | D122: 41.64 | E122: 83.28 | F122: Euronext Amsterdam
A838: =IF(#REF!=0,"",DATE(LEFT(((MID(#REF!,1,8))),4),MID(((MID(#REF!,1,8))),5,2),(RIGHT(((MID(#REF!,1,8))),2)))) -> #REF! | B838: =IF(#REF!=0,"",(MID(#REF!,10,8)*24+1)/24) -> #REF! | C838: =IF(#REF!=0,"",#REF!) -> #REF!
A839: =IF(#REF!=0,"",DATE(LEFT(((MID(#REF!,1,8))),4),MID(((MID(#REF!,1,8))),5,2),(RIGHT(((MID(#REF!,1,8))),2)))) -> #REF! | B839: =IF(#REF!=0,"",(MID(#REF!,10,8)*24+1)/24) -> #REF! | C839: =IF(#REF!=0,"",#REF!) -> #REF!
A840: =IF(#REF!=0,"",DATE(LEFT(((MID(#REF!,1,8))),4),MID(((MID(#REF!,1,8))),5,2),(RIGHT(((MID(#REF!,1,8))),2)))) -> #REF! | B840: =IF(#REF!=0,"",(MID(#REF!,10,8)*24+1)/24) -> #REF! | C840: =IF(#REF!=0,"",#REF!) -> #REF!
A841: =IF(#REF!=0,"",DATE(LEFT(((MID(#REF!,1,8))),4),MID(((MID(#REF!,1,8))),5,2),(RIGHT(((MID(#REF!,1,8))),2)))) -> #REF! | B841: =IF(#REF!=0,"",(MID(#REF!,10,8)*24+1)/24) -> #REF! | C841: =IF(#REF!=0,"",#REF!) -> #REF!
A842: =IF(#REF!=0,"",DATE(LEFT(((MID(#REF!,1,8))),4),MID(((MID(#REF!,1,8))),5,2),(RIGHT(((MID(#REF!,1,8))),2)))) -> #REF! | B842: =IF(#REF!=0,"",(MID(#REF!,10,8)*24+1)/24) -> #REF! | C842: =IF(#REF!=0,"",#REF!) -> #REF!
A843: =IF(#REF!=0,"",DATE(LEFT(((MID(#REF!,1,8))),4),MID(((MID(#REF!,1,8))),5,2),(RIGHT(((MID(#REF!,1,8))),2)))) -> #REF! | B843: =IF(#REF!=0,"",(MID(#REF!,10,8)*24+1)/24) -> #REF! | C843: =IF(#REF!=0,"",#REF!) -> #REF!
A844: =IF(#REF!=0,"",DATE(LEFT(((MID(#REF!,1,8))),4),MID(((MID(#REF!,1,8))),5,2),(RIGHT(((MID(#REF!,1,8))),2)))) -> #REF! | B844: =IF(#REF!=0,"",(MID(#REF!,10,8)*24+1)/24) -> #REF! | C844: =IF(#REF!=0,"",#REF!) -> #REF!
A845: =IF(#REF!=0,"",DATE(LEFT(((MID(#REF!,1,8))),4),MID(((MID(#REF!,1,8))),5,2),(RIGHT(((MID(#REF!,1,8))),2)))) -> #REF! | B845: =IF(#REF!=0,"",(MID(#REF!,10,8)*24+1)/24) -> #REF! | C845: =IF(#REF!=0,"",#REF!) -> #REF!
A846: =IF(#REF!=0,"",DATE(LEFT(((MID(#REF!,1,8))),4),MID(((MID(#REF!,1,8))),5,2),(RIGHT(((MID(#REF!,1,8))),2)))) -> #REF! | B846: =IF(#REF!=0,"",(MID(#REF!,10,8)*24+1)/24) -> #REF! | C846: =IF(#REF!=0,"",#REF!) -> #REF!
A847: =IF(#REF!=0,"",DATE(LEFT(((MID(#REF!,1,8))),4),MID(((MID(#REF!,1,8))),5,2),(RIGHT(((MID(#REF!,1,8))),2)))) -> #REF! | B847: =IF(#REF!=0,"",(MID(#REF!,10,8)*24+1)/24) -> #REF! | C847: =IF(#REF!=0,"",#REF!) -> #REF!
A848: =IF(#REF!=0,"",DATE(LEFT(((MID(#REF!,1,8))),4),MID(((MID(#REF!,1,8))),5,2),(RIGHT(((MID(#REF!,1,8))),2)))) -> #REF! | B848: =IF(#REF!=0,"",(MID(#REF!,10,8)*24+1)/24) -> #REF! | C848: =IF(#REF!=0,"",#REF!) -> #REF!
A849: =IF(#REF!=0,"",DATE(LEFT(((MID(#REF!,1,8))),4),MID(((MID(#REF!,1,8))),5,2),(RIGHT(((MID(#REF!,1,8))),2)))) -> #REF! | B849: =IF(#REF!=0,"",(MID(#REF!,10,8)*24+1)/24) -> #REF! | C849: =IF(#REF!=0,"",#REF!) -> #REF!
... A1941: =IF(#REF!=0,"",DATE(LEFT(((MID(#REF!,1,8))),4),MID(((MID(#REF!,1,8))),5,2),(RIGHT(((MID(#REF!,1,8))),2)))) -> #REF! | B1941: =IF(#REF!=0,"",(MID(#REF!,10,8)*24+1)/24) -> #REF! | C1941: =IF(#REF!=0,"",#REF!) -> #REF!

Sheet 18-03-2022
A1: ASR daily share purchase transaction details
A4: Date | B4: Time | C4: Volume | D4: Price | E4: Proceeds | F4: Exchange | H4: DAILY BUYBACK SUMMARY
A5: 44638 | B5: 44638.379 | C5: 167 | D5: 41.27 | E5: 6892.09 | F5: Euronext Amsterdam | H5: Exchange | I5: # shares purchased | J5: Amount purchased
A6: 44638 | B6: 44638.379 | C6: 160 | D6: 41.27 | E6: 6603.2 | F6: Euronext Amsterdam | H6: Euronext Amsterdam | I6: =SUMIF(F:F,$H$6,C:C) -> 31133 | J6: =SUMIF(F:F,$H$6,E:E) -> 1293379.7
A7: 44638 | B7: 44638.381 | C7: 150 | D7: 41.34 | E7: 6201 | F7: Euronext Amsterdam | H7: Cboe DXE | I7: =SUMIF(F:F,$H$7,C:C) -> 0 | J7: =SUMIF(F:F,$H$7,E:E) -> 0
A8: 44638 | B8: 44638.381 | C8: 160 | D8: 41.34 | E8: 6614.4 | F8: Euronext Amsterdam | H8: Average price (rounded) | I8: =ROUND((J8/SUM(I6:I7)),4) -> 41.5437 | J8: =SUM(J6:J7) -> 1293379.7
A9: 44638 | B9: 44638.382 | C9: 163 | D9: 41.39 | E9: 6746.57 | F9: Euronext Amsterdam
A10: 44638 | B10: 44638.383 | C10: 146 | D10: 41.46 | E10: 6053.16 | F10: Euronext Amsterdam
A11: 44638 | B11: 44638.384 | C11: 94 | D11: 41.46 | E11: 3897.24 | F11: Euronext Amsterdam | H11: EXECUTING ENTITY | I11: ABN AMRO Bank N.V.
A12: 44638 | B12: 44638.387 | C12: 182 | D12: 41.41 | E12: 7536.62 | F12: Euronext Amsterdam | H12: STOCK NAME | I12: ASR Nederland N.V.
A13: 44638 | B13: 44638.387 | C13: 188 | D13: 41.41 | E13: 7785.08 | F13: Euronext Amsterdam | H13: ISIN CODE STOCK | I13: NL0011872643
A14: 44638 | B14: 44638.388 | C14: 162 | D14: 41.37 | E14: 6701.94 | F14: Euronext Amsterdam | H14: TIME REFERENCE USED | I14: GMT+1
A15: 44638 | B15: 44638.39 | C15: 147 | D15: 41.32 | E15: 6074.04 | F15: Euronext Amsterdam
A16: 44638 | B16: 44638.391 | C16: 166 | D16: 41.34 | E16: 6862.44 | F16: Euronext Amsterdam
A17: 44638 | B17: 44638.393 | C17: 150 | D17: 41.49 | E17: 6223.5 | F17: Euronext Amsterdam
A18: 44638 | B18: 44638.394 | C18: 175 | D18: 41.47 | E18: 7257.25 | F18: Euronext Amsterdam
A19: 44638 | B19: 44638.395 | C19: 159 | D19: 41.46 | E19: 6592.14 | F19: Euronext Amsterdam
A20: 44638 | B20: 44638.397 | C20: 145 | D20: 41.31 | E20: 5989.95 | F20: Euronext Amsterdam
A21: 44638 | B21: 44638.4 | C21: 163 | D21: 41.36 | E21: 6741.68 | F21: Euronext Amsterdam
A22: 44638 | B22: 44638.404 | C22: 150 | D22: 41.46 | E22: 6219 | F22: Euronext Amsterdam
A23: 44638 | B23: 44638.404 | C23: 141 | D23: 41.44 | E23: 5843.04 | F23: Euronext Amsterdam
A24: 44638 | B24: 44638.404 | C24: 140 | D24: 41.44 | E24: 5801.6 | F24: Euronext Amsterdam
A25: 44638 | B25: 44638.405 | C25: 141 | D25: 41.38 | E25: 5834.58 | F25: Euronext Amsterdam
A26: 44638 | B26: 44638.408 | C26: 143 | D26: 41.36 | E26: 5914.48 | F26: Euronext Amsterdam
... A295: 44638 | B295: 44638.722 | C295: 77 | D295: 42.04 | E295: 3237.08 | F295: Euronext Amsterdam
A838: =IF(#REF!=0,"",DATE(LEFT(((MID(#REF!,1,8))),4),MID(((MID(#REF!,1,8))),5,2),(RIGHT(((MID(#REF!,1,8))),2)))) -> #REF! | B838: =IF(#REF!=0,"",(MID(#REF!,10,8)*24+1)/24) -> #REF! | C838: =IF(#REF!=0,"",#REF!) -> #REF!
A839: =IF(#REF!=0,"",DATE(LEFT(((MID(#REF!,1,8))),4),MID(((MID(#REF!,1,8))),5,2),(RIGHT(((MID(#REF!,1,8))),2)))) -> #REF! | B839: =IF(#REF!=0,"",(MID(#REF!,10,8)*24+1)/24) -> #REF! | C839: =IF(#REF!=0,"",#REF!) -> #REF!
A840: =IF(#REF!=0,"",DATE(LEFT(((MID(#REF!,1,8))),4),MID(((MID(#REF!,1,8))),5,2),(RIGHT(((MID(#REF!,1,8))),2)))) -> #REF! | B840: =IF(#REF!=0,"",(MID(#REF!,10,8)*24+1)/24) -> #REF! | C840: =IF(#REF!=0,"",#REF!) -> #REF!
A841: =IF(#REF!=0,"",DATE(LEFT(((MID(#REF!,1,8))),4),MID(((MID(#REF!,1,8))),5,2),(RIGHT(((MID(#REF!,1,8))),2)))) -> #REF! | B841: =IF(#REF!=0,"",(MID(#REF!,10,8)*24+1)/24) -> #REF! | C841: =IF(#REF!=0,"",#REF!) -> #REF!
A842: =IF(#REF!=0,"",DATE(LEFT(((MID(#REF!,1,8))),4),MID(((MID(#REF!,1,8))),5,2),(RIGHT(((MID(#REF!,1,8))),2)))) -> #REF! | B842: =IF(#REF!=0,"",(MID(#REF!,10,8)*24+1)/24) -> #REF! | C842: =IF(#REF!=0,"",#REF!) -> #REF!
A843: =IF(#REF!=0,"",DATE(LEFT(((MID(#REF!,1,8))),4),MID(((MID(#REF!,1,8))),5,2),(RIGHT(((MID(#REF!,1,8))),2)))) -> #REF! | B843: =IF(#REF!=0,"",(MID(#REF!,10,8)*24+1)/24) -> #REF! | C843: =IF(#REF!=0,"",#REF!) -> #REF!
A844: =IF(#REF!=0,"",DATE(LEFT(((MID(#REF!,1,8))),4),MID(((MID(#REF!,1,8))),5,2),(RIGHT(((MID(#REF!,1,8))),2)))) -> #REF! | B844: =IF(#REF!=0,"",(MID(#REF!,10,8)*24+1)/24) -> #REF! | C844: =IF(#REF!=0,"",#REF!) -> #REF!
A845: =IF(#REF!=0,"",DATE(LEFT(((MID(#REF!,1,8))),4),MID(((MID(#REF!,1,8))),5,2),(RIGHT(((MID(#REF!,1,8))),2)))) -> #REF! | B845: =IF(#REF!=0,"",(MID(#REF!,10,8)*24+1)/24) -> #REF! | C845: =IF(#REF!=0,"",#REF!) -> #REF!
A846: =IF(#REF!=0,"",DATE(LEFT(((MID(#REF!,1,8))),4),MID(((MID(#REF!,1,8))),5,2),(RIGHT(((MID(#REF!,1,8))),2)))) -> #REF! | B846: =IF(#REF!=0,"",(MID(#REF!,10,8)*24+1)/24) -> #REF! | C846: =IF(#REF!=0,"",#REF!) -> #REF!
A847: =IF(#REF!=0,"",DATE(LEFT(((MID(#REF!,1,8))),4),MID(((MID(#REF!,1,8))),5,2),(RIGHT(((MID(#REF!,1,8))),2)))) -> #REF! | B847: =IF(#REF!=0,"",(MID(#REF!,10,8)*24+1)/24) -> #REF! | C847: =IF(#REF!=0,"",#REF!) -> #REF!
A848: =IF(#REF!=0,"",DATE(LEFT(((MID(#REF!,1,8))),4),MID(((MID(#REF!,1,8))),5,2),(RIGHT(((MID(#REF!,1,8))),2)))) -> #REF! | B848: =IF(#REF!=0,"",(MID(#REF!,10,8)*24+1)/24) -> #REF! | C848: =IF(#REF!=0,"",#REF!) -> #REF!
A849: =IF(#REF!=0,"",DATE(LEFT(((MID(#REF!,1,8))),4),MID(((MID(#REF!,1,8))),5,2),(RIGHT(((MID(#REF!,1,8))),2)))) -> #REF! | B849: =IF(#REF!=0,"",(MID(#REF!,10,8)*24+1)/24) -> #REF! | C849: =IF(#REF!=0,"",#REF!) -> #REF!
... A1941: =IF(#REF!=0,"",DATE(LEFT(((MID(#REF!,1,8))),4),MID(((MID(#REF!,1,8))),5,2),(RIGHT(((MID(#REF!,1,8))),2)))) -> #REF! | B1941: =IF(#REF!=0,"",(MID(#REF!,10,8)*24+1)/24) -> #REF! | C1941: =IF(#REF!=0,"",#REF!) -> #REF!

Sheet 17-03-2022
A1: ASR daily share purchase transaction details
A4: Date | B4: Time | C4: Volume | D4: Price | E4: Proceeds | F4: Exchange | H4: DAILY BUYBACK SUMMARY
A5: 44637 | B5: 44637.379 | C5: 162 | D5: 42 | E5: 6804 | F5: Euronext Amsterdam | H5: Exchange | I5: # shares purchased | J5: Amount purchased
A6: 44637 | B6: 44637.379 | C6: 148 | D6: 42 | E6: 6216 | F6: Euronext Amsterdam | H6: Euronext Amsterdam | I6: =SUMIF(F:F,$H$6,C:C) -> 31764 | J6: =SUMIF(F:F,$H$6,E:E) -> 1314622
A7: 44637 | B7: 44637.38 | C7: 148 | D7: 42.03 | E7: 6220.44 | F7: Euronext Amsterdam | H7: Cboe DXE | I7: =SUMIF(F:F,$H$7,C:C) -> 0 | J7: =SUMIF(F:F,$H$7,E:E) -> 0
A8: 44637 | B8: 44637.381 | C8: 141 | D8: 41.96 | E8: 5916.36 | F8: Euronext Amsterdam | H8: Average price (rounded) | I8: =ROUND((J8/SUM(I6:I7)),4) -> 41.3872 | J8: =SUM(J6:J7) -> 1314622
A9: 44637 | B9: 44637.381 | C9: 4 | D9: 41.96 | E9: 167.84 | F9: Euronext Amsterdam
A10: 44637 | B10: 44637.382 | C10: 155 | D10: 42.15 | E10: 6533.25 | F10: Euronext Amsterdam
A11: 44637 | B11: 44637.383 | C11: 164 | D11: 41.91 | E11: 6873.24 | F11: Euronext Amsterdam | H11: EXECUTING ENTITY | I11: ABN AMRO Bank N.V.
A12: 44637 | B12: 44637.384 | C12: 31 | D12: 41.75 | E12: 1294.25 | F12: Euronext Amsterdam | H12: STOCK NAME | I12: ASR Nederland N.V.
A13: 44637 | B13: 44637.385 | C13: 172 | D13: 41.74 | E13: 7179.28 | F13: Euronext Amsterdam | H13: ISIN CODE STOCK | I13: NL0011872643
A14: 44637 | B14: 44637.385 | C14: 158 | D14: 41.79 | E14: 6602.82 | F14: Euronext Amsterdam | H14: TIME REFERENCE USED | I14: GMT+1
A15: 44637 | B15: 44637.386 | C15: 164 | D15: 41.8 | E15: 6855.2 | F15: Euronext Amsterdam
A16: 44637 | B16: 44637.388 | C16: 159 | D16: 41.73 | E16: 6635.07 | F16: Euronext Amsterdam
A17: 44637 | B17: 44637.39 | C17: 159 | D17: 41.96 | E17: 6671.64 | F17: Euronext Amsterdam
A18: 44637 | B18: 44637.391 | C18: 160 | D18: 42.01 | E18: 6721.6 | F18: Euronext Amsterdam
A19: 44637 | B19: 44637.392 | C19: 150 | D19: 41.99 | E19: 6298.5 | F19: Euronext Amsterdam
A20: 44637 | B20: 44637.393 | C20: 157 | D20: 41.84 | E20: 6568.88 | F20: Euronext Amsterdam
A21: 44637 | B21: 44637.395 | C21: 66 | D21: 41.82 | E21: 2760.12 | F21: Euronext Amsterdam
A22: 44637 | B22: 44637.395 | C22: 158 | D22: 41.83 | E22: 6609.14 | F22: Euronext Amsterdam
A23: 44637 | B23: 44637.396 | C23: 126 | D23: 41.81 | E23: 5268.06 | F23: Euronext Amsterdam
A24: 44637 | B24: 44637.396 | C24: 32 | D24: 41.81 | E24: 1337.92 | F24: Euronext Amsterdam
A25: 44637 | B25: 44637.398 | C25: 131 | D25: 41.94 | E25: 5494.14 | F25: Euronext Amsterdam
A26: 44637 | B26: 44637.398 | C26: 26 | D26: 41.94 | E26: 1090.44 | F26: Euronext Amsterdam
... A269: 44637 | B269: 44637.721 | C269: 1000 | D269: 41.31 | E269: 41310 | F269: Euronext Amsterdam
A838: =IF(#REF!=0,"",DATE(LEFT(((MID(#REF!,1,8))),4),MID(((MID(#REF!,1,8))),5,2),(RIGHT(((MID(#REF!,1,8))),2)))) -> #REF! | B838: =IF(#REF!=0,"",(MID(#REF!,10,8)*24+1)/24) -> #REF! | C838: =IF(#REF!=0,"",#REF!) -> #REF!
A839: =IF(#REF!=0,"",DATE(LEFT(((MID(#REF!,1,8))),4),MID(((MID(#REF!,1,8))),5,2),(RIGHT(((MID(#REF!,1,8))),2)))) -> #REF! | B839: =IF(#REF!=0,"",(MID(#REF!,10,8)*24+1)/24) -> #REF! | C839: =IF(#REF!=0,"",#REF!) -> #REF!
A840: =IF(#REF!=0,"",DATE(LEFT(((MID(#REF!,1,8))),4),MID(((MID(#REF!,1,8))),5,2),(RIGHT(((MID(#REF!,1,8))),2)))) -> #REF! | B840: =IF(#REF!=0,"",(MID(#REF!,10,8)*24+1)/24) -> #REF! | C840: =IF(#REF!=0,"",#REF!) -> #REF!
A841: =IF(#REF!=0,"",DATE(LEFT(((MID(#REF!,1,8))),4),MID(((MID(#REF!,1,8))),5,2),(RIGHT(((MID(#REF!,1,8))),2)))) -> #REF! | B841: =IF(#REF!=0,"",(MID(#REF!,10,8)*24+1)/24) -> #REF! | C841: =IF(#REF!=0,"",#REF!) -> #REF!
A842: =IF(#REF!=0,"",DATE(LEFT(((MID(#REF!,1,8))),4),MID(((MID(#REF!,1,8))),5,2),(RIGHT(((MID(#REF!,1,8))),2)))) -> #REF! | B842: =IF(#REF!=0,"",(MID(#REF!,10,8)*24+1)/24) -> #REF! | C842: =IF(#REF!=0,"",#REF!) -> #REF!
A843: =IF(#REF!=0,"",DATE(LEFT(((MID(#REF!,1,8))),4),MID(((MID(#REF!,1,8))),5,2),(RIGHT(((MID(#REF!,1,8))),2)))) -> #REF! | B843: =IF(#REF!=0,"",(MID(#REF!,10,8)*24+1)/24) -> #REF! | C843: =IF(#REF!=0,"",#REF!) -> #REF!
A844: =IF(#REF!=0,"",DATE(LEFT(((MID(#REF!,1,8))),4),MID(((MID(#REF!,1,8))),5,2),(RIGHT(((MID(#REF!,1,8))),2)))) -> #REF! | B844: =IF(#REF!=0,"",(MID(#REF!,10,8)*24+1)/24) -> #REF! | C844: =IF(#REF!=0,"",#REF!) -> #REF!
A845: =IF(#REF!=0,"",DATE(LEFT(((MID(#REF!,1,8))),4),MID(((MID(#REF!,1,8))),5,2),(RIGHT(((MID(#REF!,1,8))),2)))) -> #REF! | B845: =IF(#REF!=0,"",(MID(#REF!,10,8)*24+1)/24) -> #REF! | C845: =IF(#REF!=0,"",#REF!) -> #REF!
A846: =IF(#REF!=0,"",DATE(LEFT(((MID(#REF!,1,8))),4),MID(((MID(#REF!,1,8))),5,2),(RIGHT(((MID(#REF!,1,8))),2)))) -> #REF! | B846: =IF(#REF!=0,"",(MID(#REF!,10,8)*24+1)/24) -> #REF! | C846: =IF(#REF!=0,"",#REF!) -> #REF!
A847: =IF(#REF!=0,"",DATE(LEFT(((MID(#REF!,1,8))),4),MID(((MID(#REF!,1,8))),5,2),(RIGHT(((MID(#REF!,1,8))),2)))) -> #REF! | B847: =IF(#REF!=0,"",(MID(#REF!,10,8)*24+1)/24) -> #REF! | C847: =IF(#REF!=0,"",#REF!) -> #REF!
A848: =IF(#REF!=0,"",DATE(LEFT(((MID(#REF!,1,8))),4),MID(((MID(#REF!,1,8))),5,2),(RIGHT(((MID(#REF!,1,8))),2)))) -> #REF! | B848: =IF(#REF!=0,"",(MID(#REF!,10,8)*24+1)/24) -> #REF! | C848: =IF(#REF!=0,"",#REF!) -> #REF!
A849: =IF(#REF!=0,"",DATE(LEFT(((MID(#REF!,1,8))),4),MID(((MID(#REF!,1,8))),5,2),(RIGHT(((MID(#REF!,1,8))),2)))) -> #REF! | B849: =IF(#REF!=0,"",(MID(#REF!,10,8)*24+1)/24) -> #REF! | C849: =IF(#REF!=0,"",#REF!) -> #REF!
... A1941: =IF(#REF!=0,"",DATE(LEFT(((MID(#REF!,1,8))),4),MID(((MID(#REF!,1,8))),5,2),(RIGHT(((MID(#REF!,1,8))),2)))) -> #REF! | B1941: =IF(#REF!=0,"",(MID(#REF!,10,8)*24+1)/24) -> #REF! | C1941: =IF(#REF!=0,"",#REF!) -> #REF!

Sheet 16-03-2022
A1: ASR daily share purchase transaction details
A4: Date | B4: Time | C4: Volume | D4: Price | E4: Proceeds | F4: Exchange | H4: DAILY BUYBACK SUMMARY
A5: 44636 | B5: 44636.379 | C5: 141 | D5: 41.02 | E5: 5783.82 | F5: Euronext Amsterdam | H5: Exchange | I5: # shares purchased | J5: Amount purchased
A6: 44636 | B6: 44636.379 | C6: 168 | D6: 41.02 | E6: 6891.36 | F6: Euronext Amsterdam | H6: Euronext Amsterdam | I6: =SUMIF(F:F,$H$6,C:C) -> 31473 | J6: =SUMIF(F:F,$H$6,E:E) -> 1303465.2
A7: 44636 | B7: 44636.38 | C7: 24 | D7: 41.01 | E7: 984.24 | F7: Euronext Amsterdam | H7: Cboe DXE | I7: =SUMIF(F:F,$H$7,C:C) -> 0 | J7: =SUMIF(F:F,$H$7,E:E) -> 0
A8: 44636 | B8: 44636.38 | C8: 43 | D8: 41.01 | E8: 1763.43 | F8: Euronext Amsterdam | H8: Average price (rounded) | I8: =ROUND((J8/SUM(I6:I7)),4) -> 41.4153 | J8: =SUM(J6:J7) -> 1303465.2
A9: 44636 | B9: 44636.38 | C9: 95 | D9: 41.01 | E9: 3895.95 | F9: Euronext Amsterdam
A10: 44636 | B10: 44636.381 | C10: 139 | D10: 41.03 | E10: 5703.17 | F10: Euronext Amsterdam
A11: 44636 | B11: 44636.382 | C11: 158 | D11: 41.09 | E11: 6492.22 | F11: Euronext Amsterdam | H11: EXECUTING ENTITY | I11: ABN AMRO Bank N.V.
A12: 44636 | B12: 44636.383 | C12: 144 | D12: 41.01 | E12: 5905.44 | F12: Euronext Amsterdam | H12: STOCK NAME | I12: ASR Nederland N.V.
A13: 44636 | B13: 44636.383 | C13: 149 | D13: 40.98 | E13: 6106.02 | F13: Euronext Amsterdam | H13: ISIN CODE STOCK | I13: NL0011872643
A14: 44636 | B14: 44636.386 | C14: 157 | D14: 41.25 | E14: 6476.25 | F14: Euronext Amsterdam | H14: TIME REFERENCE USED | I14: GMT+1
A15: 44636 | B15: 44636.386 | C15: 142 | D15: 41.25 | E15: 5857.5 | F15: Euronext Amsterdam
A16: 44636 | B16: 44636.387 | C16: 174 | D16: 41.28 | E16: 7182.72 | F16: Euronext Amsterdam
A17: 44636 | B17: 44636.389 | C17: 158 | D17: 41.28 | E17: 6522.24 | F17: Euronext Amsterdam
A18: 44636 | B18: 44636.389 | C18: 147 | D18: 41.26 | E18: 6065.22 | F18: Euronext Amsterdam
A19: 44636 | B19: 44636.391 | C19: 143 | D19: 41.24 | E19: 5897.32 | F19: Euronext Amsterdam
A20: 44636 | B20: 44636.392 | C20: 18 | D20: 41.25 | E20: 742.5 | F20: Euronext Amsterdam
A21: 44636 | B21: 44636.392 | C21: 144 | D21: 41.25 | E21: 5940 | F21: Euronext Amsterdam
A22: 44636 | B22: 44636.395 | C22: 161 | D22: 41.05 | E22: 6609.05 | F22: Euronext Amsterdam
A23: 44636 | B23: 44636.395 | C23: 140 | D23: 41.06 | E23: 5748.4 | F23: Euronext Amsterdam
A24: 44636 | B24: 44636.396 | C24: 11 | D24: 41.07 | E24: 451.77 | F24: Euronext Amsterdam
A25: 44636 | B25: 44636.396 | C25: 139 | D25: 41.07 | E25: 5708.73 | F25: Euronext Amsterdam
A26: 44636 | B26: 44636.396 | C26: 11 | D26: 41.07 | E26: 451.77 | F26: Euronext Amsterdam
... A273: 44636 | B273: 44636.722 | C273: 271 | D273: 41.56 | E273: 11262.76 | F273: Euronext Amsterdam
A838: =IF(#REF!=0,"",DATE(LEFT(((MID(#REF!,1,8))),4),MID(((MID(#REF!,1,8))),5,2),(RIGHT(((MID(#REF!,1,8))),2)))) -> #REF! | B838: =IF(#REF!=0,"",(MID(#REF!,10,8)*24+1)/24) -> #REF! | C838: =IF(#REF!=0,"",#REF!) -> #REF!
A839: =IF(#REF!=0,"",DATE(LEFT(((MID(#REF!,1,8))),4),MID(((MID(#REF!,1,8))),5,2),(RIGHT(((MID(#REF!,1,8))),2)))) -> #REF! | B839: =IF(#REF!=0,"",(MID(#REF!,10,8)*24+1)/24) -> #REF! | C839: =IF(#REF!=0,"",#REF!) -> #REF!
A840: =IF(#REF!=0,"",DATE(LEFT(((MID(#REF!,1,8))),4),MID(((MID(#REF!,1,8))),5,2),(RIGHT(((MID(#REF!,1,8))),2)))) -> #REF! | B840: =IF(#REF!=0,"",(MID(#REF!,10,8)*24+1)/24) -> #REF! | C840: =IF(#REF!=0,"",#REF!) -> #REF!
A841: =IF(#REF!=0,"",DATE(LEFT(((MID(#REF!,1,8))),4),MID(((MID(#REF!,1,8))),5,2),(RIGHT(((MID(#REF!,1,8))),2)))) -> #REF! | B841: =IF(#REF!=0,"",(MID(#REF!,10,8)*24+1)/24) -> #REF! | C841: =IF(#REF!=0,"",#REF!) -> #REF!
A842: =IF(#REF!=0,"",DATE(LEFT(((MID(#REF!,1,8))),4),MID(((MID(#REF!,1,8))),5,2),(RIGHT(((MID(#REF!,1,8))),2)))) -> #REF! | B842: =IF(#REF!=0,"",(MID(#REF!,10,8)*24+1)/24) -> #REF! | C842: =IF(#REF!=0,"",#REF!) -> #REF!
A843: =IF(#REF!=0,"",DATE(LEFT(((MID(#REF!,1,8))),4),MID(((MID(#REF!,1,8))),5,2),(RIGHT(((MID(#REF!,1,8))),2)))) -> #REF! | B843: =IF(#REF!=0,"",(MID(#REF!,10,8)*24+1)/24) -> #REF! | C843: =IF(#REF!=0,"",#REF!) -> #REF!
A844: =IF(#REF!=0,"",DATE(LEFT(((MID(#REF!,1,8))),4),MID(((MID(#REF!,1,8))),5,2),(RIGHT(((MID(#REF!,1,8))),2)))) -> #REF! | B844: =IF(#REF!=0,"",(MID(#REF!,10,8)*24+1)/24) -> #REF! | C844: =IF(#REF!=0,"",#REF!) -> #REF!
A845: =IF(#REF!=0,"",DATE(LEFT(((MID(#REF!,1,8))),4),MID(((MID(#REF!,1,8))),5,2),(RIGHT(((MID(#REF!,1,8))),2)))) -> #REF! | B845: =IF(#REF!=0,"",(MID(#REF!,10,8)*24+1)/24) -> #REF! | C845: =IF(#REF!=0,"",#REF!) -> #REF!
A846: =IF(#REF!=0,"",DATE(LEFT(((MID(#REF!,1,8))),4),MID(((MID(#REF!,1,8))),5,2),(RIGHT(((MID(#REF!,1,8))),2)))) -> #REF! | B846: =IF(#REF!=0,"",(MID(#REF!,10,8)*24+1)/24) -> #REF! | C846: =IF(#REF!=0,"",#REF!) -> #REF!
A847: =IF(#REF!=0,"",DATE(LEFT(((MID(#REF!,1,8))),4),MID(((MID(#REF!,1,8))),5,2),(RIGHT(((MID(#REF!,1,8))),2)))) -> #REF! | B847: =IF(#REF!=0,"",(MID(#REF!,10,8)*24+1)/24) -> #REF! | C847: =IF(#REF!=0,"",#REF!) -> #REF!
A848: =IF(#REF!=0,"",DATE(LEFT(((MID(#REF!,1,8))),4),MID(((MID(#REF!,1,8))),5,2),(RIGHT(((MID(#REF!,1,8))),2)))) -> #REF! | B848: =IF(#REF!=0,"",(MID(#REF!,10,8)*24+1)/24) -> #REF! | C848: =IF(#REF!=0,"",#REF!) -> #REF!
A849: =IF(#REF!=0,"",DATE(LEFT(((MID(#REF!,1,8))),4),MID(((MID(#REF!,1,8))),5,2),(RIGHT(((MID(#REF!,1,8))),2)))) -> #REF! | B849: =IF(#REF!=0,"",(MID(#REF!,10,8)*24+1)/24) -> #REF! | C849: =IF(#REF!=0,"",#REF!) -> #REF!
... A1941: =IF(#REF!=0,"",DATE(LEFT(((MID(#REF!,1,8))),4),MID(((MID(#REF!,1,8))),5,2),(RIGHT(((MID(#REF!,1,8))),2)))) -> #REF! | B1941: =IF(#REF!=0,"",(MID(#REF!,10,8)*24+1)/24) -> #REF! | C1941: =IF(#REF!=0,"",#REF!) -> #REF!

Sheet 15-03-2022
A1: ASR daily share purchase transaction details
A4: Date | B4: Time | C4: Volume | D4: Price | E4: Proceeds | F4: Exchange | H4: DAILY BUYBACK SUMMARY
A5: 44635 | B5: 44635.379 | C5: 146 | D5: 39.86 | E5: 5819.56 | F5: Euronext Amsterdam | H5: Exchange | I5: # shares purchased | J5: Amount purchased
A6: 44635 | B6: 44635.38 | C6: 158 | D6: 40.04 | E6: 6326.32 | F6: Euronext Amsterdam | H6: Euronext Amsterdam | I6: =SUMIF(F:F,$H$6,C:C) -> 32119 | J6: =SUMIF(F:F,$H$6,E:E) -> 1281498
A7: 44635 | B7: 44635.38 | C7: 141 | D7: 40.04 | E7: 5645.64 | F7: Euronext Amsterdam | H7: Cboe DXE | I7: =SUMIF(F:F,$H$7,C:C) -> 0 | J7: =SUMIF(F:F,$H$7,E:E) -> 0
A8: 44635 | B8: 44635.38 | C8: 163 | D8: 40.05 | E8: 6528.15 | F8: Euronext Amsterdam | H8: Average price (rounded) | I8: =ROUND((J8/SUM(I6:I7)),4) -> 39.8984 | J8: =SUM(J6:J7) -> 1281498
A9: 44635 | B9: 44635.381 | C9: 156 | D9: 39.98 | E9: 6236.88 | F9: Euronext Amsterdam
A10: 44635 | B10: 44635.382 | C10: 158 | D10: 39.89 | E10: 6302.62 | F10: Euronext Amsterdam
A11: 44635 | B11: 44635.383 | C11: 161 | D11: 39.67 | E11: 6386.87 | F11: Euronext Amsterdam | H11: EXECUTING ENTITY | I11: ABN AMRO Bank N.V.
A12: 44635 | B12: 44635.385 | C12: 180 | D12: 39.74 | E12: 7153.2 | F12: Euronext Amsterdam | H12: STOCK NAME | I12: ASR Nederland N.V.
A13: 44635 | B13: 44635.386 | C13: 17 | D13: 39.64 | E13: 673.88 | F13: Euronext Amsterdam | H13: ISIN CODE STOCK | I13: NL0011872643
A14: 44635 | B14: 44635.386 | C14: 80 | D14: 39.64 | E14: 3171.2 | F14: Euronext Amsterdam | H14: TIME REFERENCE USED | I14: GMT+1
A15: 44635 | B15: 44635.386 | C15: 57 | D15: 39.64 | E15: 2259.48 | F15: Euronext Amsterdam
A16: 44635 | B16: 44635.387 | C16: 152 | D16: 39.61 | E16: 6020.72 | F16: Euronext Amsterdam
A17: 44635 | B17: 44635.388 | C17: 147 | D17: 39.61 | E17: 5822.67 | F17: Euronext Amsterdam
A18: 44635 | B18: 44635.389 | C18: 159 | D18: 39.55 | E18: 6288.45 | F18: Euronext Amsterdam
A19: 44635 | B19: 44635.389 | C19: 1 | D19: 39.55 | E19: 39.55 | F19: Euronext Amsterdam
A20: 44635 | B20: 44635.39 | C20: 143 | D20: 39.68 | E20: 5674.24 | F20: Euronext Amsterdam
A21: 44635 | B21: 44635.393 | C21: 157 | D21: 39.74 | E21: 6239.18 | F21: Euronext Amsterdam
A22: 44635 | B22: 44635.393 | C22: 166 | D22: 39.74 | E22: 6596.84 | F22: Euronext Amsterdam
A23: 44635 | B23: 44635.394 | C23: 26 | D23: 39.67 | E23: 1031.42 | F23: Euronext Amsterdam
A24: 44635 | B24: 44635.394 | C24: 57 | D24: 39.67 | E24: 2261.19 | F24: Euronext Amsterdam
A25: 44635 | B25: 44635.395 | C25: 53 | D25: 39.7 | E25: 2104.1 | F25: Euronext Amsterdam
A26: 44635 | B26: 44635.395 | C26: 94 | D26: 39.7 | E26: 3731.8 | F26: Euronext Amsterdam
... A301: 44635 | B301: 44635.725 | C301: 30 | D301: 40.16 | E301: 1204.8 | F301: Euronext Amsterdam
A838: =IF(#REF!=0,"",DATE(LEFT(((MID(#REF!,1,8))),4),MID(((MID(#REF!,1,8))),5,2),(RIGHT(((MID(#REF!,1,8))),2)))) -> #REF! | B838: =IF(#REF!=0,"",(MID(#REF!,10,8)*24+1)/24) -> #REF! | C838: =IF(#REF!=0,"",#REF!) -> #REF!
A839: =IF(#REF!=0,"",DATE(LEFT(((MID(#REF!,1,8))),4),MID(((MID(#REF!,1,8))),5,2),(RIGHT(((MID(#REF!,1,8))),2)))) -> #REF! | B839: =IF(#REF!=0,"",(MID(#REF!,10,8)*24+1)/24) -> #REF! | C839: =IF(#REF!=0,"",#REF!) -> #REF!
A840: =IF(#REF!=0,"",DATE(LEFT(((MID(#REF!,1,8))),4),MID(((MID(#REF!,1,8))),5,2),(RIGHT(((MID(#REF!,1,8))),2)))) -> #REF! | B840: =IF(#REF!=0,"",(MID(#REF!,10,8)*24+1)/24) -> #REF! | C840: =IF(#REF!=0,"",#REF!) -> #REF!
A841: =IF(#REF!=0,"",DATE(LEFT(((MID(#REF!,1,8))),4),MID(((MID(#REF!,1,8))),5,2),(RIGHT(((MID(#REF!,1,8))),2)))) -> #REF! | B841: =IF(#REF!=0,"",(MID(#REF!,10,8)*24+1)/24) -> #REF! | C841: =IF(#REF!=0,"",#REF!) -> #REF!
A842: =IF(#REF!=0,"",DATE(LEFT(((MID(#REF!,1,8))),4),MID(((MID(#REF!,1,8))),5,2),(RIGHT(((MID(#REF!,1,8))),2)))) -> #REF! | B842: =IF(#REF!=0,"",(MID(#REF!,10,8)*24+1)/24) -> #REF! | C842: =IF(#REF!=0,"",#REF!) -> #REF!
A843: =IF(#REF!=0,"",DATE(LEFT(((MID(#REF!,1,8))),4),MID(((MID(#REF!,1,8))),5,2),(RIGHT(((MID(#REF!,1,8))),2)))) -> #REF! | B843: =IF(#REF!=0,"",(MID(#REF!,10,8)*24+1)/24) -> #REF! | C843: =IF(#REF!=0,"",#REF!) -> #REF!
A844: =IF(#REF!=0,"",DATE(LEFT(((MID(#REF!,1,8))),4),MID(((MID(#REF!,1,8))),5,2),(RIGHT(((MID(#REF!,1,8))),2)))) -> #REF! | B844: =IF(#REF!=0,"",(MID(#REF!,10,8)*24+1)/24) -> #REF! | C844: =IF(#REF!=0,"",#REF!) -> #REF!
A845: =IF(#REF!=0,"",DATE(LEFT(((MID(#REF!,1,8))),4),MID(((MID(#REF!,1,8))),5,2),(RIGHT(((MID(#REF!,1,8))),2)))) -> #REF! | B845: =IF(#REF!=0,"",(MID(#REF!,10,8)*24+1)/24) -> #REF! | C845: =IF(#REF!=0,"",#REF!) -> #REF!
A846: =IF(#REF!=0,"",DATE(LEFT(((MID(#REF!,1,8))),4),MID(((MID(#REF!,1,8))),5,2),(RIGHT(((MID(#REF!,1,8))),2)))) -> #REF! | B846: =IF(#REF!=0,"",(MID(#REF!,10,8)*24+1)/24) -> #REF! | C846: =IF(#REF!=0,"",#REF!) -> #REF!
A847: =IF(#REF!=0,"",DATE(LEFT(((MID(#REF!,1,8))),4),MID(((MID(#REF!,1,8))),5,2),(RIGHT(((MID(#REF!,1,8))),2)))) -> #REF! | B847: =IF(#REF!=0,"",(MID(#REF!,10,8)*24+1)/24) -> #REF! | C847: =IF(#REF!=0,"",#REF!) -> #REF!
A848: =IF(#REF!=0,"",DATE(LEFT(((MID(#REF!,1,8))),4),MID(((MID(#REF!,1,8))),5,2),(RIGHT(((MID(#REF!,1,8))),2)))) -> #REF! | B848: =IF(#REF!=0,"",(MID(#REF!,10,8)*24+1)/24) -> #REF! | C848: =IF(#REF!=0,"",#REF!) -> #REF!
A849: =IF(#REF!=0,"",DATE(LEFT(((MID(#REF!,1,8))),4),MID(((MID(#REF!,1,8))),5,2),(RIGHT(((MID(#REF!,1,8))),2)))) -> #REF! | B849: =IF(#REF!=0,"",(MID(#REF!,10,8)*24+1)/24) -> #REF! | C849: =IF(#REF!=0,"",#REF!) -> #REF!
... A1941: =IF(#REF!=0,"",DATE(LEFT(((MID(#REF!,1,8))),4),MID(((MID(#REF!,1,8))),5,2),(RIGHT(((MID(#REF!,1,8))),2)))) -> #REF! | B1941: =IF(#REF!=0,"",(MID(#REF!,10,8)*24+1)/24) -> #REF! | C1941: =IF(#REF!=0,"",#REF!) -> #REF!

Sheet 14-03-2022
A1: ASR daily share purchase transaction details
A4: Date | B4: Time | C4: Volume | D4: Price | E4: Proceeds | F4: Exchange | H4: DAILY BUYBACK SUMMARY
A5: 44634 | B5: 44634.379 | C5: 158 | D5: 39.29 | E5: 6207.82 | F5: Euronext Amsterdam | H5: Exchange | I5: # shares purchased | J5: Amount purchased
A6: 44634 | B6: 44634.379 | C6: 153 | D6: 39.29 | E6: 6011.37 | F6: Euronext Amsterdam | H6: Euronext Amsterdam | I6: =SUMIF(F:F,$H$6,C:C) -> 32229 | J6: =SUMIF(F:F,$H$6,E:E) -> 1288003.9
A7: 44634 | B7: 44634.38 | C7: 150 | D7: 39.59 | E7: 5938.5 | F7: Euronext Amsterdam | H7: Cboe DXE | I7: =SUMIF(F:F,$H$7,C:C) -> 0 | J7: =SUMIF(F:F,$H$7,E:E) -> 0
A8: 44634 | B8: 44634.38 | C8: 142 | D8: 39.59 | E8: 5621.78 | F8: Euronext Amsterdam | H8: Average price (rounded) | I8: =ROUND((J8/SUM(I6:I7)),4) -> 39.9641 | J8: =SUM(J6:J7) -> 1288003.9
A9: 44634 | B9: 44634.381 | C9: 147 | D9: 39.65 | E9: 5828.55 | F9: Euronext Amsterdam
A10: 44634 | B10: 44634.382 | C10: 148 | D10: 39.64 | E10: 5866.72 | F10: Euronext Amsterdam
A11: 44634 | B11: 44634.383 | C11: 148 | D11: 39.89 | E11: 5903.72 | F11: Euronext Amsterdam | H11: EXECUTING ENTITY | I11: ABN AMRO Bank N.V.
A12: 44634 | B12: 44634.384 | C12: 147 | D12: 40.05 | E12: 5887.35 | F12: Euronext Amsterdam | H12: STOCK NAME | I12: ASR Nederland N.V.
A13: 44634 | B13: 44634.385 | C13: 149 | D13: 39.94 | E13: 5951.06 | F13: Euronext Amsterdam | H13: ISIN CODE STOCK | I13: NL0011872643
A14: 44634 | B14: 44634.386 | C14: 148 | D14: 40.12 | E14: 5937.76 | F14: Euronext Amsterdam | H14: TIME REFERENCE USED | I14: GMT+1
A15: 44634 | B15: 44634.387 | C15: 141 | D15: 39.9 | E15: 5625.9 | F15: Euronext Amsterdam
A16: 44634 | B16: 44634.388 | C16: 67 | D16: 39.86 | E16: 2670.62 | F16: Euronext Amsterdam
A17: 44634 | B17: 44634.388 | C17: 76 | D17: 39.86 | E17: 3029.36 | F17: Euronext Amsterdam
A18: 44634 | B18: 44634.39 | C18: 158 | D18: 39.87 | E18: 6299.46 | F18: Euronext Amsterdam
A19: 44634 | B19: 44634.39 | C19: 142 | D19: 39.87 | E19: 5661.54 | F19: Euronext Amsterdam
A20: 44634 | B20: 44634.39 | C20: 4 | D20: 39.87 | E20: 159.48 | F20: Euronext Amsterdam
A21: 44634 | B21: 44634.391 | C21: 148 | D21: 39.84 | E21: 5896.32 | F21: Euronext Amsterdam
A22: 44634 | B22: 44634.393 | C22: 31 | D22: 39.92 | E22: 1237.52 | F22: Euronext Amsterdam
A23: 44634 | B23: 44634.393 | C23: 112 | D23: 39.92 | E23: 4471.04 | F23: Euronext Amsterdam
A24: 44634 | B24: 44634.394 | C24: 172 | D24: 39.95 | E24: 6871.4 | F24: Euronext Amsterdam
A25: 44634 | B25: 44634.395 | C25: 146 | D25: 39.85 | E25: 5818.1 | F25: Euronext Amsterdam
A26: 44634 | B26: 44634.396 | C26: 162 | D26: 39.74 | E26: 6437.88 | F26: Euronext Amsterdam
... A285: 44634 | B285: 44634.721 | C285: 139 | D285: 40.09 | E285: 5572.51 | F285: Euronext Amsterdam
A838: =IF(#REF!=0,"",DATE(LEFT(((MID(#REF!,1,8))),4),MID(((MID(#REF!,1,8))),5,2),(RIGHT(((MID(#REF!,1,8))),2)))) -> #REF! | B838: =IF(#REF!=0,"",(MID(#REF!,10,8)*24+1)/24) -> #REF! | C838: =IF(#REF!=0,"",#REF!) -> #REF!
A839: =IF(#REF!=0,"",DATE(LEFT(((MID(#REF!,1,8))),4),MID(((MID(#REF!,1,8))),5,2),(RIGHT(((MID(#REF!,1,8))),2)))) -> #REF! | B839: =IF(#REF!=0,"",(MID(#REF!,10,8)*24+1)/24) -> #REF! | C839: =IF(#REF!=0,"",#REF!) -> #REF!
A840: =IF(#REF!=0,"",DATE(LEFT(((MID(#REF!,1,8))),4),MID(((MID(#REF!,1,8))),5,2),(RIGHT(((MID(#REF!,1,8))),2)))) -> #REF! | B840: =IF(#REF!=0,"",(MID(#REF!,10,8)*24+1)/24) -> #REF! | C840: =IF(#REF!=0,"",#REF!) -> #REF!
A841: =IF(#REF!=0,"",DATE(LEFT(((MID(#REF!,1,8))),4),MID(((MID(#REF!,1,8))),5,2),(RIGHT(((MID(#REF!,1,8))),2)))) -> #REF! | B841: =IF(#REF!=0,"",(MID(#REF!,10,8)*24+1)/24) -> #REF! | C841: =IF(#REF!=0,"",#REF!) -> #REF!
A842: =IF(#REF!=0,"",DATE(LEFT(((MID(#REF!,1,8))),4),MID(((MID(#REF!,1,8))),5,2),(RIGHT(((MID(#REF!,1,8))),2)))) -> #REF! | B842: =IF(#REF!=0,"",(MID(#REF!,10,8)*24+1)/24) -> #REF! | C842: =IF(#REF!=0,"",#REF!) -> #REF!
A843: =IF(#REF!=0,"",DATE(LEFT(((MID(#REF!,1,8))),4),MID(((MID(#REF!,1,8))),5,2),(RIGHT(((MID(#REF!,1,8))),2)))) -> #REF! | B843: =IF(#REF!=0,"",(MID(#REF!,10,8)*24+1)/24) -> #REF! | C843: =IF(#REF!=0,"",#REF!) -> #REF!
A844: =IF(#REF!=0,"",DATE(LEFT(((MID(#REF!,1,8))),4),MID(((MID(#REF!,1,8))),5,2),(RIGHT(((MID(#REF!,1,8))),2)))) -> #REF! | B844: =IF(#REF!=0,"",(MID(#REF!,10,8)*24+1)/24) -> #REF! | C844: =IF(#REF!=0,"",#REF!) -> #REF!
A845: =IF(#REF!=0,"",DATE(LEFT(((MID(#REF!,1,8))),4),MID(((MID(#REF!,1,8))),5,2),(RIGHT(((MID(#REF!,1,8))),2)))) -> #REF! | B845: =IF(#REF!=0,"",(MID(#REF!,10,8)*24+1)/24) -> #REF! | C845: =IF(#REF!=0,"",#REF!) -> #REF!
A846: =IF(#REF!=0,"",DATE(LEFT(((MID(#REF!,1,8))),4),MID(((MID(#REF!,1,8))),5,2),(RIGHT(((MID(#REF!,1,8))),2)))) -> #REF! | B846: =IF(#REF!=0,"",(MID(#REF!,10,8)*24+1)/24) -> #REF! | C846: =IF(#REF!=0,"",#REF!) -> #REF!
A847: =IF(#REF!=0,"",DATE(LEFT(((MID(#REF!,1,8))),4),MID(((MID(#REF!,1,8))),5,2),(RIGHT(((MID(#REF!,1,8))),2)))) -> #REF! | B847: =IF(#REF!=0,"",(MID(#REF!,10,8)*24+1)/24) -> #REF! | C847: =IF(#REF!=0,"",#REF!) -> #REF!
A848: =IF(#REF!=0,"",DATE(LEFT(((MID(#REF!,1,8))),4),MID(((MID(#REF!,1,8))),5,2),(RIGHT(((MID(#REF!,1,8))),2)))) -> #REF! | B848: =IF(#REF!=0,"",(MID(#REF!,10,8)*24+1)/24) -> #REF! | C848: =IF(#REF!=0,"",#REF!) -> #REF!
A849: =IF(#REF!=0,"",DATE(LEFT(((MID(#REF!,1,8))),4),MID(((MID(#REF!,1,8))),5,2),(RIGHT(((MID(#REF!,1,8))),2)))) -> #REF! | B849: =IF(#REF!=0,"",(MID(#REF!,10,8)*24+1)/24) -> #REF! | C849: =IF(#REF!=0,"",#REF!) -> #REF!
... A1941: =IF(#REF!=0,"",DATE(LEFT(((MID(#REF!,1,8))),4),MID(((MID(#REF!,1,8))),5,2),(RIGHT(((MID(#REF!,1,8))),2)))) -> #REF! | B1941: =IF(#REF!=0,"",(MID(#REF!,10,8)*24+1)/24) -> #REF! | C1941: =IF(#REF!=0,"",#REF!) -> #REF!

Sheet 11-03-2022
A1: ASR daily share purchase transaction details
A4: Date | B4: Time | C4: Volume | D4: Price | E4: Proceeds | F4: Exchange | H4: DAILY BUYBACK SUMMARY
A5: 44631 | B5: 44631.378 | C5: 42 | D5: 37.99 | E5: 1595.58 | F5: Euronext Amsterdam | H5: Exchange | I5: # shares purchased | J5: Amount purchased
A6: 44631 | B6: 44631.379 | C6: 290 | D6: 38.17 | E6: 11069.3 | F6: Euronext Amsterdam | H6: Euronext Amsterdam | I6: =SUMIF(F:F,$H$6,C:C) -> 35170 | J6: =SUMIF(F:F,$H$6,E:E) -> 1350396.8
A7: 44631 | B7: 44631.379 | C7: 271 | D7: 38.18 | E7: 10346.78 | F7: Euronext Amsterdam | H7: Cboe DXE | I7: =SUMIF(F:F,$H$7,C:C) -> 0 | J7: =SUMIF(F:F,$H$7,E:E) -> 0
A8: 44631 | B8: 44631.379 | C8: 271 | D8: 38.17 | E8: 10344.07 | F8: Euronext Amsterdam | H8: Average price (rounded) | I8: =ROUND((J8/SUM(I6:I7)),4) -> 38.3963 | J8: =SUM(J6:J7) -> 1350396.8
A9: 44631 | B9: 44631.38 | C9: 145 | D9: 38.31 | E9: 5554.95 | F9: Euronext Amsterdam
A10: 44631 | B10: 44631.382 | C10: 133 | D10: 37.99 | E10: 5052.67 | F10: Euronext Amsterdam
A11: 44631 | B11: 44631.382 | C11: 166 | D11: 37.99 | E11: 6306.34 | F11: Euronext Amsterdam | H11: EXECUTING ENTITY | I11: ABN AMRO Bank N.V.
A12: 44631 | B12: 44631.382 | C12: 93 | D12: 37.99 | E12: 3533.07 | F12: Euronext Amsterdam | H12: STOCK NAME | I12: ASR Nederland N.V.
A13: 44631 | B13: 44631.383 | C13: 39 | D13: 37.9 | E13: 1478.1 | F13: Euronext Amsterdam | H13: ISIN CODE STOCK | I13: NL0011872643
A14: 44631 | B14: 44631.385 | C14: 70 | D14: 38.24 | E14: 2676.8 | F14: Euronext Amsterdam | H14: TIME REFERENCE USED | I14: GMT+1
A15: 44631 | B15: 44631.385 | C15: 81 | D15: 38.24 | E15: 3097.44 | F15: Euronext Amsterdam
A16: 44631 | B16: 44631.385 | C16: 147 | D16: 38.21 | E16: 5616.87 | F16: Euronext Amsterdam
A17: 44631 | B17: 44631.385 | C17: 55 | D17: 38.2 | E17: 2101 | F17: Euronext Amsterdam
A18: 44631 | B18: 44631.385 | C18: 143 | D18: 38.2 | E18: 5462.6 | F18: Euronext Amsterdam
A19: 44631 | B19: 44631.385 | C19: 86 | D19: 38.2 | E19: 3285.2 | F19: Euronext Amsterdam
A20: 44631 | B20: 44631.386 | C20: 155 | D20: 38.23 | E20: 5925.65 | F20: Euronext Amsterdam
A21: 44631 | B21: 44631.388 | C21: 160 | D21: 37.77 | E21: 6043.2 | F21: Euronext Amsterdam
A22: 44631 | B22: 44631.388 | C22: 148 | D22: 37.77 | E22: 5589.96 | F22: Euronext Amsterdam
A23: 44631 | B23: 44631.389 | C23: 165 | D23: 37.68 | E23: 6217.2 | F23: Euronext Amsterdam
A24: 44631 | B24: 44631.39 | C24: 147 | D24: 37.49 | E24: 5511.03 | F24: Euronext Amsterdam
A25: 44631 | B25: 44631.392 | C25: 149 | D25: 37.55 | E25: 5594.95 | F25: Euronext Amsterdam
A26: 44631 | B26: 44631.393 | C26: 102 | D26: 37.73 | E26: 3848.46 | F26: Euronext Amsterdam
... A304: 44631 | B304: 44631.722 | C304: 158 | D304: 38.42 | E304: 6070.36 | F304: Euronext Amsterdam
A838: =IF(#REF!=0,"",DATE(LEFT(((MID(#REF!,1,8))),4),MID(((MID(#REF!,1,8))),5,2),(RIGHT(((MID(#REF!,1,8))),2)))) -> #REF! | B838: =IF(#REF!=0,"",(MID(#REF!,10,8)*24+1)/24) -> #REF! | C838: =IF(#REF!=0,"",#REF!) -> #REF!
A839: =IF(#REF!=0,"",DATE(LEFT(((MID(#REF!,1,8))),4),MID(((MID(#REF!,1,8))),5,2),(RIGHT(((MID(#REF!,1,8))),2)))) -> #REF! | B839: =IF(#REF!=0,"",(MID(#REF!,10,8)*24+1)/24) -> #REF! | C839: =IF(#REF!=0,"",#REF!) -> #REF!
A840: =IF(#REF!=0,"",DATE(LEFT(((MID(#REF!,1,8))),4),MID(((MID(#REF!,1,8))),5,2),(RIGHT(((MID(#REF!,1,8))),2)))) -> #REF! | B840: =IF(#REF!=0,"",(MID(#REF!,10,8)*24+1)/24) -> #REF! | C840: =IF(#REF!=0,"",#REF!) -> #REF!
A841: =IF(#REF!=0,"",DATE(LEFT(((MID(#REF!,1,8))),4),MID(((MID(#REF!,1,8))),5,2),(RIGHT(((MID(#REF!,1,8))),2)))) -> #REF! | B841: =IF(#REF!=0,"",(MID(#REF!,10,8)*24+1)/24) -> #REF! | C841: =IF(#REF!=0,"",#REF!) -> #REF!
A842: =IF(#REF!=0,"",DATE(LEFT(((MID(#REF!,1,8))),4),MID(((MID(#REF!,1,8))),5,2),(RIGHT(((MID(#REF!,1,8))),2)))) -> #REF! | B842: =IF(#REF!=0,"",(MID(#REF!,10,8)*24+1)/24) -> #REF! | C842: =IF(#REF!=0,"",#REF!) -> #REF!
A843: =IF(#REF!=0,"",DATE(LEFT(((MID(#REF!,1,8))),4),MID(((MID(#REF!,1,8))),5,2),(RIGHT(((MID(#REF!,1,8))),2)))) -> #REF! | B843: =IF(#REF!=0,"",(MID(#REF!,10,8)*24+1)/24) -> #REF! | C843: =IF(#REF!=0,"",#REF!) -> #REF!
A844: =IF(#REF!=0,"",DATE(LEFT(((MID(#REF!,1,8))),4),MID(((MID(#REF!,1,8))),5,2),(RIGHT(((MID(#REF!,1,8))),2)))) -> #REF! | B844: =IF(#REF!=0,"",(MID(#REF!,10,8)*24+1)/24) -> #REF! | C844: =IF(#REF!=0,"",#REF!) -> #REF!
A845: =IF(#REF!=0,"",DATE(LEFT(((MID(#REF!,1,8))),4),MID(((MID(#REF!,1,8))),5,2),(RIGHT(((MID(#REF!,1,8))),2)))) -> #REF! | B845: =IF(#REF!=0,"",(MID(#REF!,10,8)*24+1)/24) -> #REF! | C845: =IF(#REF!=0,"",#REF!) -> #REF!
A846: =IF(#REF!=0,"",DATE(LEFT(((MID(#REF!,1,8))),4),MID(((MID(#REF!,1,8))),5,2),(RIGHT(((MID(#REF!,1,8))),2)))) -> #REF! | B846: =IF(#REF!=0,"",(MID(#REF!,10,8)*24+1)/24) -> #REF! | C846: =IF(#REF!=0,"",#REF!) -> #REF!
A847: =IF(#REF!=0,"",DATE(LEFT(((MID(#REF!,1,8))),4),MID(((MID(#REF!,1,8))),5,2),(RIGHT(((MID(#REF!,1,8))),2)))) -> #REF! | B847: =IF(#REF!=0,"",(MID(#REF!,10,8)*24+1)/24) -> #REF! | C847: =IF(#REF!=0,"",#REF!) -> #REF!
A848: =IF(#REF!=0,"",DATE(LEFT(((MID(#REF!,1,8))),4),MID(((MID(#REF!,1,8))),5,2),(RIGHT(((MID(#REF!,1,8))),2)))) -> #REF! | B848: =IF(#REF!=0,"",(MID(#REF!,10,8)*24+1)/24) -> #REF! | C848: =IF(#REF!=0,"",#REF!) -> #REF!
A849: =IF(#REF!=0,"",DATE(LEFT(((MID(#REF!,1,8))),4),MID(((MID(#REF!,1,8))),5,2),(RIGHT(((MID(#REF!,1,8))),2)))) -> #REF! | B849: =IF(#REF!=0,"",(MID(#REF!,10,8)*24+1)/24) -> #REF! | C849: =IF(#REF!=0,"",#REF!) -> #REF!
... A1941: =IF(#REF!=0,"",DATE(LEFT(((MID(#REF!,1,8))),4),MID(((MID(#REF!,1,8))),5,2),(RIGHT(((MID(#REF!,1,8))),2)))) -> #REF! | B1941: =IF(#REF!=0,"",(MID(#REF!,10,8)*24+1)/24) -> #REF! | C1941: =IF(#REF!=0,"",#REF!) -> #REF!

Sheet 10-03-2022
A1: ASR daily share purchase transaction details
A4: Date | B4: Time | C4: Volume | D4: Price | E4: Proceeds | F4: Exchange | H4: DAILY BUYBACK SUMMARY
A5: 44630 | B5: 44630.378 | C5: 36 | D5: 38.34 | E5: 1380.24 | F5: Euronext Amsterdam | H5: Exchange | I5: # shares purchased | J5: Amount purchased
A6: 44630 | B6: 44630.379 | C6: 20 | D6: 38.41 | E6: 768.2 | F6: Euronext Amsterdam | H6: Euronext Amsterdam | I6: =SUMIF(F:F,$H$6,C:C) -> 35526 | J6: =SUMIF(F:F,$H$6,E:E) -> 1347421.7
A7: 44630 | B7: 44630.379 | C7: 250 | D7: 38.41 | E7: 9602.5 | F7: Euronext Amsterdam | H7: Cboe DXE | I7: =SUMIF(F:F,$H$7,C:C) -> 0 | J7: =SUMIF(F:F,$H$7,E:E) -> 0
A8: 44630 | B8: 44630.379 | C8: 213 | D8: 38.41 | E8: 8181.33 | F8: Euronext Amsterdam | H8: Average price (rounded) | I8: =ROUND((J8/SUM(I6:I7)),4) -> 37.9278 | J8: =SUM(J6:J7) -> 1347421.7
A9: 44630 | B9: 44630.379 | C9: 244 | D9: 38.41 | E9: 9372.04 | F9: Euronext Amsterdam
A10: 44630 | B10: 44630.38 | C10: 251 | D10: 38.51 | E10: 9666.01 | F10: Euronext Amsterdam
A11: 44630 | B11: 44630.38 | C11: 165 | D11: 38.51 | E11: 6354.15 | F11: Euronext Amsterdam | H11: EXECUTING ENTITY | I11: ABN AMRO Bank N.V.
A12: 44630 | B12: 44630.381 | C12: 141 | D12: 38.51 | E12: 5429.91 | F12: Euronext Amsterdam | H12: STOCK NAME | I12: ASR Nederland N.V.
A13: 44630 | B13: 44630.382 | C13: 162 | D13: 38.57 | E13: 6248.34 | F13: Euronext Amsterdam | H13: ISIN CODE STOCK | I13: NL0011872643
A14: 44630 | B14: 44630.383 | C14: 162 | D14: 38.4 | E14: 6220.8 | F14: Euronext Amsterdam | H14: TIME REFERENCE USED | I14: GMT+1
A15: 44630 | B15: 44630.384 | C15: 155 | D15: 38.21 | E15: 5922.55 | F15: Euronext Amsterdam
A16: 44630 | B16: 44630.385 | C16: 153 | D16: 38.03 | E16: 5818.59 | F16: Euronext Amsterdam
A17: 44630 | B17: 44630.385 | C17: 149 | D17: 37.98 | E17: 5659.02 | F17: Euronext Amsterdam
A18: 44630 | B18: 44630.386 | C18: 500 | D18: 37.93 | E18: 18965 | F18: Euronext Amsterdam
A19: 44630 | B19: 44630.387 | C19: 153 | D19: 37.95 | E19: 5806.35 | F19: Euronext Amsterdam
A20: 44630 | B20: 44630.388 | C20: 114 | D20: 37.69 | E20: 4296.66 | F20: Euronext Amsterdam
A21: 44630 | B21: 44630.388 | C21: 30 | D21: 37.69 | E21: 1130.7 | F21: Euronext Amsterdam
A22: 44630 | B22: 44630.389 | C22: 189 | D22: 37.66 | E22: 7117.74 | F22: Euronext Amsterdam
A23: 44630 | B23: 44630.39 | C23: 300 | D23: 37.71 | E23: 11313 | F23: Euronext Amsterdam
A24: 44630 | B24: 44630.391 | C24: 160 | D24: 37.81 | E24: 6049.6 | F24: Euronext Amsterdam
A25: 44630 | B25: 44630.391 | C25: 169 | D25: 37.77 | E25: 6383.13 | F25: Euronext Amsterdam
A26: 44630 | B26: 44630.393 | C26: 155 | D26: 37.63 | E26: 5832.65 | F26: Euronext Amsterdam
... A282: 44630 | B282: 44630.722 | C282: 141 | D282: 37.9 | E282: 5343.9 | F282: Euronext Amsterdam
A838: =IF(#REF!=0,"",DATE(LEFT(((MID(#REF!,1,8))),4),MID(((MID(#REF!,1,8))),5,2),(RIGHT(((MID(#REF!,1,8))),2)))) -> #REF! | B838: =IF(#REF!=0,"",(MID(#REF!,10,8)*24+1)/24) -> #REF! | C838: =IF(#REF!=0,"",#REF!) -> #REF!
A839: =IF(#REF!=0,"",DATE(LEFT(((MID(#REF!,1,8))),4),MID(((MID(#REF!,1,8))),5,2),(RIGHT(((MID(#REF!,1,8))),2)))) -> #REF! | B839: =IF(#REF!=0,"",(MID(#REF!,10,8)*24+1)/24) -> #REF! | C839: =IF(#REF!=0,"",#REF!) -> #REF!
A840: =IF(#REF!=0,"",DATE(LEFT(((MID(#REF!,1,8))),4),MID(((MID(#REF!,1,8))),5,2),(RIGHT(((MID(#REF!,1,8))),2)))) -> #REF! | B840: =IF(#REF!=0,"",(MID(#REF!,10,8)*24+1)/24) -> #REF! | C840: =IF(#REF!=0,"",#REF!) -> #REF!
A841: =IF(#REF!=0,"",DATE(LEFT(((MID(#REF!,1,8))),4),MID(((MID(#REF!,1,8))),5,2),(RIGHT(((MID(#REF!,1,8))),2)))) -> #REF! | B841: =IF(#REF!=0,"",(MID(#REF!,10,8)*24+1)/24) -> #REF! | C841: =IF(#REF!=0,"",#REF!) -> #REF!
A842: =IF(#REF!=0,"",DATE(LEFT(((MID(#REF!,1,8))),4),MID(((MID(#REF!,1,8))),5,2),(RIGHT(((MID(#REF!,1,8))),2)))) -> #REF! | B842: =IF(#REF!=0,"",(MID(#REF!,10,8)*24+1)/24) -> #REF! | C842: =IF(#REF!=0,"",#REF!) -> #REF!
A843: =IF(#REF!=0,"",DATE(LEFT(((MID(#REF!,1,8))),4),MID(((MID(#REF!,1,8))),5,2),(RIGHT(((MID(#REF!,1,8))),2)))) -> #REF! | B843: =IF(#REF!=0,"",(MID(#REF!,10,8)*24+1)/24) -> #REF! | C843: =IF(#REF!=0,"",#REF!) -> #REF!
A844: =IF(#REF!=0,"",DATE(LEFT(((MID(#REF!,1,8))),4),MID(((MID(#REF!,1,8))),5,2),(RIGHT(((MID(#REF!,1,8))),2)))) -> #REF! | B844: =IF(#REF!=0,"",(MID(#REF!,10,8)*24+1)/24) -> #REF! | C844: =IF(#REF!=0,"",#REF!) -> #REF!
A845: =IF(#REF!=0,"",DATE(LEFT(((MID(#REF!,1,8))),4),MID(((MID(#REF!,1,8))),5,2),(RIGHT(((MID(#REF!,1,8))),2)))) -> #REF! | B845: =IF(#REF!=0,"",(MID(#REF!,10,8)*24+1)/24) -> #REF! | C845: =IF(#REF!=0,"",#REF!) -> #REF!
A846: =IF(#REF!=0,"",DATE(LEFT(((MID(#REF!,1,8))),4),MID(((MID(#REF!,1,8))),5,2),(RIGHT(((MID(#REF!,1,8))),2)))) -> #REF! | B846: =IF(#REF!=0,"",(MID(#REF!,10,8)*24+1)/24) -> #REF! | C846: =IF(#REF!=0,"",#REF!) -> #REF!
A847: =IF(#REF!=0,"",DATE(LEFT(((MID(#REF!,1,8))),4),MID(((MID(#REF!,1,8))),5,2),(RIGHT(((MID(#REF!,1,8))),2)))) -> #REF! | B847: =IF(#REF!=0,"",(MID(#REF!,10,8)*24+1)/24) -> #REF! | C847: =IF(#REF!=0,"",#REF!) -> #REF!
A848: =IF(#REF!=0,"",DATE(LEFT(((MID(#REF!,1,8))),4),MID(((MID(#REF!,1,8))),5,2),(RIGHT(((MID(#REF!,1,8))),2)))) -> #REF! | B848: =IF(#REF!=0,"",(MID(#REF!,10,8)*24+1)/24) -> #REF! | C848: =IF(#REF!=0,"",#REF!) -> #REF!
A849: =IF(#REF!=0,"",DATE(LEFT(((MID(#REF!,1,8))),4),MID(((MID(#REF!,1,8))),5,2),(RIGHT(((MID(#REF!,1,8))),2)))) -> #REF! | B849: =IF(#REF!=0,"",(MID(#REF!,10,8)*24+1)/24) -> #REF! | C849: =IF(#REF!=0,"",#REF!) -> #REF!
... A1941: =IF(#REF!=0,"",DATE(LEFT(((MID(#REF!,1,8))),4),MID(((MID(#REF!,1,8))),5,2),(RIGHT(((MID(#REF!,1,8))),2)))) -> #REF! | B1941: =IF(#REF!=0,"",(MID(#REF!,10,8)*24+1)/24) -> #REF! | C1941: =IF(#REF!=0,"",#REF!) -> #REF!

Sheet 09-03-2022
A1: ASR daily share purchase transaction details
A4: Date | B4: Time | C4: Volume | D4: Price | E4: Proceeds | F4: Exchange | H4: DAILY BUYBACK SUMMARY
A5: 44629 | B5: 44629.379 | C5: 293 | D5: 37.25 | E5: 10914.25 | F5: Euronext Amsterdam | H5: Exchange | I5: # shares purchased | J5: Amount purchased
A6: 44629 | B6: 44629.38 | C6: 279 | D6: 37.36 | E6: 10423.44 | F6: Euronext Amsterdam | H6: Euronext Amsterdam | I6: =SUMIF(F:F,$H$6,C:C) -> 35322 | J6: =SUMIF(F:F,$H$6,E:E) -> 1338001.3
A7: 44629 | B7: 44629.38 | C7: 292 | D7: 37.36 | E7: 10909.12 | F7: Euronext Amsterdam | H7: Cboe DXE | I7: =SUMIF(F:F,$H$7,C:C) -> 0 | J7: =SUMIF(F:F,$H$7,E:E) -> 0
A8: 44629 | B8: 44629.38 | C8: 303 | D8: 37.36 | E8: 11320.08 | F8: Euronext Amsterdam | H8: Average price (rounded) | I8: =ROUND((J8/SUM(I6:I7)),4) -> 37.8801 | J8: =SUM(J6:J7) -> 1338001.3
A9: 44629 | B9: 44629.382 | C9: 192 | D9: 37.79 | E9: 7255.68 | F9: Euronext Amsterdam
A10: 44629 | B10: 44629.382 | C10: 177 | D10: 37.79 | E10: 6688.83 | F10: Euronext Amsterdam
A11: 44629 | B11: 44629.382 | C11: 165 | D11: 37.79 | E11: 6235.35 | F11: Euronext Amsterdam | H11: EXECUTING ENTITY | I11: ABN AMRO Bank N.V.
A12: 44629 | B12: 44629.383 | C12: 153 | D12: 37.8 | E12: 5783.4 | F12: Euronext Amsterdam | H12: STOCK NAME | I12: ASR Nederland N.V.
A13: 44629 | B13: 44629.384 | C13: 152 | D13: 37.76 | E13: 5739.52 | F13: Euronext Amsterdam | H13: ISIN CODE STOCK | I13: NL0011872643
A14: 44629 | B14: 44629.385 | C14: 162 | D14: 37.48 | E14: 6071.76 | F14: Euronext Amsterdam | H14: TIME REFERENCE USED | I14: GMT+1
A15: 44629 | B15: 44629.385 | C15: 142 | D15: 37.46 | E15: 5319.32 | F15: Euronext Amsterdam
A16: 44629 | B16: 44629.388 | C16: 179 | D16: 37.46 | E16: 6705.34 | F16: Euronext Amsterdam
A17: 44629 | B17: 44629.388 | C17: 182 | D17: 37.46 | E17: 6817.72 | F17: Euronext Amsterdam
A18: 44629 | B18: 44629.389 | C18: 144 | D18: 37.6 | E18: 5414.4 | F18: Euronext Amsterdam
A19: 44629 | B19: 44629.39 | C19: 148 | D19: 37.6 | E19: 5564.8 | F19: Euronext Amsterdam
A20: 44629 | B20: 44629.39 | C20: 101 | D20: 37.74 | E20: 3811.74 | F20: Euronext Amsterdam
A21: 44629 | B21: 44629.39 | C21: 42 | D21: 37.74 | E21: 1585.08 | F21: Euronext Amsterdam
A22: 44629 | B22: 44629.392 | C22: 149 | D22: 37.73 | E22: 5621.77 | F22: Euronext Amsterdam
A23: 44629 | B23: 44629.393 | C23: 83 | D23: 37.6 | E23: 3120.8 | F23: Euronext Amsterdam
A24: 44629 | B24: 44629.393 | C24: 59 | D24: 37.6 | E24: 2218.4 | F24: Euronext Amsterdam
A25: 44629 | B25: 44629.394 | C25: 144 | D25: 37.63 | E25: 5418.72 | F25: Euronext Amsterdam
A26: 44629 | B26: 44629.395 | C26: 161 | D26: 37.44 | E26: 6027.84 | F26: Euronext Amsterdam
... A277: 44629 | B277: 44629.72 | C277: 5 | D277: 38.16 | E277: 190.8 | F277: Euronext Amsterdam
A838: =IF(#REF!=0,"",DATE(LEFT(((MID(#REF!,1,8))),4),MID(((MID(#REF!,1,8))),5,2),(RIGHT(((MID(#REF!,1,8))),2)))) -> #REF! | B838: =IF(#REF!=0,"",(MID(#REF!,10,8)*24+1)/24) -> #REF! | C838: =IF(#REF!=0,"",#REF!) -> #REF!
A839: =IF(#REF!=0,"",DATE(LEFT(((MID(#REF!,1,8))),4),MID(((MID(#REF!,1,8))),5,2),(RIGHT(((MID(#REF!,1,8))),2)))) -> #REF! | B839: =IF(#REF!=0,"",(MID(#REF!,10,8)*24+1)/24) -> #REF! | C839: =IF(#REF!=0,"",#REF!) -> #REF!
A840: =IF(#REF!=0,"",DATE(LEFT(((MID(#REF!,1,8))),4),MID(((MID(#REF!,1,8))),5,2),(RIGHT(((MID(#REF!,1,8))),2)))) -> #REF! | B840: =IF(#REF!=0,"",(MID(#REF!,10,8)*24+1)/24) -> #REF! | C840: =IF(#REF!=0,"",#REF!) -> #REF!
A841: =IF(#REF!=0,"",DATE(LEFT(((MID(#REF!,1,8))),4),MID(((MID(#REF!,1,8))),5,2),(RIGHT(((MID(#REF!,1,8))),2)))) -> #REF! | B841: =IF(#REF!=0,"",(MID(#REF!,10,8)*24+1)/24) -> #REF! | C841: =IF(#REF!=0,"",#REF!) -> #REF!
A842: =IF(#REF!=0,"",DATE(LEFT(((MID(#REF!,1,8))),4),MID(((MID(#REF!,1,8))),5,2),(RIGHT(((MID(#REF!,1,8))),2)))) -> #REF! | B842: =IF(#REF!=0,"",(MID(#REF!,10,8)*24+1)/24) -> #REF! | C842: =IF(#REF!=0,"",#REF!) -> #REF!
A843: =IF(#REF!=0,"",DATE(LEFT(((MID(#REF!,1,8))),4),MID(((MID(#REF!,1,8))),5,2),(RIGHT(((MID(#REF!,1,8))),2)))) -> #REF! | B843: =IF(#REF!=0,"",(MID(#REF!,10,8)*24+1)/24) -> #REF! | C843: =IF(#REF!=0,"",#REF!) -> #REF!
A844: =IF(#REF!=0,"",DATE(LEFT(((MID(#REF!,1,8))),4),MID(((MID(#REF!,1,8))),5,2),(RIGHT(((MID(#REF!,1,8))),2)))) -> #REF! | B844: =IF(#REF!=0,"",(MID(#REF!,10,8)*24+1)/24) -> #REF! | C844: =IF(#REF!=0,"",#REF!) -> #REF!
A845: =IF(#REF!=0,"",DATE(LEFT(((MID(#REF!,1,8))),4),MID(((MID(#REF!,1,8))),5,2),(RIGHT(((MID(#REF!,1,8))),2)))) -> #REF! | B845: =IF(#REF!=0,"",(MID(#REF!,10,8)*24+1)/24) -> #REF! | C845: =IF(#REF!=0,"",#REF!) -> #REF!
A846: =IF(#REF!=0,"",DATE(LEFT(((MID(#REF!,1,8))),4),MID(((MID(#REF!,1,8))),5,2),(RIGHT(((MID(#REF!,1,8))),2)))) -> #REF! | B846: =IF(#REF!=0,"",(MID(#REF!,10,8)*24+1)/24) -> #REF! | C846: =IF(#REF!=0,"",#REF!) -> #REF!
A847: =IF(#REF!=0,"",DATE(LEFT(((MID(#REF!,1,8))),4),MID(((MID(#REF!,1,8))),5,2),(RIGHT(((MID(#REF!,1,8))),2)))) -> #REF! | B847: =IF(#REF!=0,"",(MID(#REF!,10,8)*24+1)/24) -> #REF! | C847: =IF(#REF!=0,"",#REF!) -> #REF!
A848: =IF(#REF!=0,"",DATE(LEFT(((MID(#REF!,1,8))),4),MID(((MID(#REF!,1,8))),5,2),(RIGHT(((MID(#REF!,1,8))),2)))) -> #REF! | B848: =IF(#REF!=0,"",(MID(#REF!,10,8)*24+1)/24) -> #REF! | C848: =IF(#REF!=0,"",#REF!) -> #REF!
A849: =IF(#REF!=0,"",DATE(LEFT(((MID(#REF!,1,8))),4),MID(((MID(#REF!,1,8))),5,2),(RIGHT(((MID(#REF!,1,8))),2)))) -> #REF! | B849: =IF(#REF!=0,"",(MID(#REF!,10,8)*24+1)/24) -> #REF! | C849: =IF(#REF!=0,"",#REF!) -> #REF!
... A1941: =IF(#REF!=0,"",DATE(LEFT(((MID(#REF!,1,8))),4),MID(((MID(#REF!,1,8))),5,2),(RIGHT(((MID(#REF!,1,8))),2)))) -> #REF! | B1941: =IF(#REF!=0,"",(MID(#REF!,10,8)*24+1)/24) -> #REF! | C1941: =IF(#REF!=0,"",#REF!) -> #REF!

Sheet 08-03-2022
A1: ASR daily share purchase transaction details
A4: Date | B4: Time | C4: Volume | D4: Price | E4: Proceeds | F4: Exchange | H4: DAILY BUYBACK SUMMARY
A5: 44628 | B5: 44628.378 | C5: 315 | D5: 35 | E5: 11025 | F5: Euronext Amsterdam | H5: Exchange | I5: # shares purchased | J5: Amount purchased
A6: 44628 | B6: 44628.378 | C6: 347 | D6: 34.97 | E6: 12134.59 | F6: Euronext Amsterdam | H6: Euronext Amsterdam | I6: =SUMIF(F:F,$H$6,C:C) -> 40000 | J6: =SUMIF(F:F,$H$6,E:E) -> 1451315.2
A7: 44628 | B7: 44628.379 | C7: 356 | D7: 35.16 | E7: 12516.96 | F7: Euronext Amsterdam | H7: Cboe DXE | I7: =SUMIF(F:F,$H$7,C:C) -> 0 | J7: =SUMIF(F:F,$H$7,E:E) -> 0
A8: 44628 | B8: 44628.379 | C8: 147 | D8: 35.19 | E8: 5172.93 | F8: Euronext Amsterdam | H8: Average price (rounded) | I8: =ROUND((J8/SUM(I6:I7)),4) -> 36.2829 | J8: =SUM(J6:J7) -> 1451315.2
A9: 44628 | B9: 44628.38 | C9: 171 | D9: 35.27 | E9: 6031.17 | F9: Euronext Amsterdam
A10: 44628 | B10: 44628.38 | C10: 142 | D10: 35.43 | E10: 5031.06 | F10: Euronext Amsterdam
A11: 44628 | B11: 44628.381 | C11: 146 | D11: 35.55 | E11: 5190.3 | F11: Euronext Amsterdam | H11: EXECUTING ENTITY | I11: ABN AMRO Bank N.V.
A12: 44628 | B12: 44628.382 | C12: 144 | D12: 35.7 | E12: 5140.8 | F12: Euronext Amsterdam | H12: STOCK NAME | I12: ASR Nederland N.V.
A13: 44628 | B13: 44628.383 | C13: 48 | D13: 35.9 | E13: 1723.2 | F13: Euronext Amsterdam | H13: ISIN CODE STOCK | I13: NL0011872643
A14: 44628 | B14: 44628.383 | C14: 95 | D14: 35.9 | E14: 3410.5 | F14: Euronext Amsterdam | H14: TIME REFERENCE USED | I14: GMT+1
A15: 44628 | B15: 44628.383 | C15: 161 | D15: 35.74 | E15: 5754.14 | F15: Euronext Amsterdam
A16: 44628 | B16: 44628.384 | C16: 56 | D16: 36.02 | E16: 2017.12 | F16: Euronext Amsterdam
A17: 44628 | B17: 44628.384 | C17: 87 | D17: 36.02 | E17: 3133.74 | F17: Euronext Amsterdam
A18: 44628 | B18: 44628.385 | C18: 143 | D18: 35.98 | E18: 5145.14 | F18: Euronext Amsterdam
A19: 44628 | B19: 44628.386 | C19: 147 | D19: 36.01 | E19: 5293.47 | F19: Euronext Amsterdam
A20: 44628 | B20: 44628.387 | C20: 148 | D20: 36.17 | E20: 5353.16 | F20: Euronext Amsterdam
A21: 44628 | B21: 44628.389 | C21: 19 | D21: 36.34 | E21: 690.46 | F21: Euronext Amsterdam
A22: 44628 | B22: 44628.389 | C22: 127 | D22: 36.34 | E22: 4615.18 | F22: Euronext Amsterdam
A23: 44628 | B23: 44628.389 | C23: 90 | D23: 36.34 | E23: 3270.6 | F23: Euronext Amsterdam
A24: 44628 | B24: 44628.389 | C24: 14 | D24: 36.34 | E24: 508.76 | F24: Euronext Amsterdam
A25: 44628 | B25: 44628.389 | C25: 47 | D25: 36.34 | E25: 1707.98 | F25: Euronext Amsterdam
A26: 44628 | B26: 44628.39 | C26: 143 | D26: 36.41 | E26: 5206.63 | F26: Euronext Amsterdam
... A316: 44628 | B316: 44628.725 | C316: 280 | D316: 36.31 | E316: 10166.8 | F316: Euronext Amsterdam
A838: =IF(#REF!=0,"",DATE(LEFT(((MID(#REF!,1,8))),4),MID(((MID(#REF!,1,8))),5,2),(RIGHT(((MID(#REF!,1,8))),2)))) -> #REF! | B838: =IF(#REF!=0,"",(MID(#REF!,10,8)*24+1)/24) -> #REF! | C838: =IF(#REF!=0,"",#REF!) -> #REF!
A839: =IF(#REF!=0,"",DATE(LEFT(((MID(#REF!,1,8))),4),MID(((MID(#REF!,1,8))),5,2),(RIGHT(((MID(#REF!,1,8))),2)))) -> #REF! | B839: =IF(#REF!=0,"",(MID(#REF!,10,8)*24+1)/24) -> #REF! | C839: =IF(#REF!=0,"",#REF!) -> #REF!
A840: =IF(#REF!=0,"",DATE(LEFT(((MID(#REF!,1,8))),4),MID(((MID(#REF!,1,8))),5,2),(RIGHT(((MID(#REF!,1,8))),2)))) -> #REF! | B840: =IF(#REF!=0,"",(MID(#REF!,10,8)*24+1)/24) -> #REF! | C840: =IF(#REF!=0,"",#REF!) -> #REF!
A841: =IF(#REF!=0,"",DATE(LEFT(((MID(#REF!,1,8))),4),MID(((MID(#REF!,1,8))),5,2),(RIGHT(((MID(#REF!,1,8))),2)))) -> #REF! | B841: =IF(#REF!=0,"",(MID(#REF!,10,8)*24+1)/24) -> #REF! | C841: =IF(#REF!=0,"",#REF!) -> #REF!
A842: =IF(#REF!=0,"",DATE(LEFT(((MID(#REF!,1,8))),4),MID(((MID(#REF!,1,8))),5,2),(RIGHT(((MID(#REF!,1,8))),2)))) -> #REF! | B842: =IF(#REF!=0,"",(MID(#REF!,10,8)*24+1)/24) -> #REF! | C842: =IF(#REF!=0,"",#REF!) -> #REF!
A843: =IF(#REF!=0,"",DATE(LEFT(((MID(#REF!,1,8))),4),MID(((MID(#REF!,1,8))),5,2),(RIGHT(((MID(#REF!,1,8))),2)))) -> #REF! | B843: =IF(#REF!=0,"",(MID(#REF!,10,8)*24+1)/24) -> #REF! | C843: =IF(#REF!=0,"",#REF!) -> #REF!
A844: =IF(#REF!=0,"",DATE(LEFT(((MID(#REF!,1,8))),4),MID(((MID(#REF!,1,8))),5,2),(RIGHT(((MID(#REF!,1,8))),2)))) -> #REF! | B844: =IF(#REF!=0,"",(MID(#REF!,10,8)*24+1)/24) -> #REF! | C844: =IF(#REF!=0,"",#REF!) -> #REF!
A845: =IF(#REF!=0,"",DATE(LEFT(((MID(#REF!,1,8))),4),MID(((MID(#REF!,1,8))),5,2),(RIGHT(((MID(#REF!,1,8))),2)))) -> #REF! | B845: =IF(#REF!=0,"",(MID(#REF!,10,8)*24+1)/24) -> #REF! | C845: =IF(#REF!=0,"",#REF!) -> #REF!
A846: =IF(#REF!=0,"",DATE(LEFT(((MID(#REF!,1,8))),4),MID(((MID(#REF!,1,8))),5,2),(RIGHT(((MID(#REF!,1,8))),2)))) -> #REF! | B846: =IF(#REF!=0,"",(MID(#REF!,10,8)*24+1)/24) -> #REF! | C846: =IF(#REF!=0,"",#REF!) -> #REF!
A847: =IF(#REF!=0,"",DATE(LEFT(((MID(#REF!,1,8))),4),MID(((MID(#REF!,1,8))),5,2),(RIGHT(((MID(#REF!,1,8))),2)))) -> #REF! | B847: =IF(#REF!=0,"",(MID(#REF!,10,8)*24+1)/24) -> #REF! | C847: =IF(#REF!=0,"",#REF!) -> #REF!
A848: =IF(#REF!=0,"",DATE(LEFT(((MID(#REF!,1,8))),4),MID(((MID(#REF!,1,8))),5,2),(RIGHT(((MID(#REF!,1,8))),2)))) -> #REF! | B848: =IF(#REF!=0,"",(MID(#REF!,10,8)*24+1)/24) -> #REF! | C848: =IF(#REF!=0,"",#REF!) -> #REF!
A849: =IF(#REF!=0,"",DATE(LEFT(((MID(#REF!,1,8))),4),MID(((MID(#REF!,1,8))),5,2),(RIGHT(((MID(#REF!,1,8))),2)))) -> #REF! | B849: =IF(#REF!=0,"",(MID(#REF!,10,8)*24+1)/24) -> #REF! | C849: =IF(#REF!=0,"",#REF!) -> #REF!
... A1941: =IF(#REF!=0,"",DATE(LEFT(((MID(#REF!,1,8))),4),MID(((MID(#REF!,1,8))),5,2),(RIGHT(((MID(#REF!,1,8))),2)))) -> #REF! | B1941: =IF(#REF!=0,"",(MID(#REF!,10,8)*24+1)/24) -> #REF! | C1941: =IF(#REF!=0,"",#REF!) -> #REF!

Sheet 07-03-2022
A1: ASR daily share purchase transaction details
A4: Date | B4: Time | C4: Volume | D4: Price | E4: Proceeds | F4: Exchange | H4: DAILY BUYBACK SUMMARY
A5: 44627 | B5: 44627.379 | C5: 101 | D5: 34.26 | E5: 3460.26 | F5: Euronext Amsterdam | H5: Exchange | I5: # shares purchased | J5: Amount purchased
A6: 44627 | B6: 44627.379 | C6: 105 | D6: 34.26 | E6: 3597.3 | F6: Euronext Amsterdam | H6: Euronext Amsterdam | I6: =SUMIF(F:F,$H$6,C:C) -> 42000 | J6: =SUMIF(F:F,$H$6,E:E) -> 1441817.3
A7: 44627 | B7: 44627.379 | C7: 291 | D7: 34.26 | E7: 9969.66 | F7: Euronext Amsterdam | H7: Cboe DXE | I7: =SUMIF(F:F,$H$7,C:C) -> 0 | J7: =SUMIF(F:F,$H$7,E:E) -> 0
A8: 44627 | B8: 44627.379 | C8: 337 | D8: 34.26 | E8: 11545.62 | F8: Euronext Amsterdam | H8: Average price (rounded) | I8: =ROUND((J8/SUM(I6:I7)),4) -> 34.329 | J8: =SUM(J6:J7) -> 1441817.3
A9: 44627 | B9: 44627.379 | C9: 127 | D9: 34.26 | E9: 4351.02 | F9: Euronext Amsterdam
A10: 44627 | B10: 44627.379 | C10: 149 | D10: 34.16 | E10: 5089.84 | F10: Euronext Amsterdam
A11: 44627 | B11: 44627.38 | C11: 158 | D11: 34.07 | E11: 5383.06 | F11: Euronext Amsterdam | H11: EXECUTING ENTITY | I11: ABN AMRO Bank N.V.
A12: 44627 | B12: 44627.38 | C12: 49 | D12: 33.8 | E12: 1656.2 | F12: Euronext Amsterdam | H12: STOCK NAME | I12: ASR Nederland N.V.
A13: 44627 | B13: 44627.38 | C13: 93 | D13: 33.8 | E13: 3143.4 | F13: Euronext Amsterdam | H13: ISIN CODE STOCK | I13: NL0011872643
A14: 44627 | B14: 44627.381 | C14: 167 | D14: 33.93 | E14: 5666.31 | F14: Euronext Amsterdam | H14: TIME REFERENCE USED | I14: GMT+1
A15: 44627 | B15: 44627.382 | C15: 153 | D15: 33.89 | E15: 5185.17 | F15: Euronext Amsterdam
A16: 44627 | B16: 44627.383 | C16: 150 | D16: 33.84 | E16: 5076 | F16: Euronext Amsterdam
A17: 44627 | B17: 44627.384 | C17: 170 | D17: 33.59 | E17: 5710.3 | F17: Euronext Amsterdam
A18: 44627 | B18: 44627.385 | C18: 155 | D18: 33.54 | E18: 5198.7 | F18: Euronext Amsterdam
A19: 44627 | B19: 44627.385 | C19: 155 | D19: 33.47 | E19: 5187.85 | F19: Euronext Amsterdam
A20: 44627 | B20: 44627.386 | C20: 145 | D20: 33.57 | E20: 4867.65 | F20: Euronext Amsterdam
A21: 44627 | B21: 44627.387 | C21: 875 | D21: 33.47 | E21: 29286.25 | F21: Euronext Amsterdam
A22: 44627 | B22: 44627.387 | C22: 125 | D22: 33.47 | E22: 4183.75 | F22: Euronext Amsterdam
A23: 44627 | B23: 44627.387 | C23: 89 | D23: 33.4 | E23: 2972.6 | F23: Euronext Amsterdam
A24: 44627 | B24: 44627.387 | C24: 64 | D24: 33.4 | E24: 2137.6 | F24: Euronext Amsterdam
A25: 44627 | B25: 44627.387 | C25: 321 | D25: 33.35 | E25: 10705.35 | F25: Euronext Amsterdam
A26: 44627 | B26: 44627.387 | C26: 1000 | D26: 33.35 | E26: 33350 | F26: Euronext Amsterdam
... A326: 44627 | B326: 44627.722 | C326: 175 | D326: 34.92 | E326: 6111 | F326: Euronext Amsterdam
A838: =IF(#REF!=0,"",DATE(LEFT(((MID(#REF!,1,8))),4),MID(((MID(#REF!,1,8))),5,2),(RIGHT(((MID(#REF!,1,8))),2)))) -> #REF! | B838: =IF(#REF!=0,"",(MID(#REF!,10,8)*24+1)/24) -> #REF! | C838: =IF(#REF!=0,"",#REF!) -> #REF!
A839: =IF(#REF!=0,"",DATE(LEFT(((MID(#REF!,1,8))),4),MID(((MID(#REF!,1,8))),5,2),(RIGHT(((MID(#REF!,1,8))),2)))) -> #REF! | B839: =IF(#REF!=0,"",(MID(#REF!,10,8)*24+1)/24) -> #REF! | C839: =IF(#REF!=0,"",#REF!) -> #REF!
A840: =IF(#REF!=0,"",DATE(LEFT(((MID(#REF!,1,8))),4),MID(((MID(#REF!,1,8))),5,2),(RIGHT(((MID(#REF!,1,8))),2)))) -> #REF! | B840: =IF(#REF!=0,"",(MID(#REF!,10,8)*24+1)/24) -> #REF! | C840: =IF(#REF!=0,"",#REF!) -> #REF!
A841: =IF(#REF!=0,"",DATE(LEFT(((MID(#REF!,1,8))),4),MID(((MID(#REF!,1,8))),5,2),(RIGHT(((MID(#REF!,1,8))),2)))) -> #REF! | B841: =IF(#REF!=0,"",(MID(#REF!,10,8)*24+1)/24) -> #REF! | C841: =IF(#REF!=0,"",#REF!) -> #REF!
A842: =IF(#REF!=0,"",DATE(LEFT(((MID(#REF!,1,8))),4),MID(((MID(#REF!,1,8))),5,2),(RIGHT(((MID(#REF!,1,8))),2)))) -> #REF! | B842: =IF(#REF!=0,"",(MID(#REF!,10,8)*24+1)/24) -> #REF! | C842: =IF(#REF!=0,"",#REF!) -> #REF!
A843: =IF(#REF!=0,"",DATE(LEFT(((MID(#REF!,1,8))),4),MID(((MID(#REF!,1,8))),5,2),(RIGHT(((MID(#REF!,1,8))),2)))) -> #REF! | B843: =IF(#REF!=0,"",(MID(#REF!,10,8)*24+1)/24) -> #REF! | C843: =IF(#REF!=0,"",#REF!) -> #REF!
A844: =IF(#REF!=0,"",DATE(LEFT(((MID(#REF!,1,8))),4),MID(((MID(#REF!,1,8))),5,2),(RIGHT(((MID(#REF!,1,8))),2)))) -> #REF! | B844: =IF(#REF!=0,"",(MID(#REF!,10,8)*24+1)/24) -> #REF! | C844: =IF(#REF!=0,"",#REF!) -> #REF!
A845: =IF(#REF!=0,"",DATE(LEFT(((MID(#REF!,1,8))),4),MID(((MID(#REF!,1,8))),5,2),(RIGHT(((MID(#REF!,1,8))),2)))) -> #REF! | B845: =IF(#REF!=0,"",(MID(#REF!,10,8)*24+1)/24) -> #REF! | C845: =IF(#REF!=0,"",#REF!) -> #REF!
A846: =IF(#REF!=0,"",DATE(LEFT(((MID(#REF!,1,8))),4),MID(((MID(#REF!,1,8))),5,2),(RIGHT(((MID(#REF!,1,8))),2)))) -> #REF! | B846: =IF(#REF!=0,"",(MID(#REF!,10,8)*24+1)/24) -> #REF! | C846: =IF(#REF!=0,"",#REF!) -> #REF!
A847: =IF(#REF!=0,"",DATE(LEFT(((MID(#REF!,1,8))),4),MID(((MID(#REF!,1,8))),5,2),(RIGHT(((MID(#REF!,1,8))),2)))) -> #REF! | B847: =IF(#REF!=0,"",(MID(#REF!,10,8)*24+1)/24) -> #REF! | C847: =IF(#REF!=0,"",#REF!) -> #REF!
A848: =IF(#REF!=0,"",DATE(LEFT(((MID(#REF!,1,8))),4),MID(((MID(#REF!,1,8))),5,2),(RIGHT(((MID(#REF!,1,8))),2)))) -> #REF! | B848: =IF(#REF!=0,"",(MID(#REF!,10,8)*24+1)/24) -> #REF! | C848: =IF(#REF!=0,"",#REF!) -> #REF!
A849: =IF(#REF!=0,"",DATE(LEFT(((MID(#REF!,1,8))),4),MID(((MID(#REF!,1,8))),5,2),(RIGHT(((MID(#REF!,1,8))),2)))) -> #REF! | B849: =IF(#REF!=0,"",(MID(#REF!,10,8)*24+1)/24) -> #REF! | C849: =IF(#REF!=0,"",#REF!) -> #REF!
... A1941: =IF(#REF!=0,"",DATE(LEFT(((MID(#REF!,1,8))),4),MID(((MID(#REF!,1,8))),5,2),(RIGHT(((MID(#REF!,1,8))),2)))) -> #REF! | B1941: =IF(#REF!=0,"",(MID(#REF!,10,8)*24+1)/24) -> #REF! | C1941: =IF(#REF!=0,"",#REF!) -> #REF!

Sheet 04-03-2022
A1: ASR daily share purchase transaction details
A4: Date | B4: Time | C4: Volume | D4: Price | E4: Proceeds | F4: Exchange | H4: DAILY BUYBACK SUMMARY
A5: 44624 | B5: 44624.379 | C5: 249 | D5: 36.93 | E5: 9195.57 | F5: Euronext Amsterdam | H5: Exchange | I5: # shares purchased | J5: Amount purchased
A6: 44624 | B6: 44624.38 | C6: 250 | D6: 36.93 | E6: 9232.5 | F6: Euronext Amsterdam | H6: Euronext Amsterdam | I6: =SUMIF(F:F,$H$6,C:C) -> 37500 | J6: =SUMIF(F:F,$H$6,E:E) -> 1351748.7
A7: 44624 | B7: 44624.38 | C7: 36 | D7: 36.93 | E7: 1329.48 | F7: Euronext Amsterdam | H7: Cboe DXE | I7: =SUMIF(F:F,$H$7,C:C) -> 0 | J7: =SUMIF(F:F,$H$7,E:E) -> 0
A8: 44624 | B8: 44624.382 | C8: 30 | D8: 36.97 | E8: 1109.1 | F8: Euronext Amsterdam | H8: Average price (rounded) | I8: =ROUND((J8/SUM(I6:I7)),4) -> 36.0466 | J8: =SUM(J6:J7) -> 1351748.7
A9: 44624 | B9: 44624.382 | C9: 2 | D9: 36.97 | E9: 73.94 | F9: Euronext Amsterdam
A10: 44624 | B10: 44624.382 | C10: 271 | D10: 36.97 | E10: 10018.87 | F10: Euronext Amsterdam
A11: 44624 | B11: 44624.384 | C11: 269 | D11: 37.02 | E11: 9958.38 | F11: Euronext Amsterdam | H11: EXECUTING ENTITY | I11: ABN AMRO Bank N.V.
A12: 44624 | B12: 44624.385 | C12: 223 | D12: 36.86 | E12: 8219.78 | F12: Euronext Amsterdam | H12: STOCK NAME | I12: ASR Nederland N.V.
A13: 44624 | B13: 44624.385 | C13: 28 | D13: 36.86 | E13: 1032.08 | F13: Euronext Amsterdam | H13: ISIN CODE STOCK | I13: NL0011872643
A14: 44624 | B14: 44624.387 | C14: 303 | D14: 36.77 | E14: 11141.31 | F14: Euronext Amsterdam | H14: TIME REFERENCE USED | I14: GMT+1
A15: 44624 | B15: 44624.39 | C15: 297 | D15: 36.75 | E15: 10914.75 | F15: Euronext Amsterdam
A16: 44624 | B16: 44624.392 | C16: 263 | D16: 36.63 | E16: 9633.69 | F16: Euronext Amsterdam
A17: 44624 | B17: 44624.394 | C17: 303 | D17: 36.53 | E17: 11068.59 | F17: Euronext Amsterdam
A18: 44624 | B18: 44624.397 | C18: 280 | D18: 36.46 | E18: 10208.8 | F18: Euronext Amsterdam
A19: 44624 | B19: 44624.4 | C19: 83 | D19: 36.33 | E19: 3015.39 | F19: Euronext Amsterdam
A20: 44624 | B20: 44624.4 | C20: 210 | D20: 36.33 | E20: 7629.3 | F20: Euronext Amsterdam
A21: 44624 | B21: 44624.402 | C21: 134 | D21: 36.20 | E21: 4850.8 | F21: Euronext Amsterdam
A22: 44624 | B22: 44624.402 | C22: 169 | D22: 36.20 | E22: 6117.8 | F22: Euronext Amsterdam
A23: 44624 | B23: 44624.404 | C23: 59 | D23: 36.16 | E23: 2133.44 | F23: Euronext Amsterdam
A24: 44624 | B24: 44624.404 | C24: 233 | D24: 36.16 | E24: 8425.28 | F24: Euronext Amsterdam
A25: 44624 | B25: 44624.407 | C25: 258 | D25: 36.26 | E25: 9355.08 | F25: Euronext Amsterdam
A26: 44624 | B26: 44624.409 | C26: 296 | D26: 36.24 | E26: 10727.04 | F26: Euronext Amsterdam
... A217: 44624 | B217: 44624.724 | C217: 500 | D217: 35.97 | E217: 17985 | F217: Euronext Amsterdam
A838: =IF(#REF!=0,"",DATE(LEFT(((MID(#REF!,1,8))),4),MID(((MID(#REF!,1,8))),5,2),(RIGHT(((MID(#REF!,1,8))),2)))) -> #REF! | B838: =IF(#REF!=0,"",(MID(#REF!,10,8)*24+1)/24) -> #REF! | C838: =IF(#REF!=0,"",#REF!) -> #REF!
A839: =IF(#REF!=0,"",DATE(LEFT(((MID(#REF!,1,8))),4),MID(((MID(#REF!,1,8))),5,2),(RIGHT(((MID(#REF!,1,8))),2)))) -> #REF! | B839: =IF(#REF!=0,"",(MID(#REF!,10,8)*24+1)/24) -> #REF! | C839: =IF(#REF!=0,"",#REF!) -> #REF!
A840: =IF(#REF!=0,"",DATE(LEFT(((MID(#REF!,1,8))),4),MID(((MID(#REF!,1,8))),5,2),(RIGHT(((MID(#REF!,1,8))),2)))) -> #REF! | B840: =IF(#REF!=0,"",(MID(#REF!,10,8)*24+1)/24) -> #REF! | C840: =IF(#REF!=0,"",#REF!) -> #REF!
A841: =IF(#REF!=0,"",DATE(LEFT(((MID(#REF!,1,8))),4),MID(((MID(#REF!,1,8))),5,2),(RIGHT(((MID(#REF!,1,8))),2)))) -> #REF! | B841: =IF(#REF!=0,"",(MID(#REF!,10,8)*24+1)/24) -> #REF! | C841: =IF(#REF!=0,"",#REF!) -> #REF!
A842: =IF(#REF!=0,"",DATE(LEFT(((MID(#REF!,1,8))),4),MID(((MID(#REF!,1,8))),5,2),(RIGHT(((MID(#REF!,1,8))),2)))) -> #REF! | B842: =IF(#REF!=0,"",(MID(#REF!,10,8)*24+1)/24) -> #REF! | C842: =IF(#REF!=0,"",#REF!) -> #REF!
A843: =IF(#REF!=0,"",DATE(LEFT(((MID(#REF!,1,8))),4),MID(((MID(#REF!,1,8))),5,2),(RIGHT(((MID(#REF!,1,8))),2)))) -> #REF! | B843: =IF(#REF!=0,"",(MID(#REF!,10,8)*24+1)/24) -> #REF! | C843: =IF(#REF!=0,"",#REF!) -> #REF!
A844: =IF(#REF!=0,"",DATE(LEFT(((MID(#REF!,1,8))),4),MID(((MID(#REF!,1,8))),5,2),(RIGHT(((MID(#REF!,1,8))),2)))) -> #REF! | B844: =IF(#REF!=0,"",(MID(#REF!,10,8)*24+1)/24) -> #REF! | C844: =IF(#REF!=0,"",#REF!) -> #REF!
A845: =IF(#REF!=0,"",DATE(LEFT(((MID(#REF!,1,8))),4),MID(((MID(#REF!,1,8))),5,2),(RIGHT(((MID(#REF!,1,8))),2)))) -> #REF! | B845: =IF(#REF!=0,"",(MID(#REF!,10,8)*24+1)/24) -> #REF! | C845: =IF(#REF!=0,"",#REF!) -> #REF!
A846: =IF(#REF!=0,"",DATE(LEFT(((MID(#REF!,1,8))),4),MID(((MID(#REF!,1,8))),5,2),(RIGHT(((MID(#REF!,1,8))),2)))) -> #REF! | B846: =IF(#REF!=0,"",(MID(#REF!,10,8)*24+1)/24) -> #REF! | C846: =IF(#REF!=0,"",#REF!) -> #REF!
A847: =IF(#REF!=0,"",DATE(LEFT(((MID(#REF!,1,8))),4),MID(((MID(#REF!,1,8))),5,2),(RIGHT(((MID(#REF!,1,8))),2)))) -> #REF! | B847: =IF(#REF!=0,"",(MID(#REF!,10,8)*24+1)/24) -> #REF! | C847: =IF(#REF!=0,"",#REF!) -> #REF!
A848: =IF(#REF!=0,"",DATE(LEFT(((MID(#REF!,1,8))),4),MID(((MID(#REF!,1,8))),5,2),(RIGHT(((MID(#REF!,1,8))),2)))) -> #REF! | B848: =IF(#REF!=0,"",(MID(#REF!,10,8)*24+1)/24) -> #REF! | C848: =IF(#REF!=0,"",#REF!) -> #REF!
A849: =IF(#REF!=0,"",DATE(LEFT(((MID(#REF!,1,8))),4),MID(((MID(#REF!,1,8))),5,2),(RIGHT(((MID(#REF!,1,8))),2)))) -> #REF! | B849: =IF(#REF!=0,"",(MID(#REF!,10,8)*24+1)/24) -> #REF! | C849: =IF(#REF!=0,"",#REF!) -> #REF!
... A1941: =IF(#REF!=0,"",DATE(LEFT(((MID(#REF!,1,8))),4),MID(((MID(#REF!,1,8))),5,2),(RIGHT(((MID(#REF!,1,8))),2)))) -> #REF! | B1941: =IF(#REF!=0,"",(MID(#REF!,10,8)*24+1)/24) -> #REF! | C1941: =IF(#REF!=0,"",#REF!) -> #REF!

Sheet 03-03-2022
A1: ASR daily share purchase transaction details
A4: Date | B4: Time | C4: Volume | D4: Price | E4: Proceeds | F4: Exchange | H4: DAILY BUYBACK SUMMARY
A5: 44623 | B5: 44623.381 | C5: 132 | D5: 37.73 | E5: 4980.36 | F5: Euronext Amsterdam | H5: Exchange | I5: # shares purchased | J5: Amount purchased
A6: 44623 | B6: 44623.381 | C6: 263 | D6: 37.75 | E6: 9928.25 | F6: Euronext Amsterdam | H6: Euronext Amsterdam | I6: =SUMIF(F:F,$H$6,C:C) -> 35572 | J6: =SUMIF(F:F,$H$6,E:E) -> 1344057
A7: 44623 | B7: 44623.381 | C7: 255 | D7: 37.73 | E7: 9621.15 | F7: Euronext Amsterdam | H7: Cboe DXE | I7: =SUMIF(F:F,$H$7,C:C) -> 0 | J7: =SUMIF(F:F,$H$7,E:E) -> 0
A8: 44623 | B8: 44623.381 | C8: 240 | D8: 37.73 | E8: 9055.2 | F8: Euronext Amsterdam | H8: Average price (rounded) | I8: =ROUND((J8/SUM(I6:I7)),4) -> 37.7841 | J8: =SUM(J6:J7) -> 1344057
A9: 44623 | B9: 44623.381 | C9: 95 | D9: 37.75 | E9: 3586.25 | F9: Euronext Amsterdam
A10: 44623 | B10: 44623.381 | C10: 293 | D10: 37.72 | E10: 11051.96 | F10: Euronext Amsterdam
A11: 44623 | B11: 44623.381 | C11: 50 | D11: 37.72 | E11: 1886 | F11: Euronext Amsterdam | H11: EXECUTING ENTITY | I11: ABN AMRO Bank N.V.
A12: 44623 | B12: 44623.381 | C12: 28 | D12: 37.72 | E12: 1056.16 | F12: Euronext Amsterdam | H12: STOCK NAME | I12: ASR Nederland N.V.
A13: 44623 | B13: 44623.382 | C13: 65 | D13: 37.71 | E13: 2451.15 | F13: Euronext Amsterdam | H13: ISIN CODE STOCK | I13: NL0011872643
A14: 44623 | B14: 44623.382 | C14: 124 | D14: 37.71 | E14: 4676.04 | F14: Euronext Amsterdam | H14: TIME REFERENCE USED | I14: GMT+1
A15: 44623 | B15: 44623.382 | C15: 155 | D15: 37.69 | E15: 5841.95 | F15: Euronext Amsterdam
A16: 44623 | B16: 44623.383 | C16: 156 | D16: 37.66 | E16: 5874.96 | F16: Euronext Amsterdam
A17: 44623 | B17: 44623.385 | C17: 147 | D17: 37.58 | E17: 5524.26 | F17: Euronext Amsterdam
A18: 44623 | B18: 44623.386 | C18: 150 | D18: 37.59 | E18: 5638.5 | F18: Euronext Amsterdam
A19: 44623 | B19: 44623.386 | C19: 176 | D19: 37.68 | E19: 6631.68 | F19: Euronext Amsterdam
A20: 44623 | B20: 44623.388 | C20: 142 | D20: 37.66 | E20: 5347.72 | F20: Euronext Amsterdam
A21: 44623 | B21: 44623.389 | C21: 63 | D21: 37.62 | E21: 2370.06 | F21: Euronext Amsterdam
A22: 44623 | B22: 44623.389 | C22: 112 | D22: 37.62 | E22: 4213.44 | F22: Euronext Amsterdam
A23: 44623 | B23: 44623.39 | C23: 148 | D23: 37.52 | E23: 5552.96 | F23: Euronext Amsterdam
A24: 44623 | B24: 44623.39 | C24: 12 | D24: 37.52 | E24: 450.24 | F24: Euronext Amsterdam
A25: 44623 | B25: 44623.391 | C25: 171 | D25: 37.61 | E25: 6431.31 | F25: Euronext Amsterdam
A26: 44623 | B26: 44623.393 | C26: 97 | D26: 37.72 | E26: 3658.84 | F26: Euronext Amsterdam
... A258: 44623 | B258: 44623.725 | C258: 114 | D258: 37.95 | E258: 4326.3 | F258: Euronext Amsterdam
A838: =IF(#REF!=0,"",DATE(LEFT(((MID(#REF!,1,8))),4),MID(((MID(#REF!,1,8))),5,2),(RIGHT(((MID(#REF!,1,8))),2)))) -> #REF! | B838: =IF(#REF!=0,"",(MID(#REF!,10,8)*24+1)/24) -> #REF! | C838: =IF(#REF!=0,"",#REF!) -> #REF!
A839: =IF(#REF!=0,"",DATE(LEFT(((MID(#REF!,1,8))),4),MID(((MID(#REF!,1,8))),5,2),(RIGHT(((MID(#REF!,1,8))),2)))) -> #REF! | B839: =IF(#REF!=0,"",(MID(#REF!,10,8)*24+1)/24) -> #REF! | C839: =IF(#REF!=0,"",#REF!) -> #REF!
A840: =IF(#REF!=0,"",DATE(LEFT(((MID(#REF!,1,8))),4),MID(((MID(#REF!,1,8))),5,2),(RIGHT(((MID(#REF!,1,8))),2)))) -> #REF! | B840: =IF(#REF!=0,"",(MID(#REF!,10,8)*24+1)/24) -> #REF! | C840: =IF(#REF!=0,"",#REF!) -> #REF!
A841: =IF(#REF!=0,"",DATE(LEFT(((MID(#REF!,1,8))),4),MID(((MID(#REF!,1,8))),5,2),(RIGHT(((MID(#REF!,1,8))),2)))) -> #REF! | B841: =IF(#REF!=0,"",(MID(#REF!,10,8)*24+1)/24) -> #REF! | C841: =IF(#REF!=0,"",#REF!) -> #REF!
A842: =IF(#REF!=0,"",DATE(LEFT(((MID(#REF!,1,8))),4),MID(((MID(#REF!,1,8))),5,2),(RIGHT(((MID(#REF!,1,8))),2)))) -> #REF! | B842: =IF(#REF!=0,"",(MID(#REF!,10,8)*24+1)/24) -> #REF! | C842: =IF(#REF!=0,"",#REF!) -> #REF!
A843: =IF(#REF!=0,"",DATE(LEFT(((MID(#REF!,1,8))),4),MID(((MID(#REF!,1,8))),5,2),(RIGHT(((MID(#REF!,1,8))),2)))) -> #REF! | B843: =IF(#REF!=0,"",(MID(#REF!,10,8)*24+1)/24) -> #REF! | C843: =IF(#REF!=0,"",#REF!) -> #REF!
A844: =IF(#REF!=0,"",DATE(LEFT(((MID(#REF!,1,8))),4),MID(((MID(#REF!,1,8))),5,2),(RIGHT(((MID(#REF!,1,8))),2)))) -> #REF! | B844: =IF(#REF!=0,"",(MID(#REF!,10,8)*24+1)/24) -> #REF! | C844: =IF(#REF!=0,"",#REF!) -> #REF!
A845: =IF(#REF!=0,"",DATE(LEFT(((MID(#REF!,1,8))),4),MID(((MID(#REF!,1,8))),5,2),(RIGHT(((MID(#REF!,1,8))),2)))) -> #REF! | B845: =IF(#REF!=0,"",(MID(#REF!,10,8)*24+1)/24) -> #REF! | C845: =IF(#REF!=0,"",#REF!) -> #REF!
A846: =IF(#REF!=0,"",DATE(LEFT(((MID(#REF!,1,8))),4),MID(((MID(#REF!,1,8))),5,2),(RIGHT(((MID(#REF!,1,8))),2)))) -> #REF! | B846: =IF(#REF!=0,"",(MID(#REF!,10,8)*24+1)/24) -> #REF! | C846: =IF(#REF!=0,"",#REF!) -> #REF!
A847: =IF(#REF!=0,"",DATE(LEFT(((MID(#REF!,1,8))),4),MID(((MID(#REF!,1,8))),5,2),(RIGHT(((MID(#REF!,1,8))),2)))) -> #REF! | B847: =IF(#REF!=0,"",(MID(#REF!,10,8)*24+1)/24) -> #REF! | C847: =IF(#REF!=0,"",#REF!) -> #REF!
A848: =IF(#REF!=0,"",DATE(LEFT(((MID(#REF!,1,8))),4),MID(((MID(#REF!,1,8))),5,2),(RIGHT(((MID(#REF!,1,8))),2)))) -> #REF! | B848: =IF(#REF!=0,"",(MID(#REF!,10,8)*24+1)/24) -> #REF! | C848: =IF(#REF!=0,"",#REF!) -> #REF!
A849: =IF(#REF!=0,"",DATE(LEFT(((MID(#REF!,1,8))),4),MID(((MID(#REF!,1,8))),5,2),(RIGHT(((MID(#REF!,1,8))),2)))) -> #REF! | B849: =IF(#REF!=0,"",(MID(#REF!,10,8)*24+1)/24) -> #REF! | C849: =IF(#REF!=0,"",#REF!) -> #REF!
... A1941: =IF(#REF!=0,"",DATE(LEFT(((MID(#REF!,1,8))),4),MID(((MID(#REF!,1,8))),5,2),(RIGHT(((MID(#REF!,1,8))),2)))) -> #REF! | B1941: =IF(#REF!=0,"",(MID(#REF!,10,8)*24+1)/24) -> #REF! | C1941: =IF(#REF!=0,"",#REF!) -> #REF!

Sheet 02-03-2022
A1: ASR daily share purchase transaction details
A4: Date | B4: Time | C4: Volume | D4: Price | E4: Proceeds | F4: Exchange | H4: DAILY BUYBACK SUMMARY
A5: 44622 | B5: 44622.379 | C5: 262 | D5: 36.46 | E5: 9552.52 | F5: Euronext Amsterdam | H5: Exchange | I5: # shares purchased | J5: Amount purchased
A6: 44622 | B6: 44622.379 | C6: 265 | D6: 36.46 | E6: 9661.9 | F6: Euronext Amsterdam | H6: Euronext Amsterdam | I6: =SUMIF(F:F,$H$6,C:C) -> 35500 | J6: =SUMIF(F:F,$H$6,E:E) -> 1321408.9
A7: 44622 | B7: 44622.379 | C7: 260 | D7: 36.46 | E7: 9479.6 | F7: Euronext Amsterdam | H7: Cboe DXE | I7: =SUMIF(F:F,$H$7,C:C) -> 0 | J7: =SUMIF(F:F,$H$7,E:E) -> 0
A8: 44622 | B8: 44622.379 | C8: 154 | D8: 36.32 | E8: 5593.28 | F8: Euronext Amsterdam | H8: Average price (rounded) | I8: =ROUND((J8/SUM(I6:I7)),4) -> 37.2228 | J8: =SUM(J6:J7) -> 1321408.9
A9: 44622 | B9: 44622.381 | C9: 149 | D9: 36.31 | E9: 5410.19 | F9: Euronext Amsterdam
A10: 44622 | B10: 44622.382 | C10: 148 | D10: 36.22 | E10: 5360.56 | F10: Euronext Amsterdam
A11: 44622 | B11: 44622.383 | C11: 154 | D11: 36.54 | E11: 5627.16 | F11: Euronext Amsterdam | H11: EXECUTING ENTITY | I11: ABN AMRO Bank N.V.
A12: 44622 | B12: 44622.384 | C12: 142 | D12: 36.46 | E12: 5177.32 | F12: Euronext Amsterdam | H12: STOCK NAME | I12: ASR Nederland N.V.
A13: 44622 | B13: 44622.386 | C13: 143 | D13: 36.59 | E13: 5232.37 | F13: Euronext Amsterdam | H13: ISIN CODE STOCK | I13: NL0011872643
A14: 44622 | B14: 44622.387 | C14: 143 | D14: 36.61 | E14: 5235.23 | F14: Euronext Amsterdam | H14: TIME REFERENCE USED | I14: GMT+1
A15: 44622 | B15: 44622.388 | C15: 153 | D15: 36.60 | E15: 5599.8 | F15: Euronext Amsterdam
A16: 44622 | B16: 44622.39 | C16: 118 | D16: 36.53 | E16: 4310.54 | F16: Euronext Amsterdam
A17: 44622 | B17: 44622.39 | C17: 45 | D17: 36.53 | E17: 1643.85 | F17: Euronext Amsterdam
A18: 44622 | B18: 44622.391 | C18: 166 | D18: 36.54 | E18: 6065.64 | F18: Euronext Amsterdam
A19: 44622 | B19: 44622.392 | C19: 147 | D19: 36.55 | E19: 5372.85 | F19: Euronext Amsterdam
A20: 44622 | B20: 44622.394 | C20: 148 | D20: 36.57 | E20: 5412.36 | F20: Euronext Amsterdam
A21: 44622 | B21: 44622.396 | C21: 156 | D21: 36.53 | E21: 5698.68 | F21: Euronext Amsterdam
A22: 44622 | B22: 44622.397 | C22: 159 | D22: 36.60 | E22: 5819.4 | F22: Euronext Amsterdam
A23: 44622 | B23: 44622.4 | C23: 143 | D23: 36.44 | E23: 5210.92 | F23: Euronext Amsterdam
A24: 44622 | B24: 44622.401 | C24: 159 | D24: 36.41 | E24: 5789.19 | F24: Euronext Amsterdam
A25: 44622 | B25: 44622.403 | C25: 143 | D25: 36.43 | E25: 5209.49 | F25: Euronext Amsterdam
A26: 44622 | B26: 44622.404 | C26: 161 | D26: 36.41 | E26: 5862.01 | F26: Euronext Amsterdam
... A256: 44622 | B256: 44622.725 | C256: 146 | D256: 37.72 | E256: 5507.12 | F256: Euronext Amsterdam
A838: =IF(#REF!=0,"",DATE(LEFT(((MID(#REF!,1,8))),4),MID(((MID(#REF!,1,8))),5,2),(RIGHT(((MID(#REF!,1,8))),2)))) -> #REF! | B838: =IF(#REF!=0,"",(MID(#REF!,10,8)*24+1)/24) -> #REF! | C838: =IF(#REF!=0,"",#REF!) -> #REF!
A839: =IF(#REF!=0,"",DATE(LEFT(((MID(#REF!,1,8))),4),MID(((MID(#REF!,1,8))),5,2),(RIGHT(((MID(#REF!,1,8))),2)))) -> #REF! | B839: =IF(#REF!=0,"",(MID(#REF!,10,8)*24+1)/24) -> #REF! | C839: =IF(#REF!=0,"",#REF!) -> #REF!
A840: =IF(#REF!=0,"",DATE(LEFT(((MID(#REF!,1,8))),4),MID(((MID(#REF!,1,8))),5,2),(RIGHT(((MID(#REF!,1,8))),2)))) -> #REF! | B840: =IF(#REF!=0,"",(MID(#REF!,10,8)*24+1)/24) -> #REF! | C840: =IF(#REF!=0,"",#REF!) -> #REF!
A841: =IF(#REF!=0,"",DATE(LEFT(((MID(#REF!,1,8))),4),MID(((MID(#REF!,1,8))),5,2),(RIGHT(((MID(#REF!,1,8))),2)))) -> #REF! | B841: =IF(#REF!=0,"",(MID(#REF!,10,8)*24+1)/24) -> #REF! | C841: =IF(#REF!=0,"",#REF!) -> #REF!
A842: =IF(#REF!=0,"",DATE(LEFT(((MID(#REF!,1,8))),4),MID(((MID(#REF!,1,8))),5,2),(RIGHT(((MID(#REF!,1,8))),2)))) -> #REF! | B842: =IF(#REF!=0,"",(MID(#REF!,10,8)*24+1)/24) -> #REF! | C842: =IF(#REF!=0,"",#REF!) -> #REF!
A843: =IF(#REF!=0,"",DATE(LEFT(((MID(#REF!,1,8))),4),MID(((MID(#REF!,1,8))),5,2),(RIGHT(((MID(#REF!,1,8))),2)))) -> #REF! | B843: =IF(#REF!=0,"",(MID(#REF!,10,8)*24+1)/24) -> #REF! | C843: =IF(#REF!=0,"",#REF!) -> #REF!
A844: =IF(#REF!=0,"",DATE(LEFT(((MID(#REF!,1,8))),4),MID(((MID(#REF!,1,8))),5,2),(RIGHT(((MID(#REF!,1,8))),2)))) -> #REF! | B844: =IF(#REF!=0,"",(MID(#REF!,10,8)*24+1)/24) -> #REF! | C844: =IF(#REF!=0,"",#REF!) -> #REF!
A845: =IF(#REF!=0,"",DATE(LEFT(((MID(#REF!,1,8))),4),MID(((MID(#REF!,1,8))),5,2),(RIGHT(((MID(#REF!,1,8))),2)))) -> #REF! | B845: =IF(#REF!=0,"",(MID(#REF!,10,8)*24+1)/24) -> #REF! | C845: =IF(#REF!=0,"",#REF!) -> #REF!
A846: =IF(#REF!=0,"",DATE(LEFT(((MID(#REF!,1,8))),4),MID(((MID(#REF!,1,8))),5,2),(RIGHT(((MID(#REF!,1,8))),2)))) -> #REF! | B846: =IF(#REF!=0,"",(MID(#REF!,10,8)*24+1)/24) -> #REF! | C846: =IF(#REF!=0,"",#REF!) -> #REF!
A847: =IF(#REF!=0,"",DATE(LEFT(((MID(#REF!,1,8))),4),MID(((MID(#REF!,1,8))),5,2),(RIGHT(((MID(#REF!,1,8))),2)))) -> #REF! | B847: =IF(#REF!=0,"",(MID(#REF!,10,8)*24+1)/24) -> #REF! | C847: =IF(#REF!=0,"",#REF!) -> #REF!
A848: =IF(#REF!=0,"",DATE(LEFT(((MID(#REF!,1,8))),4),MID(((MID(#REF!,1,8))),5,2),(RIGHT(((MID(#REF!,1,8))),2)))) -> #REF! | B848: =IF(#REF!=0,"",(MID(#REF!,10,8)*24+1)/24) -> #REF! | C848: =IF(#REF!=0,"",#REF!) -> #REF!
A849: =IF(#REF!=0,"",DATE(LEFT(((MID(#REF!,1,8))),4),MID(((MID(#REF!,1,8))),5,2),(RIGHT(((MID(#REF!,1,8))),2)))) -> #REF! | B849: =IF(#REF!=0,"",(MID(#REF!,10,8)*24+1)/24) -> #REF! | C849: =IF(#REF!=0,"",#REF!) -> #REF!
... A1941: =IF(#REF!=0,"",DATE(LEFT(((MID(#REF!,1,8))),4),MID(((MID(#REF!,1,8))),5,2),(RIGHT(((MID(#REF!,1,8))),2)))) -> #REF! | B1941: =IF(#REF!=0,"",(MID(#REF!,10,8)*24+1)/24) -> #REF! | C1941: =IF(#REF!=0,"",#REF!) -> #REF!

Sheet 01-03-2022
A1: ASR daily share purchase transaction details
A4: Date | B4: Time | C4: Volume | D4: Price | E4: Proceeds | F4: Exchange | H4: DAILY BUYBACK SUMMARY
A5: 44621 | B5: 44621.38 | C5: 299 | D5: 38.90 | E5: 11631.1 | F5: Euronext Amsterdam | H5: Exchange | I5: # shares purchased | J5: Amount purchased
A6: 44621 | B6: 44621.38 | C6: 290 | D6: 38.88 | E6: 11275.2 | F6: Euronext Amsterdam | H6: Euronext Amsterdam | I6: =SUMIF(F:F,$H$6,C:C) -> 36314 | J6: =SUMIF(F:F,$H$6,E:E) -> 1368476.4
A7: 44621 | B7: 44621.381 | C7: 111 | D7: 38.81 | E7: 4307.91 | F7: Euronext Amsterdam | H7: Cboe DXE | I7: =SUMIF(F:F,$H$7,C:C) -> 0 | J7: =SUMIF(F:F,$H$7,E:E) -> 0
A8: 44621 | B8: 44621.381 | C8: 281 | D8: 38.81 | E8: 10905.61 | F8: Euronext Amsterdam | H8: Average price (rounded) | I8: =ROUND((J8/SUM(I6:I7)),4) -> 37.6845 | J8: =SUM(J6:J7) -> 1368476.4
A9: 44621 | B9: 44621.381 | C9: 154 | D9: 38.92 | E9: 5993.68 | F9: Euronext Amsterdam
A10: 44621 | B10: 44621.383 | C10: 145 | D10: 38.96 | E10: 5649.2 | F10: Euronext Amsterdam
A11: 44621 | B11: 44621.383 | C11: 22 | D11: 39.01 | E11: 858.22 | F11: Euronext Amsterdam | H11: EXECUTING ENTITY | I11: ABN AMRO Bank N.V.
A12: 44621 | B12: 44621.383 | C12: 143 | D12: 39.01 | E12: 5578.43 | F12: Euronext Amsterdam | H12: STOCK NAME | I12: ASR Nederland N.V.
A13: 44621 | B13: 44621.385 | C13: 14 | D13: 38.96 | E13: 545.44 | F13: Euronext Amsterdam | H13: ISIN CODE STOCK | I13: NL0011872643
A14: 44621 | B14: 44621.385 | C14: 54 | D14: 38.96 | E14: 2103.84 | F14: Euronext Amsterdam | H14: TIME REFERENCE USED | I14: GMT+1
A15: 44621 | B15: 44621.385 | C15: 74 | D15: 38.96 | E15: 2883.04 | F15: Euronext Amsterdam
A16: 44621 | B16: 44621.386 | C16: 136 | D16: 38.94 | E16: 5295.84 | F16: Euronext Amsterdam
A17: 44621 | B17: 44621.386 | C17: 15 | D17: 38.94 | E17: 584.1 | F17: Euronext Amsterdam
A18: 44621 | B18: 44621.388 | C18: 142 | D18: 38.73 | E18: 5499.66 | F18: Euronext Amsterdam
A19: 44621 | B19: 44621.389 | C19: 136 | D19: 38.67 | E19: 5259.12 | F19: Euronext Amsterdam
A20: 44621 | B20: 44621.389 | C20: 15 | D20: 38.67 | E20: 580.05 | F20: Euronext Amsterdam
A21: 44621 | B21: 44621.391 | C21: 143 | D21: 38.49 | E21: 5504.07 | F21: Euronext Amsterdam
A22: 44621 | B22: 44621.392 | C22: 143 | D22: 38.44 | E22: 5496.92 | F22: Euronext Amsterdam
A23: 44621 | B23: 44621.394 | C23: 174 | D23: 38.40 | E23: 6681.6 | F23: Euronext Amsterdam
A24: 44621 | B24: 44621.395 | C24: 148 | D24: 38.36 | E24: 5677.28 | F24: Euronext Amsterdam
A25: 44621 | B25: 44621.396 | C25: 144 | D25: 38.37 | E25: 5525.28 | F25: Euronext Amsterdam
A26: 44621 | B26: 44621.398 | C26: 165 | D26: 38.37 | E26: 6331.05 | F26: Euronext Amsterdam
... A266: 44621 | B266: 44621.723 | C266: 4 | D266: 36.96 | E266: 147.84 | F266: Euronext Amsterdam
A838: =IF(#REF!=0,"",DATE(LEFT(((MID(#REF!,1,8))),4),MID(((MID(#REF!,1,8))),5,2),(RIGHT(((MID(#REF!,1,8))),2)))) -> #REF! | B838: =IF(#REF!=0,"",(MID(#REF!,10,8)*24+1)/24) -> #REF! | C838: =IF(#REF!=0,"",#REF!) -> #REF!
A839: =IF(#REF!=0,"",DATE(LEFT(((MID(#REF!,1,8))),4),MID(((MID(#REF!,1,8))),5,2),(RIGHT(((MID(#REF!,1,8))),2)))) -> #REF! | B839: =IF(#REF!=0,"",(MID(#REF!,10,8)*24+1)/24) -> #REF! | C839: =IF(#REF!=0,"",#REF!) -> #REF!
A840: =IF(#REF!=0,"",DATE(LEFT(((MID(#REF!,1,8))),4),MID(((MID(#REF!,1,8))),5,2),(RIGHT(((MID(#REF!,1,8))),2)))) -> #REF! | B840: =IF(#REF!=0,"",(MID(#REF!,10,8)*24+1)/24) -> #REF! | C840: =IF(#REF!=0,"",#REF!) -> #REF!
A841: =IF(#REF!=0,"",DATE(LEFT(((MID(#REF!,1,8))),4),MID(((MID(#REF!,1,8))),5,2),(RIGHT(((MID(#REF!,1,8))),2)))) -> #REF! | B841: =IF(#REF!=0,"",(MID(#REF!,10,8)*24+1)/24) -> #REF! | C841: =IF(#REF!=0,"",#REF!) -> #REF!
A842: =IF(#REF!=0,"",DATE(LEFT(((MID(#REF!,1,8))),4),MID(((MID(#REF!,1,8))),5,2),(RIGHT(((MID(#REF!,1,8))),2)))) -> #REF! | B842: =IF(#REF!=0,"",(MID(#REF!,10,8)*24+1)/24) -> #REF! | C842: =IF(#REF!=0,"",#REF!) -> #REF!
A843: =IF(#REF!=0,"",DATE(LEFT(((MID(#REF!,1,8))),4),MID(((MID(#REF!,1,8))),5,2),(RIGHT(((MID(#REF!,1,8))),2)))) -> #REF! | B843: =IF(#REF!=0,"",(MID(#REF!,10,8)*24+1)/24) -> #REF! | C843: =IF(#REF!=0,"",#REF!) -> #REF!
A844: =IF(#REF!=0,"",DATE(LEFT(((MID(#REF!,1,8))),4),MID(((MID(#REF!,1,8))),5,2),(RIGHT(((MID(#REF!,1,8))),2)))) -> #REF! | B844: =IF(#REF!=0,"",(MID(#REF!,10,8)*24+1)/24) -> #REF! | C844: =IF(#REF!=0,"",#REF!) -> #REF!
A845: =IF(#REF!=0,"",DATE(LEFT(((MID(#REF!,1,8))),4),MID(((MID(#REF!,1,8))),5,2),(RIGHT(((MID(#REF!,1,8))),2)))) -> #REF! | B845: =IF(#REF!=0,"",(MID(#REF!,10,8)*24+1)/24) -> #REF! | C845: =IF(#REF!=0,"",#REF!) -> #REF!
A846: =IF(#REF!=0,"",DATE(LEFT(((MID(#REF!,1,8))),4),MID(((MID(#REF!,1,8))),5,2),(RIGHT(((MID(#REF!,1,8))),2)))) -> #REF! | B846: =IF(#REF!=0,"",(MID(#REF!,10,8)*24+1)/24) -> #REF! | C846: =IF(#REF!=0,"",#REF!) -> #REF!
A847: =IF(#REF!=0,"",DATE(LEFT(((MID(#REF!,1,8))),4),MID(((MID(#REF!,1,8))),5,2),(RIGHT(((MID(#REF!,1,8))),2)))) -> #REF! | B847: =IF(#REF!=0,"",(MID(#REF!,10,8)*24+1)/24) -> #REF! | C847: =IF(#REF!=0,"",#REF!) -> #REF!
A848: =IF(#REF!=0,"",DATE(LEFT(((MID(#REF!,1,8))),4),MID(((MID(#REF!,1,8))),5,2),(RIGHT(((MID(#REF!,1,8))),2)))) -> #REF! | B848: =IF(#REF!=0,"",(MID(#REF!,10,8)*24+1)/24) -> #REF! | C848: =IF(#REF!=0,"",#REF!) -> #REF!
A849: =IF(#REF!=0,"",DATE(LEFT(((MID(#REF!,1,8))),4),MID(((MID(#REF!,1,8))),5,2),(RIGHT(((MID(#REF!,1,8))),2)))) -> #REF! | B849: =IF(#REF!=0,"",(MID(#REF!,10,8)*24+1)/24) -> #REF! | C849: =IF(#REF!=0,"",#REF!) -> #REF!
... A1941: =IF(#REF!=0,"",DATE(LEFT(((MID(#REF!,1,8))),4),MID(((MID(#REF!,1,8))),5,2),(RIGHT(((MID(#REF!,1,8))),2)))) -> #REF! | B1941: =IF(#REF!=0,"",(MID(#REF!,10,8)*24+1)/24) -> #REF! | C1941: =IF(#REF!=0,"",#REF!) -> #REF!

Sheet 28-02-2022
A1: ASR daily share purchase transaction details
A4: Date | B4: Time | C4: Volume | D4: Price | E4: Proceeds | F4: Exchange | H4: DAILY BUYBACK SUMMARY
A5: 44620 | B5: 44620.383 | C5: 36 | D5: 38.95 | E5: 1402.2 | F5: Euronext Amsterdam | H5: Exchange | I5: # shares purchased | J5: Amount purchased
A6: 44620 | B6: 44620.384 | C6: 196 | D6: 38.84 | E6: 7612.64 | F6: Euronext Amsterdam | H6: Euronext Amsterdam | I6: =SUMIF(F:F,$H$6,C:C) -> 34728 | J6: =SUMIF(F:F,$H$6,E:E) -> 1329609.6
A7: 44620 | B7: 44620.384 | C7: 201 | D7: 38.84 | E7: 7806.84 | F7: Euronext Amsterdam | H7: Cboe DXE | I7: =SUMIF(F:F,$H$7,C:C) -> 0 | J7: =SUMIF(F:F,$H$7,E:E) -> 0
A8: 44620 | B8: 44620.384 | C8: 161 | D8: 38.78 | E8: 6243.58 | F8: Euronext Amsterdam | H8: Average price (rounded) | I8: =ROUND((J8/SUM(I6:I7)),4) -> 38.2864 | J8: =SUM(J6:J7) -> 1329609.6
A9: 44620 | B9: 44620.385 | C9: 99 | D9: 38.65 | E9: 3826.35 | F9: Euronext Amsterdam
A10: 44620 | B10: 44620.385 | C10: 50 | D10: 38.65 | E10: 1932.5 | F10: Euronext Amsterdam
A11: 44620 | B11: 44620.386 | C11: 153 | D11: 38.58 | E11: 5902.74 | F11: Euronext Amsterdam | H11: EXECUTING ENTITY | I11: ABN AMRO Bank N.V.
A12: 44620 | B12: 44620.387 | C12: 155 | D12: 38.56 | E12: 5976.8 | F12: Euronext Amsterdam | H12: STOCK NAME | I12: ASR Nederland N.V.
A13: 44620 | B13: 44620.39 | C13: 147 | D13: 38.43 | E13: 5649.21 | F13: Euronext Amsterdam | H13: ISIN CODE STOCK | I13: NL0011872643
A14: 44620 | B14: 44620.39 | C14: 156 | D14: 38.37 | E14: 5985.72 | F14: Euronext Amsterdam | H14: TIME REFERENCE USED | I14: GMT+1
A15: 44620 | B15: 44620.393 | C15: 142 | D15: 38.60 | E15: 5481.2 | F15: Euronext Amsterdam
A16: 44620 | B16: 44620.393 | C16: 127 | D16: 38.60 | E16: 4902.2 | F16: Euronext Amsterdam
A17: 44620 | B17: 44620.393 | C17: 36 | D17: 38.60 | E17: 1389.6 | F17: Euronext Amsterdam
A18: 44620 | B18: 44620.395 | C18: 150 | D18: 38.40 | E18: 5760 | F18: Euronext Amsterdam
A19: 44620 | B19: 44620.396 | C19: 139 | D19: 38.31 | E19: 5325.09 | F19: Euronext Amsterdam
A20: 44620 | B20: 44620.396 | C20: 19 | D20: 38.31 | E20: 727.89 | F20: Euronext Amsterdam
A21: 44620 | B21: 44620.399 | C21: 147 | D21: 38.16 | E21: 5609.52 | F21: Euronext Amsterdam
A22: 44620 | B22: 44620.4 | C22: 149 | D22: 38.15 | E22: 5684.35 | F22: Euronext Amsterdam
A23: 44620 | B23: 44620.401 | C23: 145 | D23: 38.09 | E23: 5523.05 | F23: Euronext Amsterdam
A24: 44620 | B24: 44620.402 | C24: 84 | D24: 37.98 | E24: 3190.32 | F24: Euronext Amsterdam
A25: 44620 | B25: 44620.402 | C25: 56 | D25: 37.98 | E25: 2126.88 | F25: Euronext Amsterdam
A26: 44620 | B26: 44620.404 | C26: 35 | D26: 37.98 | E26: 1329.3 | F26: Euronext Amsterdam
... A292: 44620 | B292: 44620.72 | C292: 20 | D292: 38.67 | E292: 773.4 | F292: Euronext Amsterdam
A838: =IF(#REF!=0,"",DATE(LEFT(((MID(#REF!,1,8))),4),MID(((MID(#REF!,1,8))),5,2),(RIGHT(((MID(#REF!,1,8))),2)))) -> #REF! | B838: =IF(#REF!=0,"",(MID(#REF!,10,8)*24+1)/24) -> #REF! | C838: =IF(#REF!=0,"",#REF!) -> #REF!
A839: =IF(#REF!=0,"",DATE(LEFT(((MID(#REF!,1,8))),4),MID(((MID(#REF!,1,8))),5,2),(RIGHT(((MID(#REF!,1,8))),2)))) -> #REF! | B839: =IF(#REF!=0,"",(MID(#REF!,10,8)*24+1)/24) -> #REF! | C839: =IF(#REF!=0,"",#REF!) -> #REF!
A840: =IF(#REF!=0,"",DATE(LEFT(((MID(#REF!,1,8))),4),MID(((MID(#REF!,1,8))),5,2),(RIGHT(((MID(#REF!,1,8))),2)))) -> #REF! | B840: =IF(#REF!=0,"",(MID(#REF!,10,8)*24+1)/24) -> #REF! | C840: =IF(#REF!=0,"",#REF!) -> #REF!
A841: =IF(#REF!=0,"",DATE(LEFT(((MID(#REF!,1,8))),4),MID(((MID(#REF!,1,8))),5,2),(RIGHT(((MID(#REF!,1,8))),2)))) -> #REF! | B841: =IF(#REF!=0,"",(MID(#REF!,10,8)*24+1)/24) -> #REF! | C841: =IF(#REF!=0,"",#REF!) -> #REF!
A842: =IF(#REF!=0,"",DATE(LEFT(((MID(#REF!,1,8))),4),MID(((MID(#REF!,1,8))),5,2),(RIGHT(((MID(#REF!,1,8))),2)))) -> #REF! | B842: =IF(#REF!=0,"",(MID(#REF!,10,8)*24+1)/24) -> #REF! | C842: =IF(#REF!=0,"",#REF!) -> #REF!
A843: =IF(#REF!=0,"",DATE(LEFT(((MID(#REF!,1,8))),4),MID(((MID(#REF!,1,8))),5,2),(RIGHT(((MID(#REF!,1,8))),2)))) -> #REF! | B843: =IF(#REF!=0,"",(MID(#REF!,10,8)*24+1)/24) -> #REF! | C843: =IF(#REF!=0,"",#REF!) -> #REF!
A844: =IF(#REF!=0,"",DATE(LEFT(((MID(#REF!,1,8))),4),MID(((MID(#REF!,1,8))),5,2),(RIGHT(((MID(#REF!,1,8))),2)))) -> #REF! | B844: =IF(#REF!=0,"",(MID(#REF!,10,8)*24+1)/24) -> #REF! | C844: =IF(#REF!=0,"",#REF!) -> #REF!
A845: =IF(#REF!=0,"",DATE(LEFT(((MID(#REF!,1,8))),4),MID(((MID(#REF!,1,8))),5,2),(RIGHT(((MID(#REF!,1,8))),2)))) -> #REF! | B845: =IF(#REF!=0,"",(MID(#REF!,10,8)*24+1)/24) -> #REF! | C845: =IF(#REF!=0,"",#REF!) -> #REF!
A846: =IF(#REF!=0,"",DATE(LEFT(((MID(#REF!,1,8))),4),MID(((MID(#REF!,1,8))),5,2),(RIGHT(((MID(#REF!,1,8))),2)))) -> #REF! | B846: =IF(#REF!=0,"",(MID(#REF!,10,8)*24+1)/24) -> #REF! | C846: =IF(#REF!=0,"",#REF!) -> #REF!
A847: =IF(#REF!=0,"",DATE(LEFT(((MID(#REF!,1,8))),4),MID(((MID(#REF!,1,8))),5,2),(RIGHT(((MID(#REF!,1,8))),2)))) -> #REF! | B847: =IF(#REF!=0,"",(MID(#REF!,10,8)*24+1)/24) -> #REF! | C847: =IF(#REF!=0,"",#REF!) -> #REF!
A848: =IF(#REF!=0,"",DATE(LEFT(((MID(#REF!,1,8))),4),MID(((MID(#REF!,1,8))),5,2),(RIGHT(((MID(#REF!,1,8))),2)))) -> #REF! | B848: =IF(#REF!=0,"",(MID(#REF!,10,8)*24+1)/24) -> #REF! | C848: =IF(#REF!=0,"",#REF!) -> #REF!
A849: =IF(#REF!=0,"",DATE(LEFT(((MID(#REF!,1,8))),4),MID(((MID(#REF!,1,8))),5,2),(RIGHT(((MID(#REF!,1,8))),2)))) -> #REF! | B849: =IF(#REF!=0,"",(MID(#REF!,10,8)*24+1)/24) -> #REF! | C849: =IF(#REF!=0,"",#REF!) -> #REF!
... A1941: =IF(#REF!=0,"",DATE(LEFT(((MID(#REF!,1,8))),4),MID(((MID(#REF!,1,8))),5,2),(RIGHT(((MID(#REF!,1,8))),2)))) -> #REF! | B1941: =IF(#REF!=0,"",(MID(#REF!,10,8)*24+1)/24) -> #REF! | C1941: =IF(#REF!=0,"",#REF!) -> #REF!

Sheet 25-02-2022
A1: ASR daily share purchase transaction details
A4: Date | B4: Time | C4: Volume | D4: Price | E4: Proceeds | F4: Exchange | H4: DAILY BUYBACK SUMMARY
A5: 44617 | B5: 44617.379 | C5: 190 | D5: 39.11 | E5: 7430.9 | F5: Euronext Amsterdam | H5: Exchange | I5: # shares purchased | J5: Amount purchased
A6: 44617 | B6: 44617.38 | C6: 203 | D6: 39.15 | E6: 7947.45 | F6: Euronext Amsterdam | H6: Euronext Amsterdam | I6: =SUMIF(F:F,$H$6,C:C) -> 34900 | J6: =SUMIF(F:F,$H$6,E:E) -> 1355994.9
A7: 44617 | B7: 44617.381 | C7: 189 | D7: 39.16 | E7: 7401.24 | F7: Euronext Amsterdam | H7: Cboe DXE | I7: =SUMIF(F:F,$H$7,C:C) -> 0 | J7: =SUMIF(F:F,$H$7,E:E) -> 0
A8: 44617 | B8: 44617.382 | C8: 172 | D8: 39.12 | E8: 6728.64 | F8: Euronext Amsterdam | H8: Average price (rounded) | I8: =ROUND((J8/SUM(I6:I7)),4) -> 38.8537 | J8: =SUM(J6:J7) -> 1355994.9
A9: 44617 | B9: 44617.382 | C9: 27 | D9: 39.12 | E9: 1056.24 | F9: Euronext Amsterdam
A10: 44617 | B10: 44617.384 | C10: 102 | D10: 38.98 | E10: 3975.96 | F10: Euronext Amsterdam
A11: 44617 | B11: 44617.384 | C11: 100 | D11: 38.98 | E11: 3898 | F11: Euronext Amsterdam | H11: EXECUTING ENTITY | I11: ABN AMRO Bank N.V.
A12: 44617 | B12: 44617.385 | C12: 191 | D12: 38.99 | E12: 7447.09 | F12: Euronext Amsterdam | H12: STOCK NAME | I12: ASR Nederland N.V.
A13: 44617 | B13: 44617.387 | C13: 129 | D13: 38.93 | E13: 5021.97 | F13: Euronext Amsterdam | H13: ISIN CODE STOCK | I13: NL0011872643
A14: 44617 | B14: 44617.387 | C14: 76 | D14: 38.93 | E14: 2958.68 | F14: Euronext Amsterdam | H14: TIME REFERENCE USED | I14: GMT+1
A15: 44617 | B15: 44617.388 | C15: 75 | D15: 38.92 | E15: 2919 | F15: Euronext Amsterdam
A16: 44617 | B16: 44617.388 | C16: 150 | D16: 38.92 | E16: 5838 | F16: Euronext Amsterdam
A17: 44617 | B17: 44617.389 | C17: 81 | D17: 38.87 | E17: 3148.47 | F17: Euronext Amsterdam
A18: 44617 | B18: 44617.39 | C18: 62 | D18: 38.76 | E18: 2403.12 | F18: Euronext Amsterdam
A19: 44617 | B19: 44617.39 | C19: 150 | D19: 38.76 | E19: 5814 | F19: Euronext Amsterdam
A20: 44617 | B20: 44617.39 | C20: 48 | D20: 38.75 | E20: 1860 | F20: Euronext Amsterdam
A21: 44617 | B21: 44617.39 | C21: 151 | D21: 38.75 | E21: 5851.25 | F21: Euronext Amsterdam
A22: 44617 | B22: 44617.395 | C22: 150 | D22: 38.76 | E22: 5814 | F22: Euronext Amsterdam
A23: 44617 | B23: 44617.395 | C23: 184 | D23: 38.75 | E23: 7130 | F23: Euronext Amsterdam
A24: 44617 | B24: 44617.396 | C24: 150 | D24: 38.76 | E24: 5814 | F24: Euronext Amsterdam
A25: 44617 | B25: 44617.398 | C25: 123 | D25: 38.8 | E25: 4772.4 | F25: Euronext Amsterdam
A26: 44617 | B26: 44617.398 | C26: 97 | D26: 38.8 | E26: 3763.6 | F26: Euronext Amsterdam
... A246: 44617 | B246: 44617.717 | C246: 303 | D246: 39.84 | E246: 12071.52 | F246: Euronext Amsterdam
A838: =IF(#REF!=0,"",DATE(LEFT(((MID(#REF!,1,8))),4),MID(((MID(#REF!,1,8))),5,2),(RIGHT(((MID(#REF!,1,8))),2)))) -> #REF! | B838: =IF(#REF!=0,"",(MID(#REF!,10,8)*24+1)/24) -> #REF! | C838: =IF(#REF!=0,"",#REF!) -> #REF!
A839: =IF(#REF!=0,"",DATE(LEFT(((MID(#REF!,1,8))),4),MID(((MID(#REF!,1,8))),5,2),(RIGHT(((MID(#REF!,1,8))),2)))) -> #REF! | B839: =IF(#REF!=0,"",(MID(#REF!,10,8)*24+1)/24) -> #REF! | C839: =IF(#REF!=0,"",#REF!) -> #REF!
A840: =IF(#REF!=0,"",DATE(LEFT(((MID(#REF!,1,8))),4),MID(((MID(#REF!,1,8))),5,2),(RIGHT(((MID(#REF!,1,8))),2)))) -> #REF! | B840: =IF(#REF!=0,"",(MID(#REF!,10,8)*24+1)/24) -> #REF! | C840: =IF(#REF!=0,"",#REF!) -> #REF!
A841: =IF(#REF!=0,"",DATE(LEFT(((MID(#REF!,1,8))),4),MID(((MID(#REF!,1,8))),5,2),(RIGHT(((MID(#REF!,1,8))),2)))) -> #REF! | B841: =IF(#REF!=0,"",(MID(#REF!,10,8)*24+1)/24) -> #REF! | C841: =IF(#REF!=0,"",#REF!) -> #REF!
A842: =IF(#REF!=0,"",DATE(LEFT(((MID(#REF!,1,8))),4),MID(((MID(#REF!,1,8))),5,2),(RIGHT(((MID(#REF!,1,8))),2)))) -> #REF! | B842: =IF(#REF!=0,"",(MID(#REF!,10,8)*24+1)/24) -> #REF! | C842: =IF(#REF!=0,"",#REF!) -> #REF!
A843: =IF(#REF!=0,"",DATE(LEFT(((MID(#REF!,1,8))),4),MID(((MID(#REF!,1,8))),5,2),(RIGHT(((MID(#REF!,1,8))),2)))) -> #REF! | B843: =IF(#REF!=0,"",(MID(#REF!,10,8)*24+1)/24) -> #REF! | C843: =IF(#REF!=0,"",#REF!) -> #REF!
A844: =IF(#REF!=0,"",DATE(LEFT(((MID(#REF!,1,8))),4),MID(((MID(#REF!,1,8))),5,2),(RIGHT(((MID(#REF!,1,8))),2)))) -> #REF! | B844: =IF(#REF!=0,"",(MID(#REF!,10,8)*24+1)/24) -> #REF! | C844: =IF(#REF!=0,"",#REF!) -> #REF!
A845: =IF(#REF!=0,"",DATE(LEFT(((MID(#REF!,1,8))),4),MID(((MID(#REF!,1,8))),5,2),(RIGHT(((MID(#REF!,1,8))),2)))) -> #REF! | B845: =IF(#REF!=0,"",(MID(#REF!,10,8)*24+1)/24) -> #REF! | C845: =IF(#REF!=0,"",#REF!) -> #REF!
A846: =IF(#REF!=0,"",DATE(LEFT(((MID(#REF!,1,8))),4),MID(((MID(#REF!,1,8))),5,2),(RIGHT(((MID(#REF!,1,8))),2)))) -> #REF! | B846: =IF(#REF!=0,"",(MID(#REF!,10,8)*24+1)/24) -> #REF! | C846: =IF(#REF!=0,"",#REF!) -> #REF!
A847: =IF(#REF!=0,"",DATE(LEFT(((MID(#REF!,1,8))),4),MID(((MID(#REF!,1,8))),5,2),(RIGHT(((MID(#REF!,1,8))),2)))) -> #REF! | B847: =IF(#REF!=0,"",(MID(#REF!,10,8)*24+1)/24) -> #REF! | C847: =IF(#REF!=0,"",#REF!) -> #REF!
A848: =IF(#REF!=0,"",DATE(LEFT(((MID(#REF!,1,8))),4),MID(((MID(#REF!,1,8))),5,2),(RIGHT(((MID(#REF!,1,8))),2)))) -> #REF! | B848: =IF(#REF!=0,"",(MID(#REF!,10,8)*24+1)/24) -> #REF! | C848: =IF(#REF!=0,"",#REF!) -> #REF!
A849: =IF(#REF!=0,"",DATE(LEFT(((MID(#REF!,1,8))),4),MID(((MID(#REF!,1,8))),5,2),(RIGHT(((MID(#REF!,1,8))),2)))) -> #REF! | B849: =IF(#REF!=0,"",(MID(#REF!,10,8)*24+1)/24) -> #REF! | C849: =IF(#REF!=0,"",#REF!) -> #REF!
... A1941: =IF(#REF!=0,"",DATE(LEFT(((MID(#REF!,1,8))),4),MID(((MID(#REF!,1,8))),5,2),(RIGHT(((MID(#REF!,1,8))),2)))) -> #REF! | B1941: =IF(#REF!=0,"",(MID(#REF!,10,8)*24+1)/24) -> #REF! | C1941: =IF(#REF!=0,"",#REF!) -> #REF!

Sheet 24-02-2022
A1: ASR daily share purchase transaction details
A4: Date | B4: Time | C4: Volume | D4: Price | E4: Proceeds | F4: Exchange | H4: DAILY BUYBACK SUMMARY
A5: 44616 | B5: 44616.379 | C5: 29 | D5: 39.3 | E5: 1139.7 | F5: Euronext Amsterdam | H5: Exchange | I5: # shares purchased | J5: Amount purchased
A6: 44616 | B6: 44616.379 | C6: 6 | D6: 39.3 | E6: 235.8 | F6: Euronext Amsterdam | H6: Euronext Amsterdam | I6: =SUMIF(F:F,$H$6,C:C) -> 35275 | J6: =SUMIF(F:F,$H$6,E:E) -> 1378083.3
A7: 44616 | B7: 44616.379 | C7: 259 | D7: 39.27 | E7: 10170.93 | F7: Euronext Amsterdam | H7: Cboe DXE | I7: =SUMIF(F:F,$H$7,C:C) -> 0 | J7: =SUMIF(F:F,$H$7,E:E) -> 0
A8: 44616 | B8: 44616.379 | C8: 212 | D8: 39.27 | E8: 8325.24 | F8: Euronext Amsterdam | H8: Average price (rounded) | I8: =ROUND((J8/SUM(I6:I7)),4) -> 39.0669 | J8: =SUM(J6:J7) -> 1378083.3
A9: 44616 | B9: 44616.379 | C9: 75 | D9: 39.28 | E9: 2946 | F9: Euronext Amsterdam
A10: 44616 | B10: 44616.379 | C10: 181 | D10: 39.28 | E10: 7109.68 | F10: Euronext Amsterdam
A11: 44616 | B11: 44616.38 | C11: 141 | D11: 39.37 | E11: 5551.17 | F11: Euronext Amsterdam | H11: EXECUTING ENTITY | I11: ABN AMRO Bank N.V.
A12: 44616 | B12: 44616.38 | C12: 130 | D12: 39.49 | E12: 5133.7 | F12: Euronext Amsterdam | H12: STOCK NAME | I12: ASR Nederland N.V.
A13: 44616 | B13: 44616.38 | C13: 8 | D13: 39.49 | E13: 315.92 | F13: Euronext Amsterdam | H13: ISIN CODE STOCK | I13: NL0011872643
A14: 44616 | B14: 44616.381 | C14: 56 | D14: 39.45 | E14: 2209.2 | F14: Euronext Amsterdam | H14: TIME REFERENCE USED | I14: GMT+1
A15: 44616 | B15: 44616.381 | C15: 76 | D15: 39.45 | E15: 2998.2 | F15: Euronext Amsterdam
A16: 44616 | B16: 44616.382 | C16: 138 | D16: 39.46 | E16: 5445.48 | F16: Euronext Amsterdam
A17: 44616 | B17: 44616.383 | C17: 106 | D17: 39.23 | E17: 4158.38 | F17: Euronext Amsterdam
A18: 44616 | B18: 44616.383 | C18: 45 | D18: 39.23 | E18: 1765.35 | F18: Euronext Amsterdam
A19: 44616 | B19: 44616.385 | C19: 162 | D19: 39.37 | E19: 6377.94 | F19: Euronext Amsterdam
A20: 44616 | B20: 44616.385 | C20: 200 | D20: 39.22 | E20: 7844 | F20: Euronext Amsterdam
A21: 44616 | B21: 44616.385 | C21: 46 | D21: 39.22 | E21: 1804.12 | F21: Euronext Amsterdam
A22: 44616 | B22: 44616.391 | C22: 200 | D22: 39.68 | E22: 7936 | F22: Euronext Amsterdam
A23: 44616 | B23: 44616.391 | C23: 244 | D23: 39.68 | E23: 9681.92 | F23: Euronext Amsterdam
A24: 44616 | B24: 44616.391 | C24: 193 | D24: 39.68 | E24: 7658.24 | F24: Euronext Amsterdam
A25: 44616 | B25: 44616.391 | C25: 140 | D25: 39.69 | E25: 5556.6 | F25: Euronext Amsterdam
A26: 44616 | B26: 44616.393 | C26: 131 | D26: 39.68 | E26: 5198.08 | F26: Euronext Amsterdam
... A283: 44616 | B283: 44616.722 | C283: 252 | D283: 38.59 | E283: 9724.68 | F283: Euronext Amsterdam
A838: =IF(#REF!=0,"",DATE(LEFT(((MID(#REF!,1,8))),4),MID(((MID(#REF!,1,8))),5,2),(RIGHT(((MID(#REF!,1,8))),2)))) -> #REF! | B838: =IF(#REF!=0,"",(MID(#REF!,10,8)*24+1)/24) -> #REF! | C838: =IF(#REF!=0,"",#REF!) -> #REF!
A839: =IF(#REF!=0,"",DATE(LEFT(((MID(#REF!,1,8))),4),MID(((MID(#REF!,1,8))),5,2),(RIGHT(((MID(#REF!,1,8))),2)))) -> #REF! | B839: =IF(#REF!=0,"",(MID(#REF!,10,8)*24+1)/24) -> #REF! | C839: =IF(#REF!=0,"",#REF!) -> #REF!
A840: =IF(#REF!=0,"",DATE(LEFT(((MID(#REF!,1,8))),4),MID(((MID(#REF!,1,8))),5,2),(RIGHT(((MID(#REF!,1,8))),2)))) -> #REF! | B840: =IF(#REF!=0,"",(MID(#REF!,10,8)*24+1)/24) -> #REF! | C840: =IF(#REF!=0,"",#REF!) -> #REF!
A841: =IF(#REF!=0,"",DATE(LEFT(((MID(#REF!,1,8))),4),MID(((MID(#REF!,1,8))),5,2),(RIGHT(((MID(#REF!,1,8))),2)))) -> #REF! | B841: =IF(#REF!=0,"",(MID(#REF!,10,8)*24+1)/24) -> #REF! | C841: =IF(#REF!=0,"",#REF!) -> #REF!
A842: =IF(#REF!=0,"",DATE(LEFT(((MID(#REF!,1,8))),4),MID(((MID(#REF!,1,8))),5,2),(RIGHT(((MID(#REF!,1,8))),2)))) -> #REF! | B842: =IF(#REF!=0,"",(MID(#REF!,10,8)*24+1)/24) -> #REF! | C842: =IF(#REF!=0,"",#REF!) -> #REF!
A843: =IF(#REF!=0,"",DATE(LEFT(((MID(#REF!,1,8))),4),MID(((MID(#REF!,1,8))),5,2),(RIGHT(((MID(#REF!,1,8))),2)))) -> #REF! | B843: =IF(#REF!=0,"",(MID(#REF!,10,8)*24+1)/24) -> #REF! | C843: =IF(#REF!=0,"",#REF!) -> #REF!
A844: =IF(#REF!=0,"",DATE(LEFT(((MID(#REF!,1,8))),4),MID(((MID(#REF!,1,8))),5,2),(RIGHT(((MID(#REF!,1,8))),2)))) -> #REF! | B844: =IF(#REF!=0,"",(MID(#REF!,10,8)*24+1)/24) -> #REF! | C844: =IF(#REF!=0,"",#REF!) -> #REF!
A845: =IF(#REF!=0,"",DATE(LEFT(((MID(#REF!,1,8))),4),MID(((MID(#REF!,1,8))),5,2),(RIGHT(((MID(#REF!,1,8))),2)))) -> #REF! | B845: =IF(#REF!=0,"",(MID(#REF!,10,8)*24+1)/24) -> #REF! | C845: =IF(#REF!=0,"",#REF!) -> #REF!
A846: =IF(#REF!=0,"",DATE(LEFT(((MID(#REF!,1,8))),4),MID(((MID(#REF!,1,8))),5,2),(RIGHT(((MID(#REF!,1,8))),2)))) -> #REF! | B846: =IF(#REF!=0,"",(MID(#REF!,10,8)*24+1)/24) -> #REF! | C846: =IF(#REF!=0,"",#REF!) -> #REF!
A847: =IF(#REF!=0,"",DATE(LEFT(((MID(#REF!,1,8))),4),MID(((MID(#REF!,1,8))),5,2),(RIGHT(((MID(#REF!,1,8))),2)))) -> #REF! | B847: =IF(#REF!=0,"",(MID(#REF!,10,8)*24+1)/24) -> #REF! | C847: =IF(#REF!=0,"",#REF!) -> #REF!
A848: =IF(#REF!=0,"",DATE(LEFT(((MID(#REF!,1,8))),4),MID(((MID(#REF!,1,8))),5,2),(RIGHT(((MID(#REF!,1,8))),2)))) -> #REF! | B848: =IF(#REF!=0,"",(MID(#REF!,10,8)*24+1)/24) -> #REF! | C848: =IF(#REF!=0,"",#REF!) -> #REF!
A849: =IF(#REF!=0,"",DATE(LEFT(((MID(#REF!,1,8))),4),MID(((MID(#REF!,1,8))),5,2),(RIGHT(((MID(#REF!,1,8))),2)))) -> #REF! | B849: =IF(#REF!=0,"",(MID(#REF!,10,8)*24+1)/24) -> #REF! | C849: =IF(#REF!=0,"",#REF!) -> #REF!
... A1941: =IF(#REF!=0,"",DATE(LEFT(((MID(#REF!,1,8))),4),MID(((MID(#REF!,1,8))),5,2),(RIGHT(((MID(#REF!,1,8))),2)))) -> #REF! | B1941: =IF(#REF!=0,"",(MID(#REF!,10,8)*24+1)/24) -> #REF! | C1941: =IF(#REF!=0,"",#REF!) -> #REF!
